BEGIN:VCALENDAR
VERSION:2.0
PRODID:-//Edible Reno-Tahoe - ECPv6.15.20//NONSGML v1.0//EN
CALSCALE:GREGORIAN
METHOD:PUBLISH
X-ORIGINAL-URL:https://oldediblerenotahoe.com
X-WR-CALDESC:Events for Edible Reno-Tahoe
REFRESH-INTERVAL;VALUE=DURATION:PT1H
X-Robots-Tag:noindex
X-PUBLISHED-TTL:PT1H
BEGIN:VTIMEZONE
TZID:America/Los_Angeles
BEGIN:DAYLIGHT
TZOFFSETFROM:-0800
TZOFFSETTO:-0700
TZNAME:PDT
DTSTART:20230312T100000
END:DAYLIGHT
BEGIN:STANDARD
TZOFFSETFROM:-0700
TZOFFSETTO:-0800
TZNAME:PST
DTSTART:20231105T090000
END:STANDARD
BEGIN:DAYLIGHT
TZOFFSETFROM:-0800
TZOFFSETTO:-0700
TZNAME:PDT
DTSTART:20240310T100000
END:DAYLIGHT
BEGIN:STANDARD
TZOFFSETFROM:-0700
TZOFFSETTO:-0800
TZNAME:PST
DTSTART:20241103T090000
END:STANDARD
BEGIN:DAYLIGHT
TZOFFSETFROM:-0800
TZOFFSETTO:-0700
TZNAME:PDT
DTSTART:20250309T100000
END:DAYLIGHT
BEGIN:STANDARD
TZOFFSETFROM:-0700
TZOFFSETTO:-0800
TZNAME:PST
DTSTART:20251102T090000
END:STANDARD
END:VTIMEZONE
BEGIN:VEVENT
DTSTART;VALUE=DATE:20240825
DTEND;VALUE=DATE:20240903
DTSTAMP:20260425T183541
CREATED:20240318T034149Z
LAST-MODIFIED:20240318T034149Z
UID:37895-1724544000-1725321599@oldediblerenotahoe.com
SUMMARY:Burning Man
DESCRIPTION:Once a year\, tens of thousands of people gather in Nevada’s Black Rock Desert to create Black Rock City\, a temporary metropolis dedicated to community\, art\, self-expression\, and self-reliance. In this crucible of creativity\, all are welcome.
URL:https://oldediblerenotahoe.com/event/burning-man/
LOCATION:Black Rock Desert
CATEGORIES:Community Events
END:VEVENT
BEGIN:VEVENT
DTSTART;VALUE=DATE:20240828
DTEND;VALUE=DATE:20240903
DTSTAMP:20260425T183541
CREATED:20240318T025609Z
LAST-MODIFIED:20240318T025609Z
UID:37865-1724803200-1725321599@oldediblerenotahoe.com
SUMMARY:Best in the West Nugget Rib Cook Off
DESCRIPTION:
URL:https://oldediblerenotahoe.com/event/best-in-the-west-nugget-rib-cook-off-2/
LOCATION:Victorian Square\, Sparks\, NV\, 89431
CATEGORIES:Activity,Festival,Food & Drink
END:VEVENT
BEGIN:VEVENT
DTSTART;TZID=America/Los_Angeles:20240901T080000
DTEND;TZID=America/Los_Angeles:20240901T130000
DTSTAMP:20260425T183541
CREATED:20240912T164300Z
LAST-MODIFIED:20240912T164300Z
UID:40014-1725177600-1725195600@oldediblerenotahoe.com
SUMMARY:Truckee Certified Farmer's Market
DESCRIPTION:Come to the Truckee Farmers Market every Tuesday for fresh and local fruits\, veggies\, flowers\, meats\, cheeses\, olive oil\, fresh baked breads\, artisan crafts\, food trucks and more!
URL:https://oldediblerenotahoe.com/event/truckee-certified-farmers-market-3/
LOCATION:Truckee River Regional Park
END:VEVENT
BEGIN:VEVENT
DTSTART;TZID=America/Los_Angeles:20240901T090000
DTEND;TZID=America/Los_Angeles:20240901T130000
DTSTAMP:20260425T183541
CREATED:20231103T014135Z
LAST-MODIFIED:20231103T014135Z
UID:35265-1725181200-1725195600@oldediblerenotahoe.com
SUMMARY:Riverside Farmers Market
DESCRIPTION:The Riverside Farmers Market stands as Reno’s authentic local market\, exclusively featuring vendors who cultivate\, rear\, or craft their products within the immediate vicinity of the city. Highlighting small-scale\, community-focused\, and sustainable farmers and ranchers\, the market is a testament to the belief that the foundation of healthy food lies in the health of the land. It also serves as a welcoming platform for Reno’s emerging agricultural talents\, providing a space for residents to connect with those who are dedicated to nourishing the Truckee Meadows community through locally grown produce.
URL:https://oldediblerenotahoe.com/event/riverside-farmers-market-3-2024-09-01/
LOCATION:Idlewild Park\, 1000 Cowan Dr.\, Reno\, NV\, 89509
CATEGORIES:Farmers Market,Shopping
END:VEVENT
BEGIN:VEVENT
DTSTART;TZID=America/Los_Angeles:20240901T103000
DTEND;TZID=America/Los_Angeles:20240901T143000
DTSTAMP:20260425T183541
CREATED:20230922T193120Z
LAST-MODIFIED:20230922T193120Z
UID:36278-1725186600-1725201000@oldediblerenotahoe.com
SUMMARY:Sunday Music Brunch
DESCRIPTION:Sunday Music Brunch at the Nevada Museum of Art Café is the perfect precursor to an afternoon exploring galleries. Chef Colin Smith has updated the menu to include an eclectic array of options from traditional breakfast fare to lunch options–both of which pair nicely with juice\, coffee\, champagne or a mimosa. Enjoy live music by Colin Ross from 11:30 to 2:30. Doors open at 10:30 am and service continues until 2:30 pm. Reservations are required for parties of five or more\, but encouraged for all as space is limited. Museum members receive 10% savings as a benefit of membership. \nCall the Café at 775-284-2921 for more information.
URL:https://oldediblerenotahoe.com/event/sundaymusicbrunch-2024-09-01/
LOCATION:Nevada Museum of Art\, 160 West Liberty\, Reno\, Nevada\, 89501
CATEGORIES:Food & Drink,Music
ATTACH;FMTTYPE=image/jpeg:https://oldediblerenotahoe.com/wp-content/uploads/2023/09/Roundabout_CafeAtNMA-Spring2022-3186-768x432-1.jpg
END:VEVENT
BEGIN:VEVENT
DTSTART;TZID=America/Los_Angeles:20240901T110000
DTEND;TZID=America/Los_Angeles:20240901T130000
DTSTAMP:20260425T183541
CREATED:20240318T041208Z
LAST-MODIFIED:20240318T041208Z
UID:37932-1725188400-1725195600@oldediblerenotahoe.com
SUMMARY:Brunch in the Barn at the Farm
DESCRIPTION:Join Sierra Valley Farms for Sunday Branch in its 1938 barn. Unique menus utilizing local and organic ingredients will be exquisitely prepared each Sunday.
URL:https://oldediblerenotahoe.com/event/brunch-in-the-barn-at-the-farm-2-2024-09-01/
LOCATION:Sierra Valley Farms\, 1329 County Road A23\, Beckwourth\, CA
CATEGORIES:Food & Drink
END:VEVENT
BEGIN:VEVENT
DTSTART;TZID=America/Los_Angeles:20240901T140000
DTEND;TZID=America/Los_Angeles:20240901T170000
DTSTAMP:20260425T183541
CREATED:20240713T210414Z
LAST-MODIFIED:20240713T210414Z
UID:39284-1725199200-1725210000@oldediblerenotahoe.com
SUMMARY:Alpine Wine Fest
DESCRIPTION:Brought to you by The Village at Palisades Tahoe and Uncorked\, the 34th Annual Alpen Wine Fest includes an all-inclusive wine tasting from over forty (40) exceptional wineries\, live music\, and a silent auction. All proceeds benefit Can Do MS\, a non-profit foundation that delivers health and wellness education programs to help families living with MS thrive. With a donation for your wine-tasting ticket\, attendees receive an Alpen Wine Fest wine glass\, the all-inclusive tasting\, and live music from Peter DeMattei and Indigo Grey. The event is open to all ages. However\, you must be 21 or older and present a valid ID to participate in the wine tasting.
URL:https://oldediblerenotahoe.com/event/alpine-wine-fest/
LOCATION:The Village at Palisades Tahoe\, Olympic Valley\, CA
END:VEVENT
BEGIN:VEVENT
DTSTART;TZID=America/Los_Angeles:20240901T200000
DTEND;TZID=America/Los_Angeles:20240901T220000
DTSTAMP:20260425T183541
CREATED:20240713T214349Z
LAST-MODIFIED:20240713T214349Z
UID:39332-1725220800-1725228000@oldediblerenotahoe.com
SUMMARY:Marilyn Manson
DESCRIPTION:Five-time Grammy-nominated\, multi-platinum Marilyn Manson has been turning heads and stirring up controversy since debuting under Nine Inch Nail’s Trent Reznor with Smells Like Children in 1989. He’s gone on to sell more than 50 million records\, including top albums Antichrist Superstar\, Mechanical Animals\, and Holy Wood. \nWith music referencing everything from Satan to Oscar Wilde to the Marquis de Sade\, all backed with pumping beats and face-melting guitar riffs\, Marilyn Manson in concert is an experience you won’t want to miss.
URL:https://oldediblerenotahoe.com/event/marilyn-manson/
LOCATION:Grand Sierra Resort\, 2500 E 2nd St\, Reno\, NV
END:VEVENT
END:VCALENDAR