BEGIN:VCALENDAR
VERSION:2.0
PRODID:-//Edible Reno-Tahoe - ECPv6.15.20//NONSGML v1.0//EN
CALSCALE:GREGORIAN
METHOD:PUBLISH
X-ORIGINAL-URL:https://oldediblerenotahoe.com
X-WR-CALDESC:Events for Edible Reno-Tahoe
REFRESH-INTERVAL;VALUE=DURATION:PT1H
X-Robots-Tag:noindex
X-PUBLISHED-TTL:PT1H
BEGIN:VTIMEZONE
TZID:America/Los_Angeles
BEGIN:DAYLIGHT
TZOFFSETFROM:-0800
TZOFFSETTO:-0700
TZNAME:PDT
DTSTART:20230312T100000
END:DAYLIGHT
BEGIN:STANDARD
TZOFFSETFROM:-0700
TZOFFSETTO:-0800
TZNAME:PST
DTSTART:20231105T090000
END:STANDARD
BEGIN:DAYLIGHT
TZOFFSETFROM:-0800
TZOFFSETTO:-0700
TZNAME:PDT
DTSTART:20240310T100000
END:DAYLIGHT
BEGIN:STANDARD
TZOFFSETFROM:-0700
TZOFFSETTO:-0800
TZNAME:PST
DTSTART:20241103T090000
END:STANDARD
BEGIN:DAYLIGHT
TZOFFSETFROM:-0800
TZOFFSETTO:-0700
TZNAME:PDT
DTSTART:20250309T100000
END:DAYLIGHT
BEGIN:STANDARD
TZOFFSETFROM:-0700
TZOFFSETTO:-0800
TZNAME:PST
DTSTART:20251102T090000
END:STANDARD
END:VTIMEZONE
BEGIN:VEVENT
DTSTART;TZID=America/Los_Angeles:20240918T180000
DTEND;TZID=America/Los_Angeles:20240918T200000
DTSTAMP:20260425T183539
CREATED:20240811T020121Z
LAST-MODIFIED:20240811T020121Z
UID:39702-1726682400-1726689600@oldediblerenotahoe.com
SUMMARY:Ayurveda
DESCRIPTION:Reconnect with your mind\, body and spirit through the ancient Indian system of health care\, Ayurveda. Create balance and identify disharmonies in your life through the use of food\, herbs and a variety of sense therapies taught in this unique and dynamic class.
URL:https://oldediblerenotahoe.com/event/ayurveda-2024-09-18/
LOCATION:TMCC Meadowood Center\, 5270 Neil Rd.\, South Bldg.\, Reno\, NV\, 89502\, United States
END:VEVENT
END:VCALENDAR