BEGIN:VCALENDAR
VERSION:2.0
PRODID:-//Edible Reno-Tahoe - ECPv6.15.20//NONSGML v1.0//EN
CALSCALE:GREGORIAN
METHOD:PUBLISH
X-WR-CALNAME:Edible Reno-Tahoe
X-ORIGINAL-URL:https://oldediblerenotahoe.com
X-WR-CALDESC:Events for Edible Reno-Tahoe
REFRESH-INTERVAL;VALUE=DURATION:PT1H
X-Robots-Tag:noindex
X-PUBLISHED-TTL:PT1H
BEGIN:VTIMEZONE
TZID:America/Los_Angeles
BEGIN:DAYLIGHT
TZOFFSETFROM:-0800
TZOFFSETTO:-0700
TZNAME:PDT
DTSTART:20230312T100000
END:DAYLIGHT
BEGIN:STANDARD
TZOFFSETFROM:-0700
TZOFFSETTO:-0800
TZNAME:PST
DTSTART:20231105T090000
END:STANDARD
BEGIN:DAYLIGHT
TZOFFSETFROM:-0800
TZOFFSETTO:-0700
TZNAME:PDT
DTSTART:20240310T100000
END:DAYLIGHT
BEGIN:STANDARD
TZOFFSETFROM:-0700
TZOFFSETTO:-0800
TZNAME:PST
DTSTART:20241103T090000
END:STANDARD
BEGIN:DAYLIGHT
TZOFFSETFROM:-0800
TZOFFSETTO:-0700
TZNAME:PDT
DTSTART:20250309T100000
END:DAYLIGHT
BEGIN:STANDARD
TZOFFSETFROM:-0700
TZOFFSETTO:-0800
TZNAME:PST
DTSTART:20251102T090000
END:STANDARD
END:VTIMEZONE
BEGIN:VEVENT
DTSTART;TZID=America/Los_Angeles:20240919T163000
DTEND;TZID=America/Los_Angeles:20240919T193000
DTSTAMP:20260425T183518
CREATED:20240624T192529Z
LAST-MODIFIED:20240624T192529Z
UID:38926-1726763400-1726774200@oldediblerenotahoe.com
SUMMARY:Downtown Gardnerville Wine Walk
DESCRIPTION:
URL:https://oldediblerenotahoe.com/event/downtown-gardnerville-wine-walk-2024-09-19/
LOCATION:Main Street\, Gardnerville\, NV
END:VEVENT
BEGIN:VEVENT
DTSTART;TZID=America/Los_Angeles:20240919T173000
DTEND;TZID=America/Los_Angeles:20240919T213000
DTSTAMP:20260425T183518
CREATED:20240624T191733Z
LAST-MODIFIED:20240624T191733Z
UID:38914-1726767000-1726781400@oldediblerenotahoe.com
SUMMARY:Off the Rails
DESCRIPTION:A monthly summer concert series presented by OffBeat Music Festival.
URL:https://oldediblerenotahoe.com/event/off-the-rails-2024-09-19/
LOCATION:Locomotion Plaza
END:VEVENT
BEGIN:VEVENT
DTSTART;TZID=America/Los_Angeles:20240919T180000
DTEND;TZID=America/Los_Angeles:20240919T200000
DTSTAMP:20260425T183518
CREATED:20240811T004702Z
LAST-MODIFIED:20240811T004702Z
UID:39565-1726768800-1726776000@oldediblerenotahoe.com
SUMMARY:Sheet Pan Suppers Class
DESCRIPTION:
URL:https://oldediblerenotahoe.com/event/sheet-pan-suppers-class/
LOCATION:Nothing To It!\, 225 Crummer Lane\, Reno\, NV\, 89502\, United States
END:VEVENT
BEGIN:VEVENT
DTSTART;TZID=America/Los_Angeles:20240919T180000
DTEND;TZID=America/Los_Angeles:20240919T210000
DTSTAMP:20260425T183518
CREATED:20240713T231342Z
LAST-MODIFIED:20240713T231342Z
UID:39449-1726768800-1726779600@oldediblerenotahoe.com
SUMMARY:Don Julio Tequila Dinner
DESCRIPTION:
URL:https://oldediblerenotahoe.com/event/don-julio-tequila-dinner/
LOCATION:Bistro Napa at Atlantis Casino Resort Spa
END:VEVENT
BEGIN:VEVENT
DTSTART;TZID=America/Los_Angeles:20240919T200000
DTEND;TZID=America/Los_Angeles:20240919T220000
DTSTAMP:20260425T183518
CREATED:20240713T222501Z
LAST-MODIFIED:20240713T222501Z
UID:39362-1726776000-1726783200@oldediblerenotahoe.com
SUMMARY:The Mavericks
DESCRIPTION:Praised as “America’s greatest live dance band & one of the best touring acts of our era\,” The Mavericks are back with their new album\, Moon & Stars. \nFor decades\, they’ve created the kind of multicultural Americana that reaches far beyond America itself\, blending their favorite stateside sounds — including rock & roll\, country\, and R&B — with Tex-Mex twang\, Cuban rhythms\, Jamaican ska\, and other Latin influences. The exploration continues with Moon & Stars\, a progressive album that finds Raul Malo and company continuing to push the envelope\, exploring the outer orbits of an organic\, otherworldly sound that remains entirely their own. \nRolling Stone states\, “The Mavericks are capable of doing everything from rock & roll to Tex-Mex to jazz & soul…a breathtaking collective that can do anything — everything\, really — better than the rest…The big band sound of the…wildly eclectic group…is an earthy but globetrotting place…[It’s impossible] not to get up and dance.”
URL:https://oldediblerenotahoe.com/event/the-mavericks/
LOCATION:Grand Sierra Resort\, 2500 E 2nd St\, Reno\, NV
END:VEVENT
END:VCALENDAR