BEGIN:VCALENDAR
VERSION:2.0
PRODID:-//Edible Reno-Tahoe - ECPv6.15.20//NONSGML v1.0//EN
CALSCALE:GREGORIAN
METHOD:PUBLISH
X-WR-CALNAME:Edible Reno-Tahoe
X-ORIGINAL-URL:https://oldediblerenotahoe.com
X-WR-CALDESC:Events for Edible Reno-Tahoe
REFRESH-INTERVAL;VALUE=DURATION:PT1H
X-Robots-Tag:noindex
X-PUBLISHED-TTL:PT1H
BEGIN:VTIMEZONE
TZID:America/Los_Angeles
BEGIN:DAYLIGHT
TZOFFSETFROM:-0800
TZOFFSETTO:-0700
TZNAME:PDT
DTSTART:20230312T100000
END:DAYLIGHT
BEGIN:STANDARD
TZOFFSETFROM:-0700
TZOFFSETTO:-0800
TZNAME:PST
DTSTART:20231105T090000
END:STANDARD
BEGIN:DAYLIGHT
TZOFFSETFROM:-0800
TZOFFSETTO:-0700
TZNAME:PDT
DTSTART:20240310T100000
END:DAYLIGHT
BEGIN:STANDARD
TZOFFSETFROM:-0700
TZOFFSETTO:-0800
TZNAME:PST
DTSTART:20241103T090000
END:STANDARD
BEGIN:DAYLIGHT
TZOFFSETFROM:-0800
TZOFFSETTO:-0700
TZNAME:PDT
DTSTART:20250309T100000
END:DAYLIGHT
BEGIN:STANDARD
TZOFFSETFROM:-0700
TZOFFSETTO:-0800
TZNAME:PST
DTSTART:20251102T090000
END:STANDARD
END:VTIMEZONE
BEGIN:VEVENT
DTSTART;VALUE=DATE:20240925
DTEND;VALUE=DATE:20240926
DTSTAMP:20260425T183516
CREATED:20240912T161650Z
LAST-MODIFIED:20240912T161937Z
UID:39935-1727222400-1727308799@oldediblerenotahoe.com
SUMMARY:Andelin Farm Fall Festival
DESCRIPTION:
URL:https://oldediblerenotahoe.com/event/andelin-farm-fall-festival/
LOCATION:Andelin Family Farm\, 8100 Pyramid Way\, Spanish Springs\, NV\, 89436
END:VEVENT
BEGIN:VEVENT
DTSTART;VALUE=DATE:20240925
DTEND;VALUE=DATE:20240926
DTSTAMP:20260425T183516
CREATED:20240912T161718Z
LAST-MODIFIED:20240912T162117Z
UID:39937-1727222400-1727308799@oldediblerenotahoe.com
SUMMARY:Andelin Farm 5-Acre Corn Maze
DESCRIPTION:
URL:https://oldediblerenotahoe.com/event/andelin-farm-5-acre-corn-maze/
LOCATION:Andelin Family Farm\, 8100 Pyramid Way\, Spanish Springs\, NV\, 89436
END:VEVENT
BEGIN:VEVENT
DTSTART;TZID=America/Los_Angeles:20240925T180000
DTEND;TZID=America/Los_Angeles:20240925T200000
DTSTAMP:20260425T183516
CREATED:20240811T004845Z
LAST-MODIFIED:20240811T004845Z
UID:39571-1727287200-1727294400@oldediblerenotahoe.com
SUMMARY:Sauce Workshop
DESCRIPTION:
URL:https://oldediblerenotahoe.com/event/sauce-workshop-2/
LOCATION:Nothing To It!\, 225 Crummer Lane\, Reno\, NV\, 89502\, United States
END:VEVENT
BEGIN:VEVENT
DTSTART;TZID=America/Los_Angeles:20240925T180000
DTEND;TZID=America/Los_Angeles:20240925T200000
DTSTAMP:20260425T183516
CREATED:20240811T014335Z
LAST-MODIFIED:20240811T014335Z
UID:39662-1727287200-1727294400@oldediblerenotahoe.com
SUMMARY:Preserve Your Harvest Class
DESCRIPTION:Save money and eliminate waste by home processing your vegetables and making local food available year-round. Learn the art of canning\, drying and freezing\, three food-saving techniques\, with an experienced prepper as your guide. Start preserving and bring a food container to take home your canned vegetables. $20 materials fee
URL:https://oldediblerenotahoe.com/event/preserve-your-harvest-class/
LOCATION:TMCC Meadowood Center\, 5270 Neil Rd.\, South Bldg.\, Reno\, NV\, 89502\, United States
END:VEVENT
BEGIN:VEVENT
DTSTART;TZID=America/Los_Angeles:20240925T180000
DTEND;TZID=America/Los_Angeles:20240925T200000
DTSTAMP:20260425T183516
CREATED:20240811T020121Z
LAST-MODIFIED:20240811T020121Z
UID:39703-1727287200-1727294400@oldediblerenotahoe.com
SUMMARY:Ayurveda
DESCRIPTION:Reconnect with your mind\, body and spirit through the ancient Indian system of health care\, Ayurveda. Create balance and identify disharmonies in your life through the use of food\, herbs and a variety of sense therapies taught in this unique and dynamic class.
URL:https://oldediblerenotahoe.com/event/ayurveda-2024-09-25/
LOCATION:TMCC Meadowood Center\, 5270 Neil Rd.\, South Bldg.\, Reno\, NV\, 89502\, United States
END:VEVENT
END:VCALENDAR