BEGIN:VCALENDAR
VERSION:2.0
PRODID:-//Edible Reno-Tahoe - ECPv6.15.20//NONSGML v1.0//EN
CALSCALE:GREGORIAN
METHOD:PUBLISH
X-ORIGINAL-URL:https://oldediblerenotahoe.com
X-WR-CALDESC:Events for Edible Reno-Tahoe
REFRESH-INTERVAL;VALUE=DURATION:PT1H
X-Robots-Tag:noindex
X-PUBLISHED-TTL:PT1H
BEGIN:VTIMEZONE
TZID:America/Los_Angeles
BEGIN:DAYLIGHT
TZOFFSETFROM:-0800
TZOFFSETTO:-0700
TZNAME:PDT
DTSTART:20230312T100000
END:DAYLIGHT
BEGIN:STANDARD
TZOFFSETFROM:-0700
TZOFFSETTO:-0800
TZNAME:PST
DTSTART:20231105T090000
END:STANDARD
BEGIN:DAYLIGHT
TZOFFSETFROM:-0800
TZOFFSETTO:-0700
TZNAME:PDT
DTSTART:20240310T100000
END:DAYLIGHT
BEGIN:STANDARD
TZOFFSETFROM:-0700
TZOFFSETTO:-0800
TZNAME:PST
DTSTART:20241103T090000
END:STANDARD
BEGIN:DAYLIGHT
TZOFFSETFROM:-0800
TZOFFSETTO:-0700
TZNAME:PDT
DTSTART:20250309T100000
END:DAYLIGHT
BEGIN:STANDARD
TZOFFSETFROM:-0700
TZOFFSETTO:-0800
TZNAME:PST
DTSTART:20251102T090000
END:STANDARD
END:VTIMEZONE
BEGIN:VEVENT
DTSTART;VALUE=DATE:20240926
DTEND;VALUE=DATE:20240930
DTSTAMP:20260425T183545
CREATED:20240114T161101Z
LAST-MODIFIED:20240114T161101Z
UID:37090-1727308800-1727654399@oldediblerenotahoe.com
SUMMARY:Street Vibrations Fall Rally
DESCRIPTION:
URL:https://oldediblerenotahoe.com/event/street-vibrations-fall-rally/
LOCATION:NV
END:VEVENT
BEGIN:VEVENT
DTSTART;VALUE=DATE:20240926
DTEND;VALUE=DATE:20241001
DTSTAMP:20260425T183545
CREATED:20240515T001803Z
LAST-MODIFIED:20240515T001803Z
UID:38773-1727308800-1727740799@oldediblerenotahoe.com
SUMMARY:Cordillera International Film Festival
DESCRIPTION:As a champion of diverse voices and curator of independent stories for the screen\, the Cordillera International Film Festival strives to showcase the best in film while providing an environment for emerging and established artists to create and thrive. Cordillera brings filmmakers together with diverse audiences to celebrate the power of storytelling through engaging exhibitions\, panels\, educational workshops & premieres that enrich and inspire the community
URL:https://oldediblerenotahoe.com/event/cordillera-international-film-festival/
LOCATION:NV
CATEGORIES:Arts,Film
END:VEVENT
BEGIN:VEVENT
DTSTART;VALUE=DATE:20240928
DTEND;VALUE=DATE:20240930
DTSTAMP:20260425T183545
CREATED:20240515T001911Z
LAST-MODIFIED:20240515T001911Z
UID:38775-1727481600-1727654399@oldediblerenotahoe.com
SUMMARY:Genoa Candy Dance
DESCRIPTION:A dinner and dance that originated in 1919 as a fundraiser to purchase much needed streetlights\, has become a world-renowned outdoor festival of epic proportions for the small town — Nevada’s first recorded settlement. Through the years\, donations and volunteers made up the majority of the momentum behind the historic annual Candy Dance. Starting with Lillian Virgin Finnegan and all the first volunteers\, the Genoa Candy Dance has become the success it is today through hard work and great people.
URL:https://oldediblerenotahoe.com/event/genoa-candy-dance-2/
LOCATION:NV
END:VEVENT
BEGIN:VEVENT
DTSTART;TZID=America/Los_Angeles:20240929T080000
DTEND;TZID=America/Los_Angeles:20240929T130000
DTSTAMP:20260425T183545
CREATED:20240912T164300Z
LAST-MODIFIED:20240912T164300Z
UID:40022-1727596800-1727614800@oldediblerenotahoe.com
SUMMARY:Truckee Certified Farmer's Market
DESCRIPTION:Come to the Truckee Farmers Market every Tuesday for fresh and local fruits\, veggies\, flowers\, meats\, cheeses\, olive oil\, fresh baked breads\, artisan crafts\, food trucks and more!
URL:https://oldediblerenotahoe.com/event/truckee-certified-farmers-market-3-2024-09-29/
LOCATION:Truckee River Regional Park
END:VEVENT
BEGIN:VEVENT
DTSTART;TZID=America/Los_Angeles:20240929T090000
DTEND;TZID=America/Los_Angeles:20240929T130000
DTSTAMP:20260425T183545
CREATED:20231103T014135Z
LAST-MODIFIED:20231103T014135Z
UID:35269-1727600400-1727614800@oldediblerenotahoe.com
SUMMARY:Riverside Farmers Market
DESCRIPTION:The Riverside Farmers Market stands as Reno’s authentic local market\, exclusively featuring vendors who cultivate\, rear\, or craft their products within the immediate vicinity of the city. Highlighting small-scale\, community-focused\, and sustainable farmers and ranchers\, the market is a testament to the belief that the foundation of healthy food lies in the health of the land. It also serves as a welcoming platform for Reno’s emerging agricultural talents\, providing a space for residents to connect with those who are dedicated to nourishing the Truckee Meadows community through locally grown produce.
URL:https://oldediblerenotahoe.com/event/riverside-farmers-market-3-2024-09-29/
LOCATION:Idlewild Park\, 1000 Cowan Dr.\, Reno\, NV\, 89509
CATEGORIES:Farmers Market,Shopping
END:VEVENT
BEGIN:VEVENT
DTSTART;TZID=America/Los_Angeles:20240929T090000
DTEND;TZID=America/Los_Angeles:20240929T160000
DTSTAMP:20260425T183545
CREATED:20240912T162552Z
LAST-MODIFIED:20240912T162552Z
UID:40004-1727600400-1727625600@oldediblerenotahoe.com
SUMMARY:Genoa Candy Dance
DESCRIPTION:This two-day event\, which boasts over 400 arts and crafts\, activity\, and food vendors\, plus a Saturday night Dinner Dance\, draws thousands of people to Genoa.
URL:https://oldediblerenotahoe.com/event/genoa-candy-dance-3-2024-09-29/
LOCATION:NV
END:VEVENT
BEGIN:VEVENT
DTSTART;TZID=America/Los_Angeles:20240929T103000
DTEND;TZID=America/Los_Angeles:20240929T143000
DTSTAMP:20260425T183545
CREATED:20230922T193120Z
LAST-MODIFIED:20230922T193120Z
UID:36282-1727605800-1727620200@oldediblerenotahoe.com
SUMMARY:Sunday Music Brunch
DESCRIPTION:Sunday Music Brunch at the Nevada Museum of Art Café is the perfect precursor to an afternoon exploring galleries. Chef Colin Smith has updated the menu to include an eclectic array of options from traditional breakfast fare to lunch options–both of which pair nicely with juice\, coffee\, champagne or a mimosa. Enjoy live music by Colin Ross from 11:30 to 2:30. Doors open at 10:30 am and service continues until 2:30 pm. Reservations are required for parties of five or more\, but encouraged for all as space is limited. Museum members receive 10% savings as a benefit of membership. \nCall the Café at 775-284-2921 for more information.
URL:https://oldediblerenotahoe.com/event/sundaymusicbrunch-2024-09-29/
LOCATION:Nevada Museum of Art\, 160 West Liberty\, Reno\, Nevada\, 89501
CATEGORIES:Food & Drink,Music
ATTACH;FMTTYPE=image/jpeg:https://oldediblerenotahoe.com/wp-content/uploads/2023/09/Roundabout_CafeAtNMA-Spring2022-3186-768x432-1.jpg
END:VEVENT
BEGIN:VEVENT
DTSTART;TZID=America/Los_Angeles:20240929T110000
DTEND;TZID=America/Los_Angeles:20240929T140000
DTSTAMP:20260425T183545
CREATED:20240118T233701Z
LAST-MODIFIED:20240118T233701Z
UID:37160-1727607600-1727618400@oldediblerenotahoe.com
SUMMARY:Green College Class: Scarecrow Building
DESCRIPTION:
URL:https://oldediblerenotahoe.com/event/scarecrowbuilding-2024-09-29/
LOCATION:Rail City Garden Center\, 1720 Brierley Way\, Sparks\, NV\, 89434
CATEGORIES:Gardening
END:VEVENT
BEGIN:VEVENT
DTSTART;TZID=America/Los_Angeles:20240929T170000
DTEND;TZID=America/Los_Angeles:20240929T210000
DTSTAMP:20260425T183545
CREATED:20240712T002034Z
LAST-MODIFIED:20240712T002034Z
UID:39227-1727629200-1727643600@oldediblerenotahoe.com
SUMMARY:Dragon Lights
DESCRIPTION:Dragon Lights Reno returns to the enchanting setting of Wilbur D. May Arboretum and Botanic Gardens in Rancho San Rafael Park. Embracing the shift in seasons\, this year’s event unveils exciting new themes sure to captivate guests of all ages.
URL:https://oldediblerenotahoe.com/event/dragon-lights-2024-09-29/
LOCATION:Wilbur D. May Arboretum and Botanical Garden\, Reno
END:VEVENT
END:VCALENDAR