BEGIN:VCALENDAR
VERSION:2.0
PRODID:-//Edible Reno-Tahoe - ECPv6.15.20//NONSGML v1.0//EN
CALSCALE:GREGORIAN
METHOD:PUBLISH
X-ORIGINAL-URL:https://oldediblerenotahoe.com
X-WR-CALDESC:Events for Edible Reno-Tahoe
REFRESH-INTERVAL;VALUE=DURATION:PT1H
X-Robots-Tag:noindex
X-PUBLISHED-TTL:PT1H
BEGIN:VTIMEZONE
TZID:America/Los_Angeles
BEGIN:DAYLIGHT
TZOFFSETFROM:-0800
TZOFFSETTO:-0700
TZNAME:PDT
DTSTART:20230312T100000
END:DAYLIGHT
BEGIN:STANDARD
TZOFFSETFROM:-0700
TZOFFSETTO:-0800
TZNAME:PST
DTSTART:20231105T090000
END:STANDARD
BEGIN:DAYLIGHT
TZOFFSETFROM:-0800
TZOFFSETTO:-0700
TZNAME:PDT
DTSTART:20240310T100000
END:DAYLIGHT
BEGIN:STANDARD
TZOFFSETFROM:-0700
TZOFFSETTO:-0800
TZNAME:PST
DTSTART:20241103T090000
END:STANDARD
BEGIN:DAYLIGHT
TZOFFSETFROM:-0800
TZOFFSETTO:-0700
TZNAME:PDT
DTSTART:20250309T100000
END:DAYLIGHT
BEGIN:STANDARD
TZOFFSETFROM:-0700
TZOFFSETTO:-0800
TZNAME:PST
DTSTART:20251102T090000
END:STANDARD
END:VTIMEZONE
BEGIN:VEVENT
DTSTART;VALUE=DATE:20241001
DTEND;VALUE=DATE:20241101
DTSTAMP:20260425T142112
CREATED:20240811T003721Z
LAST-MODIFIED:20240811T003721Z
UID:39544-1727740800-1730419199@oldediblerenotahoe.com
SUMMARY:Black Lagoon at 40 Mile Saloon
DESCRIPTION:Returning for its fifth year\, but coming to Reno for the first time\, the Black Lagoon team is thrilled to announce its finalized list of 35+ extraordinary cocktail bars and cities across the globe that will be transformed into eerie\, spine-chilling haunts throughout October. This year’s pop-up will feature a bewitchingly curated cocktail menu with Halloween-themed drinks created by co-founders and bar maestros\, Kelsey Ramage and Erin Hayes.
URL:https://oldediblerenotahoe.com/event/black-lagoon-at-40-mile-saloon/
LOCATION:40 Mile Saloon
END:VEVENT
BEGIN:VEVENT
DTSTART;VALUE=DATE:20241001
DTEND;VALUE=DATE:20241002
DTSTAMP:20260425T142112
CREATED:20240912T161718Z
LAST-MODIFIED:20240912T161718Z
UID:39975-1727740800-1727827199@oldediblerenotahoe.com
SUMMARY:Andelin Farm 5-Acre Corn Maze
DESCRIPTION:
URL:https://oldediblerenotahoe.com/event/andelin-farm-5-acre-corn-maze-2024-10-01/
LOCATION:Andelin Family Farm\, 8100 Pyramid Way\, Spanish Springs\, NV\, 89436
END:VEVENT
BEGIN:VEVENT
DTSTART;TZID=America/Los_Angeles:20241001T080000
DTEND;TZID=America/Los_Angeles:20241001T130000
DTSTAMP:20260425T142112
CREATED:20240912T164300Z
LAST-MODIFIED:20240912T164300Z
UID:40023-1727769600-1727787600@oldediblerenotahoe.com
SUMMARY:Truckee Certified Farmer's Market
DESCRIPTION:Come to the Truckee Farmers Market every Tuesday for fresh and local fruits\, veggies\, flowers\, meats\, cheeses\, olive oil\, fresh baked breads\, artisan crafts\, food trucks and more!
URL:https://oldediblerenotahoe.com/event/truckee-certified-farmers-market-3-2024-10-01/
LOCATION:Truckee River Regional Park
END:VEVENT
BEGIN:VEVENT
DTSTART;TZID=America/Los_Angeles:20241001T083000
DTEND;TZID=America/Los_Angeles:20241001T093000
DTSTAMP:20260425T142112
CREATED:20241003T014347Z
LAST-MODIFIED:20241003T014347Z
UID:40218-1727771400-1727775000@oldediblerenotahoe.com
SUMMARY:Farm Homeschool Program
DESCRIPTION:Our Farm Homeschool Program is the perfect way for your homeschooler to dive into hands-on gardening at the farm. Whether your child loves mingling with a group or prefers a solo adventure\, this program is the place for them to grow\, learn\, and make some feathered (and non-feathered) friends while engaging in our STEAM curriculum. This time\, it’s Science Fair Month! It’s the perfect time to experiment with all things Fall and discover the wonders of the season through fun\, interactive activities.
URL:https://oldediblerenotahoe.com/event/farm-homeschool-program/
LOCATION:Urban Teaching Farm\, 1700 E 2nd Street\, Reno\, NV\, 89502
END:VEVENT
BEGIN:VEVENT
DTSTART;TZID=America/Los_Angeles:20241001T170000
DTEND;TZID=America/Los_Angeles:20241001T210000
DTSTAMP:20260425T142112
CREATED:20240712T002034Z
LAST-MODIFIED:20240712T002034Z
UID:39229-1727802000-1727816400@oldediblerenotahoe.com
SUMMARY:Dragon Lights
DESCRIPTION:Dragon Lights Reno returns to the enchanting setting of Wilbur D. May Arboretum and Botanic Gardens in Rancho San Rafael Park. Embracing the shift in seasons\, this year’s event unveils exciting new themes sure to captivate guests of all ages.
URL:https://oldediblerenotahoe.com/event/dragon-lights-2024-10-01/
LOCATION:Wilbur D. May Arboretum and Botanical Garden\, Reno
END:VEVENT
BEGIN:VEVENT
DTSTART;TZID=America/Los_Angeles:20241001T200000
DTEND;TZID=America/Los_Angeles:20241001T220000
DTSTAMP:20260425T142112
CREATED:20240713T213617Z
LAST-MODIFIED:20240713T213617Z
UID:39318-1727812800-1727820000@oldediblerenotahoe.com
SUMMARY:Goth Babe
DESCRIPTION:Goth Babe is a perfect blend of alternative rock\, dreamy synth\, with maybe a little California surfer vibe on top. Lead singer Griffin Washburn describes his music as “Griffin Washburn having fun.” In between surfing and climbing up and down the Pacific Northwest coast\, Griffin records and produces his music from his Tiny House\, primarily using guitar and keyboard.
URL:https://oldediblerenotahoe.com/event/goth-babe/
LOCATION:Grand Sierra Resort\, 2500 E 2nd St\, Reno\, NV
END:VEVENT
END:VCALENDAR