BEGIN:VCALENDAR
VERSION:2.0
PRODID:-//Edible Reno-Tahoe - ECPv6.15.20//NONSGML v1.0//EN
CALSCALE:GREGORIAN
METHOD:PUBLISH
X-WR-CALNAME:Edible Reno-Tahoe
X-ORIGINAL-URL:https://oldediblerenotahoe.com
X-WR-CALDESC:Events for Edible Reno-Tahoe
REFRESH-INTERVAL;VALUE=DURATION:PT1H
X-Robots-Tag:noindex
X-PUBLISHED-TTL:PT1H
BEGIN:VTIMEZONE
TZID:America/Los_Angeles
BEGIN:DAYLIGHT
TZOFFSETFROM:-0800
TZOFFSETTO:-0700
TZNAME:PDT
DTSTART:20230312T100000
END:DAYLIGHT
BEGIN:STANDARD
TZOFFSETFROM:-0700
TZOFFSETTO:-0800
TZNAME:PST
DTSTART:20231105T090000
END:STANDARD
BEGIN:DAYLIGHT
TZOFFSETFROM:-0800
TZOFFSETTO:-0700
TZNAME:PDT
DTSTART:20240310T100000
END:DAYLIGHT
BEGIN:STANDARD
TZOFFSETFROM:-0700
TZOFFSETTO:-0800
TZNAME:PST
DTSTART:20241103T090000
END:STANDARD
BEGIN:DAYLIGHT
TZOFFSETFROM:-0800
TZOFFSETTO:-0700
TZNAME:PDT
DTSTART:20250309T100000
END:DAYLIGHT
BEGIN:STANDARD
TZOFFSETFROM:-0700
TZOFFSETTO:-0800
TZNAME:PST
DTSTART:20251102T090000
END:STANDARD
END:VTIMEZONE
BEGIN:VEVENT
DTSTART;VALUE=DATE:20241001
DTEND;VALUE=DATE:20241101
DTSTAMP:20260425T142121
CREATED:20240811T003721Z
LAST-MODIFIED:20240811T003721Z
UID:39544-1727740800-1730419199@oldediblerenotahoe.com
SUMMARY:Black Lagoon at 40 Mile Saloon
DESCRIPTION:Returning for its fifth year\, but coming to Reno for the first time\, the Black Lagoon team is thrilled to announce its finalized list of 35+ extraordinary cocktail bars and cities across the globe that will be transformed into eerie\, spine-chilling haunts throughout October. This year’s pop-up will feature a bewitchingly curated cocktail menu with Halloween-themed drinks created by co-founders and bar maestros\, Kelsey Ramage and Erin Hayes.
URL:https://oldediblerenotahoe.com/event/black-lagoon-at-40-mile-saloon/
LOCATION:40 Mile Saloon
END:VEVENT
BEGIN:VEVENT
DTSTART;VALUE=DATE:20241003
DTEND;VALUE=DATE:20241004
DTSTAMP:20260425T142121
CREATED:20240912T161650Z
LAST-MODIFIED:20240912T161650Z
UID:39955-1727913600-1727999999@oldediblerenotahoe.com
SUMMARY:Andelin Farm Fall Festival
DESCRIPTION:
URL:https://oldediblerenotahoe.com/event/andelin-farm-fall-festival-2024-10-03/
LOCATION:Andelin Family Farm\, 8100 Pyramid Way\, Spanish Springs\, NV\, 89436
END:VEVENT
BEGIN:VEVENT
DTSTART;VALUE=DATE:20241003
DTEND;VALUE=DATE:20241004
DTSTAMP:20260425T142121
CREATED:20240912T161718Z
LAST-MODIFIED:20240912T161718Z
UID:39977-1727913600-1727999999@oldediblerenotahoe.com
SUMMARY:Andelin Farm 5-Acre Corn Maze
DESCRIPTION:
URL:https://oldediblerenotahoe.com/event/andelin-farm-5-acre-corn-maze-2024-10-03/
LOCATION:Andelin Family Farm\, 8100 Pyramid Way\, Spanish Springs\, NV\, 89436
END:VEVENT
BEGIN:VEVENT
DTSTART;VALUE=DATE:20241003
DTEND;VALUE=DATE:20241004
DTSTAMP:20260425T142121
CREATED:20240912T161833Z
LAST-MODIFIED:20240912T161833Z
UID:39940-1727913600-1727999999@oldediblerenotahoe.com
SUMMARY:Zombie Paintball & Corn Creepers
DESCRIPTION:
URL:https://oldediblerenotahoe.com/event/zombie-paintball-corn-creepers-2024-10-03/
LOCATION:Andelin Family Farm\, 8100 Pyramid Way\, Spanish Springs\, NV\, 89436
END:VEVENT
BEGIN:VEVENT
DTSTART;TZID=America/Los_Angeles:20241003T083000
DTEND;TZID=America/Los_Angeles:20241003T093000
DTSTAMP:20260425T142121
CREATED:20241003T014347Z
LAST-MODIFIED:20241003T014347Z
UID:40219-1727944200-1727947800@oldediblerenotahoe.com
SUMMARY:Farm Homeschool Program
DESCRIPTION:Our Farm Homeschool Program is the perfect way for your homeschooler to dive into hands-on gardening at the farm. Whether your child loves mingling with a group or prefers a solo adventure\, this program is the place for them to grow\, learn\, and make some feathered (and non-feathered) friends while engaging in our STEAM curriculum. This time\, it’s Science Fair Month! It’s the perfect time to experiment with all things Fall and discover the wonders of the season through fun\, interactive activities.
URL:https://oldediblerenotahoe.com/event/farm-homeschool-program-2024-10-03/
LOCATION:Urban Teaching Farm\, 1700 E 2nd Street\, Reno\, NV\, 89502
END:VEVENT
BEGIN:VEVENT
DTSTART;TZID=America/Los_Angeles:20241003T170000
DTEND;TZID=America/Los_Angeles:20241003T190000
DTSTAMP:20260425T142121
CREATED:20231216T224142Z
LAST-MODIFIED:20231216T224142Z
UID:36106-1727974800-1727982000@oldediblerenotahoe.com
SUMMARY:First Thursday with Loud As Folk
DESCRIPTION:First Thursday returns loud and proud with live music presented in partnership with Loud As Folk\, a regional singer-songwriter showcase. Meet up with friends for this long-standing monthly tradition of live music\, beer and plenty of fun.
URL:https://oldediblerenotahoe.com/event/first-thursday-with-loud-as-folk-2024-10-03/
LOCATION:Nevada Museum of Art\, 160 West Liberty\, Reno\, Nevada\, 89501
CATEGORIES:Music
END:VEVENT
BEGIN:VEVENT
DTSTART;TZID=America/Los_Angeles:20241003T170000
DTEND;TZID=America/Los_Angeles:20241003T210000
DTSTAMP:20260425T142121
CREATED:20240712T002034Z
LAST-MODIFIED:20240712T002034Z
UID:39231-1727974800-1727989200@oldediblerenotahoe.com
SUMMARY:Dragon Lights
DESCRIPTION:Dragon Lights Reno returns to the enchanting setting of Wilbur D. May Arboretum and Botanic Gardens in Rancho San Rafael Park. Embracing the shift in seasons\, this year’s event unveils exciting new themes sure to captivate guests of all ages.
URL:https://oldediblerenotahoe.com/event/dragon-lights-2024-10-03/
LOCATION:Wilbur D. May Arboretum and Botanical Garden\, Reno
END:VEVENT
BEGIN:VEVENT
DTSTART;TZID=America/Los_Angeles:20241003T180000
DTEND;TZID=America/Los_Angeles:20241003T200000
DTSTAMP:20260425T142121
CREATED:20240811T005636Z
LAST-MODIFIED:20240811T005636Z
UID:39581-1727978400-1727985600@oldediblerenotahoe.com
SUMMARY:Taste of India Class
DESCRIPTION:
URL:https://oldediblerenotahoe.com/event/taste-of-india-class/
LOCATION:Nothing To It!\, 225 Crummer Lane\, Reno\, NV\, 89502\, United States
END:VEVENT
BEGIN:VEVENT
DTSTART;TZID=America/Los_Angeles:20241003T180000
DTEND;TZID=America/Los_Angeles:20241003T210000
DTSTAMP:20260425T142121
CREATED:20240912T155922Z
LAST-MODIFIED:20240919T012445Z
UID:39914-1727978400-1727989200@oldediblerenotahoe.com
SUMMARY:Paint and Prost
DESCRIPTION:Join Café Whitney for this unique Oktoberfest celebration where you’ll enjoy: \nStein Painting – Create your very own custom beer stein with guidance and materials provided by The Clay Canvas. After the event\, your masterpiece will be taken to their studio for firing\, ready for pick-up later. \nBavarian-Inspired Meal – Our Head Chef\, Christian Flores\, has crafted a special menu that perfectly pairs with the spirit of Oktoberfest. \nSeasonal Beer – Enjoy a pint of our carefully selected seasonal beer to sip on while you paint.
URL:https://oldediblerenotahoe.com/event/39914/
LOCATION:Cafe Whitney\, 255 North Virginia Street\, Reno\, NV\, 89501
END:VEVENT
END:VCALENDAR