BEGIN:VCALENDAR
VERSION:2.0
PRODID:-//Edible Reno-Tahoe - ECPv6.15.20//NONSGML v1.0//EN
CALSCALE:GREGORIAN
METHOD:PUBLISH
X-WR-CALNAME:Edible Reno-Tahoe
X-ORIGINAL-URL:https://oldediblerenotahoe.com
X-WR-CALDESC:Events for Edible Reno-Tahoe
REFRESH-INTERVAL;VALUE=DURATION:PT1H
X-Robots-Tag:noindex
X-PUBLISHED-TTL:PT1H
BEGIN:VTIMEZONE
TZID:America/Los_Angeles
BEGIN:DAYLIGHT
TZOFFSETFROM:-0800
TZOFFSETTO:-0700
TZNAME:PDT
DTSTART:20230312T100000
END:DAYLIGHT
BEGIN:STANDARD
TZOFFSETFROM:-0700
TZOFFSETTO:-0800
TZNAME:PST
DTSTART:20231105T090000
END:STANDARD
BEGIN:DAYLIGHT
TZOFFSETFROM:-0800
TZOFFSETTO:-0700
TZNAME:PDT
DTSTART:20240310T100000
END:DAYLIGHT
BEGIN:STANDARD
TZOFFSETFROM:-0700
TZOFFSETTO:-0800
TZNAME:PST
DTSTART:20241103T090000
END:STANDARD
BEGIN:DAYLIGHT
TZOFFSETFROM:-0800
TZOFFSETTO:-0700
TZNAME:PDT
DTSTART:20250309T100000
END:DAYLIGHT
BEGIN:STANDARD
TZOFFSETFROM:-0700
TZOFFSETTO:-0800
TZNAME:PST
DTSTART:20251102T090000
END:STANDARD
END:VTIMEZONE
BEGIN:VEVENT
DTSTART;VALUE=DATE:20241001
DTEND;VALUE=DATE:20241101
DTSTAMP:20260425T142030
CREATED:20240811T003721Z
LAST-MODIFIED:20240811T003721Z
UID:39544-1727740800-1730419199@oldediblerenotahoe.com
SUMMARY:Black Lagoon at 40 Mile Saloon
DESCRIPTION:Returning for its fifth year\, but coming to Reno for the first time\, the Black Lagoon team is thrilled to announce its finalized list of 35+ extraordinary cocktail bars and cities across the globe that will be transformed into eerie\, spine-chilling haunts throughout October. This year’s pop-up will feature a bewitchingly curated cocktail menu with Halloween-themed drinks created by co-founders and bar maestros\, Kelsey Ramage and Erin Hayes.
URL:https://oldediblerenotahoe.com/event/black-lagoon-at-40-mile-saloon/
LOCATION:40 Mile Saloon
END:VEVENT
BEGIN:VEVENT
DTSTART;VALUE=DATE:20241004
DTEND;VALUE=DATE:20241007
DTSTAMP:20260425T142030
CREATED:20240713T213741Z
LAST-MODIFIED:20240713T213741Z
UID:39320-1728000000-1728259199@oldediblerenotahoe.com
SUMMARY:Offbeat Music Festival
DESCRIPTION:Yes\, there are still discoveries to be made. See new\, unknown\, unheralded bands in intimate settings before they blow up and have their songs blasting in every earbud\, headlining at every festival and selling out at every venue from Tokyo to Tulsa. There are new songs to hear\, in places you’ve never heard them\, creating a charged energy that will never be heard the same way again. \nThat’s the spirit of the annual OffBeat Music Festival\, a “music festival crawl of sorts.” Hear over 80 performances of the best homegrown musicians\, regional bands and nationally-recognized artists! Discover new music at unique and intimate locations around the core of Midtown Reno.
URL:https://oldediblerenotahoe.com/event/offbeat-music-festival/
LOCATION:NV
END:VEVENT
BEGIN:VEVENT
DTSTART;VALUE=DATE:20241004
DTEND;VALUE=DATE:20241007
DTSTAMP:20260425T142030
CREATED:20240713T213841Z
LAST-MODIFIED:20240713T213841Z
UID:39322-1728000000-1728259199@oldediblerenotahoe.com
SUMMARY:Reno Air Show
DESCRIPTION:The Reno Air Racing Association is thrilled to announce that the US Navy Blue Angels\, the Canadian Snowbirds and the USAF F-16 Viper Demonstration Team will all be coming to Reno on October 4-6\, 2024. So mark it on your calendar\, and then keep an eye out for more details on the event and ticket release coming soon\, as we celebrate 60 years of aviation excitement in Reno!
URL:https://oldediblerenotahoe.com/event/reno-air-show/
LOCATION:Reno Stead Airport
END:VEVENT
BEGIN:VEVENT
DTSTART;VALUE=DATE:20241004
DTEND;VALUE=DATE:20241005
DTSTAMP:20260425T142030
CREATED:20240912T161650Z
LAST-MODIFIED:20240912T161650Z
UID:39956-1728000000-1728086399@oldediblerenotahoe.com
SUMMARY:Andelin Farm Fall Festival
DESCRIPTION:
URL:https://oldediblerenotahoe.com/event/andelin-farm-fall-festival-2024-10-04/
LOCATION:Andelin Family Farm\, 8100 Pyramid Way\, Spanish Springs\, NV\, 89436
END:VEVENT
BEGIN:VEVENT
DTSTART;VALUE=DATE:20241004
DTEND;VALUE=DATE:20241005
DTSTAMP:20260425T142030
CREATED:20240912T161718Z
LAST-MODIFIED:20240912T161718Z
UID:39978-1728000000-1728086399@oldediblerenotahoe.com
SUMMARY:Andelin Farm 5-Acre Corn Maze
DESCRIPTION:
URL:https://oldediblerenotahoe.com/event/andelin-farm-5-acre-corn-maze-2024-10-04/
LOCATION:Andelin Family Farm\, 8100 Pyramid Way\, Spanish Springs\, NV\, 89436
END:VEVENT
BEGIN:VEVENT
DTSTART;VALUE=DATE:20241004
DTEND;VALUE=DATE:20241005
DTSTAMP:20260425T142030
CREATED:20240912T161833Z
LAST-MODIFIED:20240912T161833Z
UID:39941-1728000000-1728086399@oldediblerenotahoe.com
SUMMARY:Zombie Paintball & Corn Creepers
DESCRIPTION:
URL:https://oldediblerenotahoe.com/event/zombie-paintball-corn-creepers-2024-10-04/
LOCATION:Andelin Family Farm\, 8100 Pyramid Way\, Spanish Springs\, NV\, 89436
END:VEVENT
BEGIN:VEVENT
DTSTART;TZID=America/Los_Angeles:20241004T090000
DTEND;TZID=America/Los_Angeles:20241004T110000
DTSTAMP:20260425T142030
CREATED:20241003T014205Z
LAST-MODIFIED:20241003T014205Z
UID:40215-1728032400-1728039600@oldediblerenotahoe.com
SUMMARY:Little Gardeners: Pollinator Pals
DESCRIPTION:Are your little gardeners ready to make some new friends? Sign them up for our Pollinator Pals program! We’ll buzz into the fascinating world of pollinators\, searching for and observing these tiny garden helpers up close. We’ll be learning how to create safe spaces for our pals to thrive and help maintain healthy habitats for the essential creatures that keep our garden blooming. Don’t miss the opportunity to spark a little curiosity.
URL:https://oldediblerenotahoe.com/event/little-gardeners-pollinator-pals/
LOCATION:Urban Teaching Farm\, 1700 E 2nd Street\, Reno\, NV\, 89502
END:VEVENT
BEGIN:VEVENT
DTSTART;TZID=America/Los_Angeles:20241004T120000
DTEND;TZID=America/Los_Angeles:20241004T150000
DTSTAMP:20260425T142030
CREATED:20240811T013641Z
LAST-MODIFIED:20240811T013641Z
UID:39648-1728043200-1728054000@oldediblerenotahoe.com
SUMMARY:Backyard Beekeeping Class
DESCRIPTION:Discover what you need to do to keep happy\, healthy and productive bees\, as a hobby. Whether you want to keep bees for honey production\, improved pollination of your veggies\, or simply for the enjoyment of living in harmony with these amazing insects\, this class is for you.  Understand the environmental importance of honey bees as well as native bees and what it takes to raise them.  Learn about the equipment\, costs\, and environmental concerns about raising healthy colonies of honey bees in your back yard.  Learn traditional methods of maximizing honey production as well as more recent trends in “natural” beekeeping. Delve into their biology and husbandry needs\, bee problems and treatments\, harvesting and the many uses of bee products. Discuss initial and long-term investment costs. $10 materials fee
URL:https://oldediblerenotahoe.com/event/backyard-beekeeping-class/
LOCATION:NV
END:VEVENT
BEGIN:VEVENT
DTSTART;TZID=America/Los_Angeles:20241004T160000
DTEND;TZID=America/Los_Angeles:20241004T210000
DTSTAMP:20260425T142030
CREATED:20240713T221609Z
LAST-MODIFIED:20240713T221609Z
UID:39350-1728057600-1728075600@oldediblerenotahoe.com
SUMMARY:Nugget Casino Resort Oktoberfest
DESCRIPTION:
URL:https://oldediblerenotahoe.com/event/nugget-casino-resort-oktoberfest/
LOCATION:Nugget Casino Resort\, 1100 Nugget Avenue\,\, Sparks\, NV
END:VEVENT
BEGIN:VEVENT
DTSTART;TZID=America/Los_Angeles:20241004T170000
DTEND;TZID=America/Los_Angeles:20241004T210000
DTSTAMP:20260425T142030
CREATED:20240712T002034Z
LAST-MODIFIED:20240712T002034Z
UID:39232-1728061200-1728075600@oldediblerenotahoe.com
SUMMARY:Dragon Lights
DESCRIPTION:Dragon Lights Reno returns to the enchanting setting of Wilbur D. May Arboretum and Botanic Gardens in Rancho San Rafael Park. Embracing the shift in seasons\, this year’s event unveils exciting new themes sure to captivate guests of all ages.
URL:https://oldediblerenotahoe.com/event/dragon-lights-2024-10-04/
LOCATION:Wilbur D. May Arboretum and Botanical Garden\, Reno
END:VEVENT
BEGIN:VEVENT
DTSTART;TZID=America/Los_Angeles:20241004T180000
DTEND;TZID=America/Los_Angeles:20241004T200000
DTSTAMP:20260425T142030
CREATED:20240811T005707Z
LAST-MODIFIED:20240811T005707Z
UID:39583-1728064800-1728072000@oldediblerenotahoe.com
SUMMARY:Oktoberfest Class
DESCRIPTION:
URL:https://oldediblerenotahoe.com/event/oktoberfest-class/
LOCATION:Nothing To It!\, 225 Crummer Lane\, Reno\, NV\, 89502\, United States
END:VEVENT
BEGIN:VEVENT
DTSTART;TZID=America/Los_Angeles:20241004T180000
DTEND;TZID=America/Los_Angeles:20241004T200000
DTSTAMP:20260425T142030
CREATED:20241003T012239Z
LAST-MODIFIED:20241003T012239Z
UID:40172-1728064800-1728072000@oldediblerenotahoe.com
SUMMARY:Mackay Mansion Colors & Spirit
DESCRIPTION:Tap into your spiritual side at the Mackay Mansion Colors & Spirits event! Choose between aura photography with esteemed Pamela Copple\, oracle card readings and a tuning fork session.
URL:https://oldediblerenotahoe.com/event/mackay-mansion-colors-spirit/
LOCATION:Mackay Mansion
END:VEVENT
BEGIN:VEVENT
DTSTART;TZID=America/Los_Angeles:20241004T193000
DTEND;TZID=America/Los_Angeles:20241004T223000
DTSTAMP:20260425T142030
CREATED:20240624T191845Z
LAST-MODIFIED:20240624T191845Z
UID:38918-1728070200-1728081000@oldediblerenotahoe.com
SUMMARY:Flicks on the Bricks
DESCRIPTION:A monthly community movie night hosted by Cordillera Film Festival.
URL:https://oldediblerenotahoe.com/event/flicks-on-the-bricks-2024-10-04/
LOCATION:West Street Plaza
END:VEVENT
END:VCALENDAR