BEGIN:VCALENDAR
VERSION:2.0
PRODID:-//Edible Reno-Tahoe - ECPv6.15.20//NONSGML v1.0//EN
CALSCALE:GREGORIAN
METHOD:PUBLISH
X-WR-CALNAME:Edible Reno-Tahoe
X-ORIGINAL-URL:https://oldediblerenotahoe.com
X-WR-CALDESC:Events for Edible Reno-Tahoe
REFRESH-INTERVAL;VALUE=DURATION:PT1H
X-Robots-Tag:noindex
X-PUBLISHED-TTL:PT1H
BEGIN:VTIMEZONE
TZID:America/Los_Angeles
BEGIN:DAYLIGHT
TZOFFSETFROM:-0800
TZOFFSETTO:-0700
TZNAME:PDT
DTSTART:20230312T100000
END:DAYLIGHT
BEGIN:STANDARD
TZOFFSETFROM:-0700
TZOFFSETTO:-0800
TZNAME:PST
DTSTART:20231105T090000
END:STANDARD
BEGIN:DAYLIGHT
TZOFFSETFROM:-0800
TZOFFSETTO:-0700
TZNAME:PDT
DTSTART:20240310T100000
END:DAYLIGHT
BEGIN:STANDARD
TZOFFSETFROM:-0700
TZOFFSETTO:-0800
TZNAME:PST
DTSTART:20241103T090000
END:STANDARD
BEGIN:DAYLIGHT
TZOFFSETFROM:-0800
TZOFFSETTO:-0700
TZNAME:PDT
DTSTART:20250309T100000
END:DAYLIGHT
BEGIN:STANDARD
TZOFFSETFROM:-0700
TZOFFSETTO:-0800
TZNAME:PST
DTSTART:20251102T090000
END:STANDARD
END:VTIMEZONE
BEGIN:VEVENT
DTSTART;VALUE=DATE:20241001
DTEND;VALUE=DATE:20241101
DTSTAMP:20260425T142121
CREATED:20240811T003721Z
LAST-MODIFIED:20240811T003721Z
UID:39544-1727740800-1730419199@oldediblerenotahoe.com
SUMMARY:Black Lagoon at 40 Mile Saloon
DESCRIPTION:Returning for its fifth year\, but coming to Reno for the first time\, the Black Lagoon team is thrilled to announce its finalized list of 35+ extraordinary cocktail bars and cities across the globe that will be transformed into eerie\, spine-chilling haunts throughout October. This year’s pop-up will feature a bewitchingly curated cocktail menu with Halloween-themed drinks created by co-founders and bar maestros\, Kelsey Ramage and Erin Hayes.
URL:https://oldediblerenotahoe.com/event/black-lagoon-at-40-mile-saloon/
LOCATION:40 Mile Saloon
END:VEVENT
BEGIN:VEVENT
DTSTART;VALUE=DATE:20241011
DTEND;VALUE=DATE:20241013
DTSTAMP:20260425T142121
CREATED:20240526T212156Z
LAST-MODIFIED:20240526T212156Z
UID:38791-1728604800-1728777599@oldediblerenotahoe.com
SUMMARY:Backroads Vintage Market
DESCRIPTION:
URL:https://oldediblerenotahoe.com/event/backroads-vintage-market/
LOCATION:Rafter 3C Arena\, 227 Sheckler Road\, Fallon\, NV
CATEGORIES:Shopping
END:VEVENT
BEGIN:VEVENT
DTSTART;VALUE=DATE:20241011
DTEND;VALUE=DATE:20241013
DTSTAMP:20260425T142121
CREATED:20240912T161521Z
LAST-MODIFIED:20240912T161521Z
UID:39933-1728604800-1728777599@oldediblerenotahoe.com
SUMMARY:Tahoe Literary Festival
DESCRIPTION:Author and naturalist Obi Kaufmann will be the keynote speaker for the inaugural Tahoe Literary Festival being held Oct. 11 and 12 in Tahoe City. \nKaufmann will speak on Oct. 12 as part of the tour for his newest book\, “The State of Fire\, Why California Burns\,” to be released in September. Kaufmann will also sign copies of his book at the event. \nThe festival kicks off with a free literary open mic night on Oct. 11. On Oct. 12\, enjoy a morning keynote with Wildbound PR founders Jared and Julia Drake\, following panels\, workshops and discussions with local journalists\, poets and authors. The festival concludes on Oct. 12 with a Songwriters’ Showcase.
URL:https://oldediblerenotahoe.com/event/tahoe-literary-festival/
LOCATION:Tahoe City
END:VEVENT
BEGIN:VEVENT
DTSTART;VALUE=DATE:20241011
DTEND;VALUE=DATE:20241012
DTSTAMP:20260425T142121
CREATED:20240912T161650Z
LAST-MODIFIED:20240912T161650Z
UID:39960-1728604800-1728691199@oldediblerenotahoe.com
SUMMARY:Andelin Farm Fall Festival
DESCRIPTION:
URL:https://oldediblerenotahoe.com/event/andelin-farm-fall-festival-2024-10-11/
LOCATION:Andelin Family Farm\, 8100 Pyramid Way\, Spanish Springs\, NV\, 89436
END:VEVENT
BEGIN:VEVENT
DTSTART;VALUE=DATE:20241011
DTEND;VALUE=DATE:20241012
DTSTAMP:20260425T142121
CREATED:20240912T161718Z
LAST-MODIFIED:20240912T161718Z
UID:39983-1728604800-1728691199@oldediblerenotahoe.com
SUMMARY:Andelin Farm 5-Acre Corn Maze
DESCRIPTION:
URL:https://oldediblerenotahoe.com/event/andelin-farm-5-acre-corn-maze-2024-10-11/
LOCATION:Andelin Family Farm\, 8100 Pyramid Way\, Spanish Springs\, NV\, 89436
END:VEVENT
BEGIN:VEVENT
DTSTART;VALUE=DATE:20241011
DTEND;VALUE=DATE:20241012
DTSTAMP:20260425T142121
CREATED:20240912T161833Z
LAST-MODIFIED:20240912T161833Z
UID:39944-1728604800-1728691199@oldediblerenotahoe.com
SUMMARY:Zombie Paintball & Corn Creepers
DESCRIPTION:
URL:https://oldediblerenotahoe.com/event/zombie-paintball-corn-creepers-2024-10-11/
LOCATION:Andelin Family Farm\, 8100 Pyramid Way\, Spanish Springs\, NV\, 89436
END:VEVENT
BEGIN:VEVENT
DTSTART;TZID=America/Los_Angeles:20241011T120000
DTEND;TZID=America/Los_Angeles:20241011T150000
DTSTAMP:20260425T142121
CREATED:20240811T013641Z
LAST-MODIFIED:20240811T013641Z
UID:39649-1728648000-1728658800@oldediblerenotahoe.com
SUMMARY:Backyard Beekeeping Class
DESCRIPTION:Discover what you need to do to keep happy\, healthy and productive bees\, as a hobby. Whether you want to keep bees for honey production\, improved pollination of your veggies\, or simply for the enjoyment of living in harmony with these amazing insects\, this class is for you.  Understand the environmental importance of honey bees as well as native bees and what it takes to raise them.  Learn about the equipment\, costs\, and environmental concerns about raising healthy colonies of honey bees in your back yard.  Learn traditional methods of maximizing honey production as well as more recent trends in “natural” beekeeping. Delve into their biology and husbandry needs\, bee problems and treatments\, harvesting and the many uses of bee products. Discuss initial and long-term investment costs. $10 materials fee
URL:https://oldediblerenotahoe.com/event/backyard-beekeeping-class-2024-10-11/
LOCATION:NV
END:VEVENT
BEGIN:VEVENT
DTSTART;TZID=America/Los_Angeles:20241011T173000
DTEND;TZID=America/Los_Angeles:20241011T193000
DTSTAMP:20260425T142121
CREATED:20240913T032610Z
LAST-MODIFIED:20240913T032610Z
UID:40051-1728667800-1728675000@oldediblerenotahoe.com
SUMMARY:Healthy Communities with Kim Foster
DESCRIPTION:Food is a conduit for connection; we envision smiling families gathered around a table—eating\, happy\, content. But what happens when poverty\, mental illness\, homelessness\, and addiction claim a seat at that table? In The Meth Lunches\, author Kim Foster reveals stories of difficulty intertwined with hope\, of the insurmountable obstacles and fierce determination all playing out on the plates of ordinary Americans. It’s a bold invitation to pull up a chair and reconsider our responsibilities to the most vulnerable among us.
URL:https://oldediblerenotahoe.com/event/healthy-communities-with-kim-foster/
LOCATION:Dayton Community Center\, 170 Pike Street\, Dayton\, NV\, 89403
END:VEVENT
BEGIN:VEVENT
DTSTART;TZID=America/Los_Angeles:20241011T180000
DTEND;TZID=America/Los_Angeles:20241011T200000
DTSTAMP:20260425T142121
CREATED:20240811T005844Z
LAST-MODIFIED:20240811T005844Z
UID:39589-1728669600-1728676800@oldediblerenotahoe.com
SUMMARY:Persian Kitchen Class
DESCRIPTION:
URL:https://oldediblerenotahoe.com/event/persian-kitchen-class/
LOCATION:Nothing To It!\, 225 Crummer Lane\, Reno\, NV\, 89502\, United States
END:VEVENT
END:VCALENDAR