BEGIN:VCALENDAR
VERSION:2.0
PRODID:-//Edible Reno-Tahoe - ECPv6.15.20//NONSGML v1.0//EN
CALSCALE:GREGORIAN
METHOD:PUBLISH
X-WR-CALNAME:Edible Reno-Tahoe
X-ORIGINAL-URL:https://oldediblerenotahoe.com
X-WR-CALDESC:Events for Edible Reno-Tahoe
REFRESH-INTERVAL;VALUE=DURATION:PT1H
X-Robots-Tag:noindex
X-PUBLISHED-TTL:PT1H
BEGIN:VTIMEZONE
TZID:America/Los_Angeles
BEGIN:DAYLIGHT
TZOFFSETFROM:-0800
TZOFFSETTO:-0700
TZNAME:PDT
DTSTART:20230312T100000
END:DAYLIGHT
BEGIN:STANDARD
TZOFFSETFROM:-0700
TZOFFSETTO:-0800
TZNAME:PST
DTSTART:20231105T090000
END:STANDARD
BEGIN:DAYLIGHT
TZOFFSETFROM:-0800
TZOFFSETTO:-0700
TZNAME:PDT
DTSTART:20240310T100000
END:DAYLIGHT
BEGIN:STANDARD
TZOFFSETFROM:-0700
TZOFFSETTO:-0800
TZNAME:PST
DTSTART:20241103T090000
END:STANDARD
BEGIN:DAYLIGHT
TZOFFSETFROM:-0800
TZOFFSETTO:-0700
TZNAME:PDT
DTSTART:20250309T100000
END:DAYLIGHT
BEGIN:STANDARD
TZOFFSETFROM:-0700
TZOFFSETTO:-0800
TZNAME:PST
DTSTART:20251102T090000
END:STANDARD
END:VTIMEZONE
BEGIN:VEVENT
DTSTART;VALUE=DATE:20241001
DTEND;VALUE=DATE:20241101
DTSTAMP:20260425T142029
CREATED:20240811T003721Z
LAST-MODIFIED:20240811T003721Z
UID:39544-1727740800-1730419199@oldediblerenotahoe.com
SUMMARY:Black Lagoon at 40 Mile Saloon
DESCRIPTION:Returning for its fifth year\, but coming to Reno for the first time\, the Black Lagoon team is thrilled to announce its finalized list of 35+ extraordinary cocktail bars and cities across the globe that will be transformed into eerie\, spine-chilling haunts throughout October. This year’s pop-up will feature a bewitchingly curated cocktail menu with Halloween-themed drinks created by co-founders and bar maestros\, Kelsey Ramage and Erin Hayes.
URL:https://oldediblerenotahoe.com/event/black-lagoon-at-40-mile-saloon/
LOCATION:40 Mile Saloon
END:VEVENT
BEGIN:VEVENT
DTSTART;VALUE=DATE:20241012
DTEND;VALUE=DATE:20241018
DTSTAMP:20260425T142029
CREATED:20241003T012715Z
LAST-MODIFIED:20241003T012715Z
UID:40185-1728691200-1729209599@oldediblerenotahoe.com
SUMMARY:V&T Railroad's Pumpkin Patch Train
DESCRIPTION:Take a ride to find that perfect pumpkin on V&T Railroad’s Pumpkin Patch Train. Departing from the historic 1870 Depot and Gift Shop\, this scenic ride along the 150-year-old rail line will take guests through the eerie remnants of the Comstock Lode Mines and showcase stunning mountain views\, all leading to the enchanting Halloween Pumpkin Patch.
URL:https://oldediblerenotahoe.com/event/vt-railroads-pumpkin-patch-train/
LOCATION:NV
END:VEVENT
BEGIN:VEVENT
DTSTART;TZID=America/Los_Angeles:20241013T090000
DTEND;TZID=America/Los_Angeles:20241013T130000
DTSTAMP:20260425T142029
CREATED:20231103T014135Z
LAST-MODIFIED:20231103T014135Z
UID:35271-1728810000-1728824400@oldediblerenotahoe.com
SUMMARY:Riverside Farmers Market
DESCRIPTION:The Riverside Farmers Market stands as Reno’s authentic local market\, exclusively featuring vendors who cultivate\, rear\, or craft their products within the immediate vicinity of the city. Highlighting small-scale\, community-focused\, and sustainable farmers and ranchers\, the market is a testament to the belief that the foundation of healthy food lies in the health of the land. It also serves as a welcoming platform for Reno’s emerging agricultural talents\, providing a space for residents to connect with those who are dedicated to nourishing the Truckee Meadows community through locally grown produce.
URL:https://oldediblerenotahoe.com/event/riverside-farmers-market-3-2024-10-13/
LOCATION:Idlewild Park\, 1000 Cowan Dr.\, Reno\, NV\, 89509
CATEGORIES:Farmers Market,Shopping
END:VEVENT
BEGIN:VEVENT
DTSTART;TZID=America/Los_Angeles:20241013T100000
DTEND;TZID=America/Los_Angeles:20241013T130000
DTSTAMP:20260425T142029
CREATED:20241003T012518Z
LAST-MODIFIED:20241003T012518Z
UID:40181-1728813600-1728824400@oldediblerenotahoe.com
SUMMARY:Voices from the Past presented by Funtime Theater at Silver Terrace
DESCRIPTION:Silver Terrace Cemeteries and Funtime Theater present “Voices from the Past\,” a live production of Virginia City history. These shows allow you to “talk to the dead” as actors portray real 19th-century Comstockers.
URL:https://oldediblerenotahoe.com/event/voices-from-the-past-presented-by-funtime-theater-at-silver-terrace-2024-10-13/
LOCATION:Silver Terrace Cemeteries
END:VEVENT
BEGIN:VEVENT
DTSTART;TZID=America/Los_Angeles:20241013T100000
DTEND;TZID=America/Los_Angeles:20241013T130000
DTSTAMP:20260425T142029
CREATED:20241008T015321Z
LAST-MODIFIED:20241008T015321Z
UID:40249-1728813600-1728824400@oldediblerenotahoe.com
SUMMARY:Sourdough 101 Class
DESCRIPTION:with Guest Chef Franci Wilkinson from Etxea Bakery
URL:https://oldediblerenotahoe.com/event/sourdough-101-class/
LOCATION:Sierra Chef\, 2292 Main Street\, Genoa\, NV
END:VEVENT
BEGIN:VEVENT
DTSTART;TZID=America/Los_Angeles:20241013T100000
DTEND;TZID=America/Los_Angeles:20241013T180000
DTSTAMP:20260425T142029
CREATED:20240713T230225Z
LAST-MODIFIED:20240713T230225Z
UID:39440-1728813600-1728842400@oldediblerenotahoe.com
SUMMARY:42nd Annual Great Italian Festival
DESCRIPTION:During Columbus Day weekend\, The Great Italian Festival is a celebration of Italian culture and traditions. \nDowntown transforms into Little Italy with a sauce cooking contest\, lots of pasta\, an Italian farmers market\, food booths and incredible free\, live entertainment all weekend long.
URL:https://oldediblerenotahoe.com/event/42nd-annual-great-italian-festival-2024-10-13/
LOCATION:Downtown Reno
END:VEVENT
BEGIN:VEVENT
DTSTART;TZID=America/Los_Angeles:20241013T103000
DTEND;TZID=America/Los_Angeles:20241013T143000
DTSTAMP:20260425T142029
CREATED:20230922T193120Z
LAST-MODIFIED:20230922T193120Z
UID:36284-1728815400-1728829800@oldediblerenotahoe.com
SUMMARY:Sunday Music Brunch
DESCRIPTION:Sunday Music Brunch at the Nevada Museum of Art Café is the perfect precursor to an afternoon exploring galleries. Chef Colin Smith has updated the menu to include an eclectic array of options from traditional breakfast fare to lunch options–both of which pair nicely with juice\, coffee\, champagne or a mimosa. Enjoy live music by Colin Ross from 11:30 to 2:30. Doors open at 10:30 am and service continues until 2:30 pm. Reservations are required for parties of five or more\, but encouraged for all as space is limited. Museum members receive 10% savings as a benefit of membership. \nCall the Café at 775-284-2921 for more information.
URL:https://oldediblerenotahoe.com/event/sundaymusicbrunch-2024-10-13/
LOCATION:Nevada Museum of Art\, 160 West Liberty\, Reno\, Nevada\, 89501
CATEGORIES:Food & Drink,Music
ATTACH;FMTTYPE=image/jpeg:https://oldediblerenotahoe.com/wp-content/uploads/2023/09/Roundabout_CafeAtNMA-Spring2022-3186-768x432-1.jpg
END:VEVENT
BEGIN:VEVENT
DTSTART;TZID=America/Los_Angeles:20241013T110000
DTEND;TZID=America/Los_Angeles:20241013T140000
DTSTAMP:20260425T142029
CREATED:20240118T233839Z
LAST-MODIFIED:20240118T233839Z
UID:37165-1728817200-1728828000@oldediblerenotahoe.com
SUMMARY:Green College Class: Pumpkin Painting
DESCRIPTION:
URL:https://oldediblerenotahoe.com/event/pumpkinpainting-2024-10-13/
LOCATION:Rail City Garden Center\, 1720 Brierley Way\, Sparks\, NV\, 89434
CATEGORIES:Gardening
END:VEVENT
BEGIN:VEVENT
DTSTART;TZID=America/Los_Angeles:20241013T110000
DTEND;TZID=America/Los_Angeles:20241013T170000
DTSTAMP:20260425T142029
CREATED:20240713T210904Z
LAST-MODIFIED:20240713T210904Z
UID:39293-1728817200-1728838800@oldediblerenotahoe.com
SUMMARY:Made in Tahoe Festival
DESCRIPTION:Made in Tahoe is a vibrant celebration of all things local\, showcasing the best that the Lake Tahoe Basin and Truckee areas have to offer. Hosted at The Village at Palisades Tahoe\, this event features a diverse range of offerings that are either made or inspired by the community\, including local artisans\, businesses\, chefs\, organizations\, and entertainers. Immerse yourself in the unique and talented creations of our community\, and discover the essence of Tahoe. Additionally\, all proceeds from the Made in Tahoe bars will benefit the Tahoe Food Hub\, supporting a worthy cause while indulging in the flavors of the region.
URL:https://oldediblerenotahoe.com/event/made-in-tahoe-festival-3-2024-10-13/
LOCATION:The Village at Palisades Tahoe\, Olympic Valley\, CA
END:VEVENT
BEGIN:VEVENT
DTSTART;TZID=America/Los_Angeles:20241013T120000
DTEND;TZID=America/Los_Angeles:20241013T190000
DTSTAMP:20260425T142029
CREATED:20241003T012847Z
LAST-MODIFIED:20241003T012847Z
UID:40188-1728820800-1728846000@oldediblerenotahoe.com
SUMMARY:Haywagon and Horseless Carriage Rides
DESCRIPTION:Hop on a spooky Hay-wagon or Haunted Horseless Carriage for a thrilling ride through Virginia City. You’ll journey along C Street to the eerie Virginia City Cemetery and back\, all while enjoying haunting music and chilling tales of the past. Tickets are $25 per adult and $10 per child. Pick up will be next to Bucket of Blood Saloon.
URL:https://oldediblerenotahoe.com/event/haywagon-and-horseless-carriage-rides-2024-10-13/
LOCATION:NV
END:VEVENT
BEGIN:VEVENT
DTSTART;TZID=America/Los_Angeles:20241013T200000
DTEND;TZID=America/Los_Angeles:20241013T220000
DTSTAMP:20260425T142029
CREATED:20240713T224721Z
LAST-MODIFIED:20240713T224721Z
UID:39412-1728849600-1728856800@oldediblerenotahoe.com
SUMMARY:Judas Priest
DESCRIPTION:Judas Priest\, formed in 1969 in Birmingham\, England\, have reigned as heavy metal icons for over 50 years. Known for their pioneering sound and iconic leather-and-studs look\, they emerged with albums like “Sad Wings of Destiny” (1976) and achieved global fame in the “80s with classics such as “British Steel” (1980) and “Screaming for Vengeance” (1982). The arrival of drummer Scott Travis in 1990 heralded their heaviest release\, “Painkiller”. Despite lineup changes\, including Richie Faulkner joining in 2011\, the band”s legacy grew with “Firepower” (2018)\, their highest-charting album to date. Inducted into the Rock and Roll Hall of Fame in 2022\, they continue to dominate stages worldwide with their latest album “Invincible Shield” (2024) and ongoing global tour.
URL:https://oldediblerenotahoe.com/event/judas-priest/
LOCATION:Grand Sierra Resort\, 2500 E 2nd St\, Reno\, NV
END:VEVENT
END:VCALENDAR