BEGIN:VCALENDAR
VERSION:2.0
PRODID:-//Edible Reno-Tahoe - ECPv6.15.20//NONSGML v1.0//EN
CALSCALE:GREGORIAN
METHOD:PUBLISH
X-ORIGINAL-URL:https://oldediblerenotahoe.com
X-WR-CALDESC:Events for Edible Reno-Tahoe
REFRESH-INTERVAL;VALUE=DURATION:PT1H
X-Robots-Tag:noindex
X-PUBLISHED-TTL:PT1H
BEGIN:VTIMEZONE
TZID:America/Los_Angeles
BEGIN:DAYLIGHT
TZOFFSETFROM:-0800
TZOFFSETTO:-0700
TZNAME:PDT
DTSTART:20230312T100000
END:DAYLIGHT
BEGIN:STANDARD
TZOFFSETFROM:-0700
TZOFFSETTO:-0800
TZNAME:PST
DTSTART:20231105T090000
END:STANDARD
BEGIN:DAYLIGHT
TZOFFSETFROM:-0800
TZOFFSETTO:-0700
TZNAME:PDT
DTSTART:20240310T100000
END:DAYLIGHT
BEGIN:STANDARD
TZOFFSETFROM:-0700
TZOFFSETTO:-0800
TZNAME:PST
DTSTART:20241103T090000
END:STANDARD
BEGIN:DAYLIGHT
TZOFFSETFROM:-0800
TZOFFSETTO:-0700
TZNAME:PDT
DTSTART:20250309T100000
END:DAYLIGHT
BEGIN:STANDARD
TZOFFSETFROM:-0700
TZOFFSETTO:-0800
TZNAME:PST
DTSTART:20251102T090000
END:STANDARD
END:VTIMEZONE
BEGIN:VEVENT
DTSTART;VALUE=DATE:20241001
DTEND;VALUE=DATE:20241101
DTSTAMP:20260425T142107
CREATED:20240811T003721Z
LAST-MODIFIED:20240811T003721Z
UID:39544-1727740800-1730419199@oldediblerenotahoe.com
SUMMARY:Black Lagoon at 40 Mile Saloon
DESCRIPTION:Returning for its fifth year\, but coming to Reno for the first time\, the Black Lagoon team is thrilled to announce its finalized list of 35+ extraordinary cocktail bars and cities across the globe that will be transformed into eerie\, spine-chilling haunts throughout October. This year’s pop-up will feature a bewitchingly curated cocktail menu with Halloween-themed drinks created by co-founders and bar maestros\, Kelsey Ramage and Erin Hayes.
URL:https://oldediblerenotahoe.com/event/black-lagoon-at-40-mile-saloon/
LOCATION:40 Mile Saloon
END:VEVENT
BEGIN:VEVENT
DTSTART;VALUE=DATE:20241012
DTEND;VALUE=DATE:20241018
DTSTAMP:20260425T142107
CREATED:20241003T012715Z
LAST-MODIFIED:20241003T012715Z
UID:40185-1728691200-1729209599@oldediblerenotahoe.com
SUMMARY:V&T Railroad's Pumpkin Patch Train
DESCRIPTION:Take a ride to find that perfect pumpkin on V&T Railroad’s Pumpkin Patch Train. Departing from the historic 1870 Depot and Gift Shop\, this scenic ride along the 150-year-old rail line will take guests through the eerie remnants of the Comstock Lode Mines and showcase stunning mountain views\, all leading to the enchanting Halloween Pumpkin Patch.
URL:https://oldediblerenotahoe.com/event/vt-railroads-pumpkin-patch-train/
LOCATION:NV
END:VEVENT
BEGIN:VEVENT
DTSTART;TZID=America/Los_Angeles:20241014T180000
DTEND;TZID=America/Los_Angeles:20241014T203000
DTSTAMP:20260425T142107
CREATED:20240811T014650Z
LAST-MODIFIED:20240811T014650Z
UID:39668-1728928800-1728937800@oldediblerenotahoe.com
SUMMARY:Sushi\, Sashimi\, and Fish 201
DESCRIPTION:Take part in the preparation and sampling of these Japanese delicacies. Learn how to expertly cut fish to create nigiri and sashimi specialties. You don’t have to take Sushi 101 as a prerequisite to this class. $70 materials fee
URL:https://oldediblerenotahoe.com/event/sushi-sashimi-and-fish-201/
LOCATION:Café de Thai\, 760 S Virginia St\, Reno\, NV\, 89501
END:VEVENT
END:VCALENDAR