BEGIN:VCALENDAR
VERSION:2.0
PRODID:-//Edible Reno-Tahoe - ECPv6.15.20//NONSGML v1.0//EN
CALSCALE:GREGORIAN
METHOD:PUBLISH
X-ORIGINAL-URL:https://oldediblerenotahoe.com
X-WR-CALDESC:Events for Edible Reno-Tahoe
REFRESH-INTERVAL;VALUE=DURATION:PT1H
X-Robots-Tag:noindex
X-PUBLISHED-TTL:PT1H
BEGIN:VTIMEZONE
TZID:America/Los_Angeles
BEGIN:DAYLIGHT
TZOFFSETFROM:-0800
TZOFFSETTO:-0700
TZNAME:PDT
DTSTART:20230312T100000
END:DAYLIGHT
BEGIN:STANDARD
TZOFFSETFROM:-0700
TZOFFSETTO:-0800
TZNAME:PST
DTSTART:20231105T090000
END:STANDARD
BEGIN:DAYLIGHT
TZOFFSETFROM:-0800
TZOFFSETTO:-0700
TZNAME:PDT
DTSTART:20240310T100000
END:DAYLIGHT
BEGIN:STANDARD
TZOFFSETFROM:-0700
TZOFFSETTO:-0800
TZNAME:PST
DTSTART:20241103T090000
END:STANDARD
BEGIN:DAYLIGHT
TZOFFSETFROM:-0800
TZOFFSETTO:-0700
TZNAME:PDT
DTSTART:20250309T100000
END:DAYLIGHT
BEGIN:STANDARD
TZOFFSETFROM:-0700
TZOFFSETTO:-0800
TZNAME:PST
DTSTART:20251102T090000
END:STANDARD
END:VTIMEZONE
BEGIN:VEVENT
DTSTART;VALUE=DATE:20241001
DTEND;VALUE=DATE:20241101
DTSTAMP:20260425T141629
CREATED:20240811T003721Z
LAST-MODIFIED:20240811T003721Z
UID:39544-1727740800-1730419199@oldediblerenotahoe.com
SUMMARY:Black Lagoon at 40 Mile Saloon
DESCRIPTION:Returning for its fifth year\, but coming to Reno for the first time\, the Black Lagoon team is thrilled to announce its finalized list of 35+ extraordinary cocktail bars and cities across the globe that will be transformed into eerie\, spine-chilling haunts throughout October. This year’s pop-up will feature a bewitchingly curated cocktail menu with Halloween-themed drinks created by co-founders and bar maestros\, Kelsey Ramage and Erin Hayes.
URL:https://oldediblerenotahoe.com/event/black-lagoon-at-40-mile-saloon/
LOCATION:40 Mile Saloon
END:VEVENT
BEGIN:VEVENT
DTSTART;VALUE=DATE:20241018
DTEND;VALUE=DATE:20241019
DTSTAMP:20260425T141629
CREATED:20240912T161650Z
LAST-MODIFIED:20240912T161650Z
UID:39964-1729209600-1729295999@oldediblerenotahoe.com
SUMMARY:Andelin Farm Fall Festival
DESCRIPTION:
URL:https://oldediblerenotahoe.com/event/andelin-farm-fall-festival-2024-10-18/
LOCATION:Andelin Family Farm\, 8100 Pyramid Way\, Spanish Springs\, NV\, 89436
END:VEVENT
BEGIN:VEVENT
DTSTART;VALUE=DATE:20241018
DTEND;VALUE=DATE:20241019
DTSTAMP:20260425T141629
CREATED:20240912T161718Z
LAST-MODIFIED:20240912T161718Z
UID:39988-1729209600-1729295999@oldediblerenotahoe.com
SUMMARY:Andelin Farm 5-Acre Corn Maze
DESCRIPTION:
URL:https://oldediblerenotahoe.com/event/andelin-farm-5-acre-corn-maze-2024-10-18/
LOCATION:Andelin Family Farm\, 8100 Pyramid Way\, Spanish Springs\, NV\, 89436
END:VEVENT
BEGIN:VEVENT
DTSTART;VALUE=DATE:20241018
DTEND;VALUE=DATE:20241019
DTSTAMP:20260425T141629
CREATED:20240912T161833Z
LAST-MODIFIED:20240912T161833Z
UID:39947-1729209600-1729295999@oldediblerenotahoe.com
SUMMARY:Zombie Paintball & Corn Creepers
DESCRIPTION:
URL:https://oldediblerenotahoe.com/event/zombie-paintball-corn-creepers-2024-10-18/
LOCATION:Andelin Family Farm\, 8100 Pyramid Way\, Spanish Springs\, NV\, 89436
END:VEVENT
BEGIN:VEVENT
DTSTART;TZID=America/Los_Angeles:20241018T090000
DTEND;TZID=America/Los_Angeles:20241018T110000
DTSTAMP:20260425T141629
CREATED:20241003T014205Z
LAST-MODIFIED:20241003T014205Z
UID:40216-1729242000-1729249200@oldediblerenotahoe.com
SUMMARY:Little Gardeners: Pollinator Pals
DESCRIPTION:Are your little gardeners ready to make some new friends? Sign them up for our Pollinator Pals program! We’ll buzz into the fascinating world of pollinators\, searching for and observing these tiny garden helpers up close. We’ll be learning how to create safe spaces for our pals to thrive and help maintain healthy habitats for the essential creatures that keep our garden blooming. Don’t miss the opportunity to spark a little curiosity.
URL:https://oldediblerenotahoe.com/event/little-gardeners-pollinator-pals-2024-10-18/
LOCATION:Urban Teaching Farm\, 1700 E 2nd Street\, Reno\, NV\, 89502
END:VEVENT
BEGIN:VEVENT
DTSTART;TZID=America/Los_Angeles:20241018T110000
DTEND;TZID=America/Los_Angeles:20241018T133000
DTSTAMP:20260425T141629
CREATED:20240811T020248Z
LAST-MODIFIED:20240811T020248Z
UID:39706-1729249200-1729258200@oldediblerenotahoe.com
SUMMARY:Veterans Guest House Champagne Luncheon & Fashion Show
DESCRIPTION:
URL:https://oldediblerenotahoe.com/event/veterans-guest-house-champagne-luncheon-fashion-show/
LOCATION:Atlantis Casino Resort Spa\, 3800 S. Virginia Street\, Reno\, NV\, 89502\, United States
END:VEVENT
BEGIN:VEVENT
DTSTART;TZID=America/Los_Angeles:20241018T120000
DTEND;TZID=America/Los_Angeles:20241018T150000
DTSTAMP:20260425T141629
CREATED:20240811T013641Z
LAST-MODIFIED:20240811T013641Z
UID:39650-1729252800-1729263600@oldediblerenotahoe.com
SUMMARY:Backyard Beekeeping Class
DESCRIPTION:Discover what you need to do to keep happy\, healthy and productive bees\, as a hobby. Whether you want to keep bees for honey production\, improved pollination of your veggies\, or simply for the enjoyment of living in harmony with these amazing insects\, this class is for you.  Understand the environmental importance of honey bees as well as native bees and what it takes to raise them.  Learn about the equipment\, costs\, and environmental concerns about raising healthy colonies of honey bees in your back yard.  Learn traditional methods of maximizing honey production as well as more recent trends in “natural” beekeeping. Delve into their biology and husbandry needs\, bee problems and treatments\, harvesting and the many uses of bee products. Discuss initial and long-term investment costs. $10 materials fee
URL:https://oldediblerenotahoe.com/event/backyard-beekeeping-class-2024-10-18/
LOCATION:NV
END:VEVENT
BEGIN:VEVENT
DTSTART;TZID=America/Los_Angeles:20241018T160000
DTEND;TZID=America/Los_Angeles:20241018T210000
DTSTAMP:20260425T141629
CREATED:20240919T011632Z
LAST-MODIFIED:20240919T011632Z
UID:40146-1729267200-1729285200@oldediblerenotahoe.com
SUMMARY:The Pig Menu at Liberty Food & Wine Exchange
DESCRIPTION:A special menu with ala carte menu options using a whole pig philosophy alongside an expertly curated list of Whistle Pig Whiskey and cocktails.
URL:https://oldediblerenotahoe.com/event/the-pig-menu-at-liberty-food-wine-exchange-2024-10-18/
LOCATION:Liberty Food and Wine Exchange\, 100 N Sierra St\, Reno\, NV\, 89501
END:VEVENT
BEGIN:VEVENT
DTSTART;TZID=America/Los_Angeles:20241018T180000
DTEND;TZID=America/Los_Angeles:20241018T200000
DTSTAMP:20260425T141629
CREATED:20240811T010335Z
LAST-MODIFIED:20240811T010335Z
UID:39599-1729274400-1729281600@oldediblerenotahoe.com
SUMMARY:Girls Night Out - Fall Flavors Class
DESCRIPTION:
URL:https://oldediblerenotahoe.com/event/girls-night-out-fall-flavors-class/
LOCATION:Nothing To It!\, 225 Crummer Lane\, Reno\, NV\, 89502\, United States
END:VEVENT
BEGIN:VEVENT
DTSTART;TZID=America/Los_Angeles:20241018T180000
DTEND;TZID=America/Los_Angeles:20241018T210000
DTSTAMP:20260425T141629
CREATED:20241003T013850Z
LAST-MODIFIED:20241003T013850Z
UID:40207-1729274400-1729285200@oldediblerenotahoe.com
SUMMARY:"Herb" Your Enthusiasm
DESCRIPTION:Get ready for a spook-tacular evening at the farm for Haunted Hoops\, where we transform our farm into a Halloween playground full of chills\, thrills\, and haunted surprises. Enjoy fun for the whole family with crafts like eyeball props and spiderwebs and test your skills in the monster toss race. Don’t forget to stop by the caramel apple station for a sweet treat and warm up with hot chocolate\, or for the grown-ups\, a hot toddy! The Haunted Hoop House opens at 7:00 p.m.\, with different scare levels for the littles and the brave. We’re conjuring up two nights of fun this year\, so don’t ghost us! Join the fun!
URL:https://oldediblerenotahoe.com/event/herb-your-enthusiasm/
LOCATION:Urban Teaching Farm\, 1700 E 2nd Street\, Reno\, NV\, 89502
END:VEVENT
BEGIN:VEVENT
DTSTART;TZID=America/Los_Angeles:20241018T180000
DTEND;TZID=America/Los_Angeles:20241018T210000
DTSTAMP:20260425T141629
CREATED:20241021T190317Z
LAST-MODIFIED:20241021T190317Z
UID:40266-1729274400-1729285200@oldediblerenotahoe.com
SUMMARY:Namaste Diwaliwood
DESCRIPTION:Welcome to the dazzling world of Diwaliwood\, where ​the glamour of Hollywood meets the rich traditions of ​India in a cinematic celebration of food\, art\, and ​culture—all with a mission to provide 60\,000 meals ​through the Food Bank of Northern Nevada! \nSip on exquisite Indian whisky and chai\, savor festive ​cuisine crafted by top local restaurants\, and delight in ​the beauty of Bollywood dance and Indian fashion\, ​experience the artistry of henna and rangoli\, and ​embrace the soothing practices of Ayurveda during this ​unforgettable evening. \nThe vibrant spirit of Diwali and the Indian community ​will shine bright
URL:https://oldediblerenotahoe.com/event/namaste-diwaliwood/
LOCATION:National Automobile Museum\, 10 South Lake St.\, Reno\, 89501
END:VEVENT
BEGIN:VEVENT
DTSTART;TZID=America/Los_Angeles:20241018T180000
DTEND;TZID=America/Los_Angeles:20241018T210000
DTSTAMP:20260425T141629
CREATED:20241021T195712Z
LAST-MODIFIED:20241021T195712Z
UID:40374-1729274400-1729285200@oldediblerenotahoe.com
SUMMARY:Taste of Italy Dinner in the Cucina
DESCRIPTION:
URL:https://oldediblerenotahoe.com/event/taste-of-italy-dinner-in-the-cucina/
LOCATION:Sierra Chef\, 2292 Main Street\, Genoa\, NV
END:VEVENT
BEGIN:VEVENT
DTSTART;TZID=America/Los_Angeles:20241018T190000
DTEND;TZID=America/Los_Angeles:20241018T210000
DTSTAMP:20260425T141629
CREATED:20241021T194516Z
LAST-MODIFIED:20241021T194516Z
UID:40355-1729278000-1729285200@oldediblerenotahoe.com
SUMMARY:Italian Big Reds Dinner
DESCRIPTION:This will be a Course Tasting Menu with paired wines. Barolo and Brunello di Montalcino are among the world’s most celebrated wines. Taste the differences between Barolo (a highly tannic\, highly aromatic red wine made from Nebiolo grapes) and Brunello di Montalcino (a dense and powerful red wine made from 100% Sangiovese; generally less tannic\, lower alcohol and acidity).
URL:https://oldediblerenotahoe.com/event/italian-big-reds-dinner/
LOCATION:The Flavor Studio\, 5303 Louie Lane\, Suite 1\, Reno\, NV
END:VEVENT
BEGIN:VEVENT
DTSTART;TZID=America/Los_Angeles:20241018T200000
DTEND;TZID=America/Los_Angeles:20241018T220000
DTSTAMP:20260425T141629
CREATED:20240713T214052Z
LAST-MODIFIED:20240713T224438Z
UID:39379-1729281600-1729288800@oldediblerenotahoe.com
SUMMARY:Magique - The Show of Shows
DESCRIPTION:Magique is Reno’s resident five-star attraction that is sure to amaze and entertain audiences of all ages. Featuring a cast of 10\, Magique is a whirlwind of excitement with over 20 grand illusions\, 100+ elaborate handmade costumes\, an epic soundtrack\, and special effects galore. Magique is the perfect event for your night out in Reno. Magique is truly the show of shows with hundreds of rave reviews on TripAdvisor\, Yelp\, Google and Facebook. Don’t miss this unique Reno experience!
URL:https://oldediblerenotahoe.com/event/magique-the-show-of-shows-2024-10-18/
LOCATION:The Theatre\, 505 Keystone Ave\, Reno\, NV\, 89503
END:VEVENT
BEGIN:VEVENT
DTSTART;TZID=America/Los_Angeles:20241018T200000
DTEND;TZID=America/Los_Angeles:20241018T220000
DTSTAMP:20260425T141629
CREATED:20240713T224902Z
LAST-MODIFIED:20240713T224902Z
UID:39416-1729281600-1729288800@oldediblerenotahoe.com
SUMMARY:Intocable
DESCRIPTION:Intocable\, possibly one of the most influential groups in today’s Tejano music\, is celebrating thirty years of award-winning music\, racking up more than 20 Latin Top 10 hits along the way. \nTheir signature sound of strong hooks\, with tightly stacked vocal harmony\, and romantic story telling crafted fan favorites like Caminare\, Te Perdono\, Llueve\, Eso Duele\, Eres Mi Droga\, Amor Maldito\, and more. \nThe ride hasn’t been all smooth sailing\, however. In 1999\, the group tragically lost two band members\, José Ángel Farias and Silvestre Rodrigues\, plus their road manager José Ángel González in a car accident in Monterrey\, Nuevo León. Their 1999 album\, Contigo\, included chart-topping El Amgio Que Se Fue\, in honor of their fallen members\, created a whole new wave of fans and success for the group. \nIntocable has also become an award show standard\, with two Latin Grammy for Best Norteño Album in 2005 and 2013\, a Grammy for Best Norteño Album in 2011\, and a Billboard Latin Music Lifetime Achievement Award in 2012.
URL:https://oldediblerenotahoe.com/event/intocable/
LOCATION:Grand Sierra Resort\, 2500 E 2nd St\, Reno\, NV
END:VEVENT
END:VCALENDAR