BEGIN:VCALENDAR
VERSION:2.0
PRODID:-//Edible Reno-Tahoe - ECPv6.15.20//NONSGML v1.0//EN
CALSCALE:GREGORIAN
METHOD:PUBLISH
X-ORIGINAL-URL:https://oldediblerenotahoe.com
X-WR-CALDESC:Events for Edible Reno-Tahoe
REFRESH-INTERVAL;VALUE=DURATION:PT1H
X-Robots-Tag:noindex
X-PUBLISHED-TTL:PT1H
BEGIN:VTIMEZONE
TZID:America/Los_Angeles
BEGIN:DAYLIGHT
TZOFFSETFROM:-0800
TZOFFSETTO:-0700
TZNAME:PDT
DTSTART:20230312T100000
END:DAYLIGHT
BEGIN:STANDARD
TZOFFSETFROM:-0700
TZOFFSETTO:-0800
TZNAME:PST
DTSTART:20231105T090000
END:STANDARD
BEGIN:DAYLIGHT
TZOFFSETFROM:-0800
TZOFFSETTO:-0700
TZNAME:PDT
DTSTART:20240310T100000
END:DAYLIGHT
BEGIN:STANDARD
TZOFFSETFROM:-0700
TZOFFSETTO:-0800
TZNAME:PST
DTSTART:20241103T090000
END:STANDARD
BEGIN:DAYLIGHT
TZOFFSETFROM:-0800
TZOFFSETTO:-0700
TZNAME:PDT
DTSTART:20250309T100000
END:DAYLIGHT
BEGIN:STANDARD
TZOFFSETFROM:-0700
TZOFFSETTO:-0800
TZNAME:PST
DTSTART:20251102T090000
END:STANDARD
END:VTIMEZONE
BEGIN:VEVENT
DTSTART;VALUE=DATE:20241101
DTEND;VALUE=DATE:20241102
DTSTAMP:20260425T113212
CREATED:20240912T161718Z
LAST-MODIFIED:20240912T161718Z
UID:39998-1730419200-1730505599@oldediblerenotahoe.com
SUMMARY:Andelin Farm 5-Acre Corn Maze
DESCRIPTION:
URL:https://oldediblerenotahoe.com/event/andelin-farm-5-acre-corn-maze-2024-11-01/
LOCATION:Andelin Family Farm\, 8100 Pyramid Way\, Spanish Springs\, NV\, 89436
END:VEVENT
BEGIN:VEVENT
DTSTART;TZID=America/Los_Angeles:20241101T093000
DTEND;TZID=America/Los_Angeles:20241101T163000
DTSTAMP:20260425T113212
CREATED:20241021T195406Z
LAST-MODIFIED:20241021T195406Z
UID:40370-1730453400-1730478600@oldediblerenotahoe.com
SUMMARY:Joyce's 45th Annual Champagne Christmas Show
DESCRIPTION:Join Joyce’s Fine Jewelry for our 45th Annual Champagne Christmas Show Nov. 1st and 2nd. This is a tradition of the Carson Valley you won’t want to miss. For the last 45 years we have transformed Joyce’s in to a Holiday store filled with all kinds of sparkle and home decor!
URL:https://oldediblerenotahoe.com/event/joyces-45th-annual-champagne-christmas-show/
LOCATION:Joyce’s FIne Jewelry\, 1503 Hwy 395 North\, Ste. A\, Gardnerville\, NV\, 89410
END:VEVENT
BEGIN:VEVENT
DTSTART;TZID=America/Los_Angeles:20241101T180000
DTEND;TZID=America/Los_Angeles:20241101T213000
DTSTAMP:20260425T113212
CREATED:20241003T014857Z
LAST-MODIFIED:20241003T014857Z
UID:40237-1730484000-1730496600@oldediblerenotahoe.com
SUMMARY:Tahoe Forest Health System Foundation 75th Anniversary Celebration
DESCRIPTION:To celebrate our 75th anniversary we’re excited to bring back some of your favorite chefs from Best of Tahoe Chefs for an unforgettable evening of food\, wine\, and community spirit! Indulge in delicious appetizers crafted by renowned local Chefs paired with exclusive wines from Napa/Sonoma as we raise vital funds for Tahoe Forest Health System’s Area of Greatest Need. \nCelebrate 75 years of exceptional care at Tahoe Forest Health System and support the next 75 years of local healthcare while enjoying some of the best Chefs from around the lake.\nThe 75th Anniversary Celebration will feature the following incredible Chefs from around the lake! \n– Conor Ball\, Martis Camp\n– Will Burns\, Moody’s Bistro Bar & Beats\n– Douglas Dale – Wolfdale’s Cuisine Unique\n– Quinten Frye & Michael Murray\, Hen of the Woods Catering\n– Ben Knox & Russell Coffman\, Tahoe Forest Hospital\n– Pablo Martinez\, Drunken Monkey\n– Billy McCullough\, Dragonfly Eats\n– Andrew Shimer\, Sylva American Bistro\n– David Smith\, Tahoe Mountain Club\n– Alex Tolger\, Mogrog Rotisserie\n– Chris Watkins\, Six Peaks Grill\, Everline\n– Scott Yorkey\, Private Chef/Catering \nEach Chef will be partnered with a decadent winery providing a paired wine and a handpicked selection of varietals for tasting. \n– Big Basin Vineyards\n– VGS Chateaux Potelle\n– Easton Wines\n– Mauritson Wines\n– ONEHOPE Wine\n– Pride Mountain Vineyards\n– Truckee River Winery\n– Winery Sixteen 600 \nBoth General Admission and VIP ticket options are available. Those with VIP tickets are granted early admission to the celebration and an invitation to a special reception with Chef Billy McCullough and Pride Mountain Vineyards from 4PM – 5PM.
URL:https://oldediblerenotahoe.com/event/tahoe-forest-health-system-foundation-75th-anniversary-celebration/
LOCATION:North Tahoe Event Center\, 8318 N Lake Blvd.\, Kings Beach\, CA\, 96143
END:VEVENT
BEGIN:VEVENT
DTSTART;TZID=America/Los_Angeles:20241101T190000
DTEND;TZID=America/Los_Angeles:20241101T210000
DTSTAMP:20260425T113212
CREATED:20240913T042728Z
LAST-MODIFIED:20240913T042728Z
UID:40123-1730487600-1730494800@oldediblerenotahoe.com
SUMMARY:Australia's Thunder From Down Under
DESCRIPTION:The PERFECT Girl’s Night Outback! Australia’s HOTTEST Export – Thunder From Down Under – hits an intimate stage showing off chiseled bodies\, seductive dance routines\, cheeky humor\, and boy-next-door charm that you won’t be able to resist! \nEach sexy performer embodies a different female fantasy and brings it to life\, turning your wildest dreams into reality. Don’t miss your chance to get up close and personal with these Aussie hunks! Critics\, celebrities\, and fans from around the world rave that Thunder From Down Under is one of the best male revue shows. This show is the ultimate bachelorette party\, divorce party\, and girls’ night out destination.
URL:https://oldediblerenotahoe.com/event/australias-thunder-from-down-under/
LOCATION:Nugget Casino Resort\, 1100 Nugget Avenue\,\, Sparks\, NV
END:VEVENT
BEGIN:VEVENT
DTSTART;TZID=America/Los_Angeles:20241101T200000
DTEND;TZID=America/Los_Angeles:20241101T220000
DTSTAMP:20260425T113212
CREATED:20240713T225154Z
LAST-MODIFIED:20240713T225154Z
UID:39422-1730491200-1730498400@oldediblerenotahoe.com
SUMMARY:Marca MP
DESCRIPTION:At 22 years of age\, Chato – as fans and friends like to call him – is one of the most brilliant and disarmingly honest young artists in the ever crowded Regional Mexican field. The lead vocalist and principal songwriter with trio Marca MP\, Chato excels within a style that would be best described as regional urbano. \nMarca MP comprised by: Chato (vocalist and guitar\,) Omar Valdivia (guitar\,) and Ernesto Franco (tuba) plays romantic songs and old fashioned corridos but with a daring aesthetic – pared down to a backing of guitars\, bass and a solitary tuba. The banda sonics shine brightly in this minimalist framework\, generating an intense musical experience. \nMarca MP’s music is universal\, this is an apt description for music that has reached the hearts of individuals of all ages who identify themselves with their lyrics\, considering the group’s rapid rise to garner millions of streams and followers. \nThe band’s defining step in establishing themselves was re-recording “El Güero” as a duet with popular Tijuana outfit Grupo Firme. “I remember the morning the track was published we had 8\,000 followers on social media\,” says Chato. “When I got home later that night\, we had reached 20\,000. It was a very happy moment\, the beginning of something big.”
URL:https://oldediblerenotahoe.com/event/marca-mp/
LOCATION:Grand Sierra Resort\, 2500 E 2nd St\, Reno\, NV
END:VEVENT
END:VCALENDAR