BEGIN:VCALENDAR
VERSION:2.0
PRODID:-//Edible Reno-Tahoe - ECPv6.15.20//NONSGML v1.0//EN
CALSCALE:GREGORIAN
METHOD:PUBLISH
X-WR-CALNAME:Edible Reno-Tahoe
X-ORIGINAL-URL:https://oldediblerenotahoe.com
X-WR-CALDESC:Events for Edible Reno-Tahoe
REFRESH-INTERVAL;VALUE=DURATION:PT1H
X-Robots-Tag:noindex
X-PUBLISHED-TTL:PT1H
BEGIN:VTIMEZONE
TZID:America/Los_Angeles
BEGIN:DAYLIGHT
TZOFFSETFROM:-0800
TZOFFSETTO:-0700
TZNAME:PDT
DTSTART:20230312T100000
END:DAYLIGHT
BEGIN:STANDARD
TZOFFSETFROM:-0700
TZOFFSETTO:-0800
TZNAME:PST
DTSTART:20231105T090000
END:STANDARD
BEGIN:DAYLIGHT
TZOFFSETFROM:-0800
TZOFFSETTO:-0700
TZNAME:PDT
DTSTART:20240310T100000
END:DAYLIGHT
BEGIN:STANDARD
TZOFFSETFROM:-0700
TZOFFSETTO:-0800
TZNAME:PST
DTSTART:20241103T090000
END:STANDARD
BEGIN:DAYLIGHT
TZOFFSETFROM:-0800
TZOFFSETTO:-0700
TZNAME:PDT
DTSTART:20250309T100000
END:DAYLIGHT
BEGIN:STANDARD
TZOFFSETFROM:-0700
TZOFFSETTO:-0800
TZNAME:PST
DTSTART:20251102T090000
END:STANDARD
END:VTIMEZONE
BEGIN:VEVENT
DTSTART;VALUE=DATE:20241102
DTEND;VALUE=DATE:20241103
DTSTAMP:20260425T142119
CREATED:20240912T161718Z
LAST-MODIFIED:20240912T161718Z
UID:39999-1730505600-1730591999@oldediblerenotahoe.com
SUMMARY:Andelin Farm 5-Acre Corn Maze
DESCRIPTION:
URL:https://oldediblerenotahoe.com/event/andelin-farm-5-acre-corn-maze-2024-11-02/
LOCATION:Andelin Family Farm\, 8100 Pyramid Way\, Spanish Springs\, NV\, 89436
END:VEVENT
BEGIN:VEVENT
DTSTART;TZID=America/Los_Angeles:20241102T090000
DTEND;TZID=America/Los_Angeles:20241102T123000
DTSTAMP:20260425T142119
CREATED:20240811T015309Z
LAST-MODIFIED:20240811T015309Z
UID:39681-1730538000-1730550600@oldediblerenotahoe.com
SUMMARY:Middle Eastern Spices Class
DESCRIPTION:Boost your food flavors in exotic ways using the top 10 spices from the Middle East. Prepare and cook up to three simple\, savory recipes. Learn the best ways to store\, toast and grind spices and where to buy them locally. $15 materials fee
URL:https://oldediblerenotahoe.com/event/middle-eastern-spices-class/
LOCATION:Natural Grocers
END:VEVENT
BEGIN:VEVENT
DTSTART;TZID=America/Los_Angeles:20241102T093000
DTEND;TZID=America/Los_Angeles:20241102T110000
DTSTAMP:20260425T142119
CREATED:20241021T192744Z
LAST-MODIFIED:20241021T192744Z
UID:40309-1730539800-1730545200@oldediblerenotahoe.com
SUMMARY:Artisan Pizza & Focaccia Workshop
DESCRIPTION:
URL:https://oldediblerenotahoe.com/event/artisan-pizza-focaccia-workshop/
LOCATION:Nothing To It!\, 225 Crummer Lane\, Reno\, NV\, 89502\, United States
END:VEVENT
BEGIN:VEVENT
DTSTART;TZID=America/Los_Angeles:20241102T093000
DTEND;TZID=America/Los_Angeles:20241102T163000
DTSTAMP:20260425T142119
CREATED:20241021T195406Z
LAST-MODIFIED:20241021T195406Z
UID:40372-1730539800-1730565000@oldediblerenotahoe.com
SUMMARY:Joyce's 45th Annual Champagne Christmas Show
DESCRIPTION:Join Joyce’s Fine Jewelry for our 45th Annual Champagne Christmas Show Nov. 1st and 2nd. This is a tradition of the Carson Valley you won’t want to miss. For the last 45 years we have transformed Joyce’s in to a Holiday store filled with all kinds of sparkle and home decor!
URL:https://oldediblerenotahoe.com/event/joyces-45th-annual-champagne-christmas-show-2024-11-02/
LOCATION:Joyce’s FIne Jewelry\, 1503 Hwy 395 North\, Ste. A\, Gardnerville\, NV\, 89410
END:VEVENT
BEGIN:VEVENT
DTSTART;TZID=America/Los_Angeles:20241102T100000
DTEND;TZID=America/Los_Angeles:20241102T120000
DTSTAMP:20260425T142119
CREATED:20241021T200250Z
LAST-MODIFIED:20241021T200250Z
UID:40390-1730541600-1730548800@oldediblerenotahoe.com
SUMMARY:Thanksgiving Sides Class
DESCRIPTION:
URL:https://oldediblerenotahoe.com/event/thanksgiving-sides-class/
LOCATION:Sierra Chef\, 2292 Main Street\, Genoa\, NV
END:VEVENT
BEGIN:VEVENT
DTSTART;TZID=America/Los_Angeles:20241102T110000
DTEND;TZID=America/Los_Angeles:20241102T130000
DTSTAMP:20260425T142119
CREATED:20240811T015409Z
LAST-MODIFIED:20240811T015409Z
UID:39684-1730545200-1730552400@oldediblerenotahoe.com
SUMMARY:Taste of Scandinavia Class
DESCRIPTION:Velkommen! Get into the Ferie Ånd (holiday spirit) with demonstrations and sampling of classic Scandinavian foods. The Daughters of Norway will take you through a Norwegian Christmas journey by making lefsa\, meatballs\, desserts\, and a traditional treat called krumkake\, a delicious waffle cookie. Practice on your own when you take home a cookbook. This class is open to ages 8 and older.
URL:https://oldediblerenotahoe.com/event/taste-of-scandinavia-class/
LOCATION:Faith Lutheran Church
END:VEVENT
BEGIN:VEVENT
DTSTART;TZID=America/Los_Angeles:20241102T130000
DTEND;TZID=America/Los_Angeles:20241102T150000
DTSTAMP:20260425T142119
CREATED:20240913T032008Z
LAST-MODIFIED:20240913T032008Z
UID:40041-1730552400-1730559600@oldediblerenotahoe.com
SUMMARY:Vanilla & Almond Extract Spirit Making Class
DESCRIPTION:
URL:https://oldediblerenotahoe.com/event/vanilla-almond-extract-spirit-making-class/
LOCATION:High Mark Distillery\, 4690 Longley Lane\, Unit 28\, Reno\, Nevada\, 89502
END:VEVENT
BEGIN:VEVENT
DTSTART;TZID=America/Los_Angeles:20241102T150000
DTEND;TZID=America/Los_Angeles:20241102T200000
DTSTAMP:20260425T142119
CREATED:20240913T032955Z
LAST-MODIFIED:20240913T032955Z
UID:40057-1730559600-1730577600@oldediblerenotahoe.com
SUMMARY:Mountain Bounty Farm's Harvest Festival & Pig Roast
DESCRIPTION:This is an event you won’t want to miss! Indulge in mouthwatering food\, including a Pig Roast and a farm-fresh feast prepared straight from our fields by the talented team of Chefs Sycamore (Loaves and Fishes Catering Collective) Lauren & Friends. \nAfter you’ve savored your farm-to-fork meal\, the fun continues with live music and a lively square dance led by our local stars\, Emilie Rose (of “Two Runner)\, Thomas Angell\, and Friends! \nThree Forks Bakery and Brewery beer will be available for purchase\, as well as exciting free activities for the whole family\, including crafts and games! Tour the Farm with Mountain Bounty Farm’s owner and founder John Tecklin and learn about the beautiful fields where your food comes from! Plus you will be entertained throughout by our amazingly talented farmers.
URL:https://oldediblerenotahoe.com/event/mountain-bounty-farms-harvest-festival-pig-roast/
LOCATION:Mountain Bounty Farm\, 11438 Birchville Road\, Nevada City\, CA
END:VEVENT
BEGIN:VEVENT
DTSTART;TZID=America/Los_Angeles:20241102T180000
DTEND;TZID=America/Los_Angeles:20241102T210000
DTSTAMP:20260425T142119
CREATED:20241021T191253Z
LAST-MODIFIED:20241021T191253Z
UID:40279-1730570400-1730581200@oldediblerenotahoe.com
SUMMARY:17th Annual Passport to Dining
DESCRIPTION:Enjoy a delicious and fun evening of unlimited tastings to excite the palate – featuring ~25 tasting stations including restaurants\, caterers\, breweries\, and wineries. While enjoying tastings\, attendees may purchase raffle tickets and bid on silent auction items and packages. The auction and raffle are recognized as one of the best in North Lake Tahoe featuring Northern California Getaway Packages and many additional valuable items.
URL:https://oldediblerenotahoe.com/event/17th-annual-passport-to-dining-2/
LOCATION:North Tahoe Event Center\, 8318 N Lake Blvd.\, Kings Beach\, CA\, 96143
END:VEVENT
BEGIN:VEVENT
DTSTART;TZID=America/Los_Angeles:20241102T190000
DTEND;TZID=America/Los_Angeles:20241102T210000
DTSTAMP:20260425T142119
CREATED:20240913T042728Z
LAST-MODIFIED:20240913T042728Z
UID:40124-1730574000-1730581200@oldediblerenotahoe.com
SUMMARY:Australia's Thunder From Down Under
DESCRIPTION:The PERFECT Girl’s Night Outback! Australia’s HOTTEST Export – Thunder From Down Under – hits an intimate stage showing off chiseled bodies\, seductive dance routines\, cheeky humor\, and boy-next-door charm that you won’t be able to resist! \nEach sexy performer embodies a different female fantasy and brings it to life\, turning your wildest dreams into reality. Don’t miss your chance to get up close and personal with these Aussie hunks! Critics\, celebrities\, and fans from around the world rave that Thunder From Down Under is one of the best male revue shows. This show is the ultimate bachelorette party\, divorce party\, and girls’ night out destination.
URL:https://oldediblerenotahoe.com/event/australias-thunder-from-down-under-2024-11-02/
LOCATION:Nugget Casino Resort\, 1100 Nugget Avenue\,\, Sparks\, NV
END:VEVENT
BEGIN:VEVENT
DTSTART;TZID=America/Los_Angeles:20241102T193000
DTEND;TZID=America/Los_Angeles:20241102T213000
DTSTAMP:20260425T142119
CREATED:20240913T035107Z
LAST-MODIFIED:20240913T035107Z
UID:40069-1730575800-1730583000@oldediblerenotahoe.com
SUMMARY:Warren Miller's 75
DESCRIPTION:
URL:https://oldediblerenotahoe.com/event/warren-millers-75/
LOCATION:Pioneer Center\, 100 S. Virginia St.\, Reno\, NV\, 89501
END:VEVENT
BEGIN:VEVENT
DTSTART;TZID=America/Los_Angeles:20241102T200000
DTEND;TZID=America/Los_Angeles:20241102T220000
DTSTAMP:20260425T142119
CREATED:20240713T214052Z
LAST-MODIFIED:20240713T214052Z
UID:39383-1730577600-1730584800@oldediblerenotahoe.com
SUMMARY:Magique - The Show of Shows
DESCRIPTION:Magique is Reno’s resident five-star attraction that is sure to amaze and entertain audiences of all ages. Featuring a cast of 10\, Magique is a whirlwind of excitement with over 20 grand illusions\, 100+ elaborate handmade costumes\, an epic soundtrack\, and special effects galore. Magique is the perfect event for your night out in Reno. Magique is truly the show of shows with hundreds of rave reviews on TripAdvisor\, Yelp\, Google and Facebook. Don’t miss this unique Reno experience!
URL:https://oldediblerenotahoe.com/event/magique-the-show-of-shows-2024-11-02/
LOCATION:The Theatre\, 505 Keystone Ave\, Reno\, NV\, 89503
END:VEVENT
BEGIN:VEVENT
DTSTART;TZID=America/Los_Angeles:20241102T200000
DTEND;TZID=America/Los_Angeles:20241102T220000
DTSTAMP:20260425T142119
CREATED:20240913T040540Z
LAST-MODIFIED:20240913T040540Z
UID:40097-1730577600-1730584800@oldediblerenotahoe.com
SUMMARY:Earthquake
DESCRIPTION:Join Grand Sierra Resort for a night of laughter with Earthquake\, the legendary comedian known for his sharp wit and unforgettable humor. With nearly 30 years of selling out shows across the globe\, Earthquake has become a household name in comedy\, celebrated for his critically acclaimed Netflix special Chappelle’s Home Team – Earthquake: Legendary and iconic roles on Everybody Hates Chris and The Neighborhood.
URL:https://oldediblerenotahoe.com/event/earthquake/
LOCATION:Grand Sierra Resort\, 2500 E 2nd St\, Reno\, NV
END:VEVENT
END:VCALENDAR