BEGIN:VCALENDAR
VERSION:2.0
PRODID:-//Edible Reno-Tahoe - ECPv6.15.20//NONSGML v1.0//EN
CALSCALE:GREGORIAN
METHOD:PUBLISH
X-WR-CALNAME:Edible Reno-Tahoe
X-ORIGINAL-URL:https://oldediblerenotahoe.com
X-WR-CALDESC:Events for Edible Reno-Tahoe
REFRESH-INTERVAL;VALUE=DURATION:PT1H
X-Robots-Tag:noindex
X-PUBLISHED-TTL:PT1H
BEGIN:VTIMEZONE
TZID:America/Los_Angeles
BEGIN:DAYLIGHT
TZOFFSETFROM:-0800
TZOFFSETTO:-0700
TZNAME:PDT
DTSTART:20230312T100000
END:DAYLIGHT
BEGIN:STANDARD
TZOFFSETFROM:-0700
TZOFFSETTO:-0800
TZNAME:PST
DTSTART:20231105T090000
END:STANDARD
BEGIN:DAYLIGHT
TZOFFSETFROM:-0800
TZOFFSETTO:-0700
TZNAME:PDT
DTSTART:20240310T100000
END:DAYLIGHT
BEGIN:STANDARD
TZOFFSETFROM:-0700
TZOFFSETTO:-0800
TZNAME:PST
DTSTART:20241103T090000
END:STANDARD
BEGIN:DAYLIGHT
TZOFFSETFROM:-0800
TZOFFSETTO:-0700
TZNAME:PDT
DTSTART:20250309T100000
END:DAYLIGHT
BEGIN:STANDARD
TZOFFSETFROM:-0700
TZOFFSETTO:-0800
TZNAME:PST
DTSTART:20251102T090000
END:STANDARD
END:VTIMEZONE
BEGIN:VEVENT
DTSTART;TZID=America/Los_Angeles:20241103T080000
DTEND;TZID=America/Los_Angeles:20241103T100000
DTSTAMP:20260425T130332
CREATED:20240913T034537Z
LAST-MODIFIED:20240913T034537Z
UID:40064-1730620800-1730628000@oldediblerenotahoe.com
SUMMARY:Birds in the Garden
DESCRIPTION:Experience an early morning walk as Lauren Whitenack guides us in exploring the varied habitat in and around the Wilbur D. May Arboretum and Botanical Garden\, observing different bird species\, wildlife and more.
URL:https://oldediblerenotahoe.com/event/birds-in-the-garden-2-2024-11-03/
LOCATION:Wilbur D. May Arboretum and Botanical Garden\, Reno
END:VEVENT
BEGIN:VEVENT
DTSTART;TZID=America/Los_Angeles:20241103T090000
DTEND;TZID=America/Los_Angeles:20241103T130000
DTSTAMP:20260425T130332
CREATED:20231103T014135Z
LAST-MODIFIED:20231103T014135Z
UID:35274-1730624400-1730638800@oldediblerenotahoe.com
SUMMARY:Riverside Farmers Market
DESCRIPTION:The Riverside Farmers Market stands as Reno’s authentic local market\, exclusively featuring vendors who cultivate\, rear\, or craft their products within the immediate vicinity of the city. Highlighting small-scale\, community-focused\, and sustainable farmers and ranchers\, the market is a testament to the belief that the foundation of healthy food lies in the health of the land. It also serves as a welcoming platform for Reno’s emerging agricultural talents\, providing a space for residents to connect with those who are dedicated to nourishing the Truckee Meadows community through locally grown produce.
URL:https://oldediblerenotahoe.com/event/riverside-farmers-market-3-2024-11-03/
LOCATION:Idlewild Park\, 1000 Cowan Dr.\, Reno\, NV\, 89509
CATEGORIES:Farmers Market,Shopping
END:VEVENT
BEGIN:VEVENT
DTSTART;TZID=America/Los_Angeles:20241103T100000
DTEND;TZID=America/Los_Angeles:20241103T120000
DTSTAMP:20260425T130332
CREATED:20241021T200327Z
LAST-MODIFIED:20241021T200327Z
UID:40392-1730628000-1730635200@oldediblerenotahoe.com
SUMMARY:Guest Chef Charlie Abowd - Lamb Class
DESCRIPTION:
URL:https://oldediblerenotahoe.com/event/guest-chef-charlie-abowd-lamb-class/
LOCATION:Sierra Chef\, 2292 Main Street\, Genoa\, NV
END:VEVENT
BEGIN:VEVENT
DTSTART;TZID=America/Los_Angeles:20241103T103000
DTEND;TZID=America/Los_Angeles:20241103T143000
DTSTAMP:20260425T130332
CREATED:20230922T193120Z
LAST-MODIFIED:20230922T193120Z
UID:36287-1730629800-1730644200@oldediblerenotahoe.com
SUMMARY:Sunday Music Brunch
DESCRIPTION:Sunday Music Brunch at the Nevada Museum of Art Café is the perfect precursor to an afternoon exploring galleries. Chef Colin Smith has updated the menu to include an eclectic array of options from traditional breakfast fare to lunch options–both of which pair nicely with juice\, coffee\, champagne or a mimosa. Enjoy live music by Colin Ross from 11:30 to 2:30. Doors open at 10:30 am and service continues until 2:30 pm. Reservations are required for parties of five or more\, but encouraged for all as space is limited. Museum members receive 10% savings as a benefit of membership. \nCall the Café at 775-284-2921 for more information.
URL:https://oldediblerenotahoe.com/event/sundaymusicbrunch-2024-11-03/
LOCATION:Nevada Museum of Art\, 160 West Liberty\, Reno\, Nevada\, 89501
CATEGORIES:Food & Drink,Music
ATTACH;FMTTYPE=image/jpeg:https://oldediblerenotahoe.com/wp-content/uploads/2023/09/Roundabout_CafeAtNMA-Spring2022-3186-768x432-1.jpg
END:VEVENT
BEGIN:VEVENT
DTSTART;TZID=America/Los_Angeles:20241103T200000
DTEND;TZID=America/Los_Angeles:20241103T220000
DTSTAMP:20260425T130332
CREATED:20240713T225246Z
LAST-MODIFIED:20240713T225246Z
UID:39424-1730664000-1730671200@oldediblerenotahoe.com
SUMMARY:The Psychedelic Furs & The Jesus and Mary Chain
DESCRIPTION:Join us for an unforgettable night at Grand Sierra Resort’s Grand Theatre\, as two iconic bands\, The Psychedelic Furs and The Jesus and Mary Chain\, take the stage. Prepare to be transported by the mesmerizing sounds and timeless hits of these legendary bands\, each known for their profound influence on the post-punk and alternative rock scenes. \nThe Psychedelic Furs\, fronted by the charismatic Richard Butler\, have captivated audiences for decades with their signature blend of haunting melodies and thought-provoking lyrics. From the anthemic “Pretty in Pink” to the atmospheric “Love My Way\,” their music remains as compelling and relevant as ever. \nSharing the stage\, The Jesus and Mary Chain\, led by the enigmatic Reid brothers\, will deliver their iconic wall of sound. Known for their raw energy and unforgettable tracks like “Just Like Honey” and “April Skies\,” they continue to leave a lasting mark on fans new and old.
URL:https://oldediblerenotahoe.com/event/the-psychedelic-furs-the-jesus-and-mary-chain/
LOCATION:Grand Sierra Resort\, 2500 E 2nd St\, Reno\, NV
END:VEVENT
END:VCALENDAR