BEGIN:VCALENDAR
VERSION:2.0
PRODID:-//Edible Reno-Tahoe - ECPv6.15.20//NONSGML v1.0//EN
CALSCALE:GREGORIAN
METHOD:PUBLISH
X-WR-CALNAME:Edible Reno-Tahoe
X-ORIGINAL-URL:https://oldediblerenotahoe.com
X-WR-CALDESC:Events for Edible Reno-Tahoe
REFRESH-INTERVAL;VALUE=DURATION:PT1H
X-Robots-Tag:noindex
X-PUBLISHED-TTL:PT1H
BEGIN:VTIMEZONE
TZID:America/Los_Angeles
BEGIN:DAYLIGHT
TZOFFSETFROM:-0800
TZOFFSETTO:-0700
TZNAME:PDT
DTSTART:20230312T100000
END:DAYLIGHT
BEGIN:STANDARD
TZOFFSETFROM:-0700
TZOFFSETTO:-0800
TZNAME:PST
DTSTART:20231105T090000
END:STANDARD
BEGIN:DAYLIGHT
TZOFFSETFROM:-0800
TZOFFSETTO:-0700
TZNAME:PDT
DTSTART:20240310T100000
END:DAYLIGHT
BEGIN:STANDARD
TZOFFSETFROM:-0700
TZOFFSETTO:-0800
TZNAME:PST
DTSTART:20241103T090000
END:STANDARD
BEGIN:DAYLIGHT
TZOFFSETFROM:-0800
TZOFFSETTO:-0700
TZNAME:PDT
DTSTART:20250309T100000
END:DAYLIGHT
BEGIN:STANDARD
TZOFFSETFROM:-0700
TZOFFSETTO:-0800
TZNAME:PST
DTSTART:20251102T090000
END:STANDARD
END:VTIMEZONE
BEGIN:VEVENT
DTSTART;TZID=America/Los_Angeles:20241108T180000
DTEND;TZID=America/Los_Angeles:20241108T220000
DTSTAMP:20260425T130334
CREATED:20240713T205252Z
LAST-MODIFIED:20240713T205252Z
UID:39239-1731088800-1731103200@oldediblerenotahoe.com
SUMMARY:Chemistry of the Cocktail
DESCRIPTION:Boogie on down to The Discovery for Chemistry of the Cocktail\, the museum’s 12th annual super-cool fundraising event that explores the science of mixology. Find out what’s crackin’ with disco-inspired libations\, enjoy groovy fare created by the experts at Blend\, and take part in outta sight hands-on activities designed to convey you back to the fun and funky 1970s era—all while providing crucial financial support for The Discovery.
URL:https://oldediblerenotahoe.com/event/chemistry-of-the-cocktail/
LOCATION:Terry Lee Wells Discovery Museum\, 490 S. Center Street\, Reno\, NV\, 89501
END:VEVENT
BEGIN:VEVENT
DTSTART;TZID=America/Los_Angeles:20241108T190000
DTEND;TZID=America/Los_Angeles:20241108T210000
DTSTAMP:20260425T130334
CREATED:20241021T194844Z
LAST-MODIFIED:20241021T194844Z
UID:40363-1731092400-1731099600@oldediblerenotahoe.com
SUMMARY:Grilled Cheese and Vino Night
DESCRIPTION:This dinner will be 4 Grilled Cheeses with added small salad and paired with 4 wines.
URL:https://oldediblerenotahoe.com/event/grilled-cheese-and-vino-night/
LOCATION:The Flavor Studio\, 5303 Louie Lane\, Suite 1\, Reno\, NV
END:VEVENT
BEGIN:VEVENT
DTSTART;TZID=America/Los_Angeles:20241108T200000
DTEND;TZID=America/Los_Angeles:20241108T220000
DTSTAMP:20260425T130334
CREATED:20240713T225333Z
LAST-MODIFIED:20240713T225333Z
UID:39426-1731096000-1731103200@oldediblerenotahoe.com
SUMMARY:KC and the Sunshine Band
DESCRIPTION:KC and the Sunshine Band are still as widely popular today as they were when they first danced into the music scene 50 years ago. Harry Wayne Casey—KC for short—developed a unique fusion of R&B and funk\, with a hint of a Latin percussion groove\, giving us an impressive string of hits like “Get Down Tonight\,” “That’s The Way (I Like It)” and “Shake Your Booty.” With sales of over 100 million records\, nine Grammy nominations\, three Grammy Awards and an American Music Award\, KC and the Sunshine Band was one of the most progressive bands of the 70s and is credited with changing the sound of modern pop music. Today\, KC and the Sunshine Band play over 100 live shows annually\, circling the country and playing dates regularly throughout Europe\, Australia and South America. This year KC will celebrate 50 years of entertaining us\, writing songs\, and performing around the world and has no intention of stopping.
URL:https://oldediblerenotahoe.com/event/kc-and-the-sunshine-band/
LOCATION:Grand Sierra Resort\, 2500 E 2nd St\, Reno\, NV
END:VEVENT
END:VCALENDAR