BEGIN:VCALENDAR
VERSION:2.0
PRODID:-//Edible Reno-Tahoe - ECPv6.15.20//NONSGML v1.0//EN
CALSCALE:GREGORIAN
METHOD:PUBLISH
X-WR-CALNAME:Edible Reno-Tahoe
X-ORIGINAL-URL:https://oldediblerenotahoe.com
X-WR-CALDESC:Events for Edible Reno-Tahoe
REFRESH-INTERVAL;VALUE=DURATION:PT1H
X-Robots-Tag:noindex
X-PUBLISHED-TTL:PT1H
BEGIN:VTIMEZONE
TZID:America/Los_Angeles
BEGIN:DAYLIGHT
TZOFFSETFROM:-0800
TZOFFSETTO:-0700
TZNAME:PDT
DTSTART:20230312T100000
END:DAYLIGHT
BEGIN:STANDARD
TZOFFSETFROM:-0700
TZOFFSETTO:-0800
TZNAME:PST
DTSTART:20231105T090000
END:STANDARD
BEGIN:DAYLIGHT
TZOFFSETFROM:-0800
TZOFFSETTO:-0700
TZNAME:PDT
DTSTART:20240310T100000
END:DAYLIGHT
BEGIN:STANDARD
TZOFFSETFROM:-0700
TZOFFSETTO:-0800
TZNAME:PST
DTSTART:20241103T090000
END:STANDARD
BEGIN:DAYLIGHT
TZOFFSETFROM:-0800
TZOFFSETTO:-0700
TZNAME:PDT
DTSTART:20250309T100000
END:DAYLIGHT
BEGIN:STANDARD
TZOFFSETFROM:-0700
TZOFFSETTO:-0800
TZNAME:PST
DTSTART:20251102T090000
END:STANDARD
END:VTIMEZONE
BEGIN:VEVENT
DTSTART;TZID=America/Los_Angeles:20241109T090000
DTEND;TZID=America/Los_Angeles:20241109T120000
DTSTAMP:20260425T142119
CREATED:20240811T014117Z
LAST-MODIFIED:20240811T014117Z
UID:39658-1731142800-1731153600@oldediblerenotahoe.com
SUMMARY:Coffee 301: Brew Like a Barista
DESCRIPTION:Embrace your inner barista\, save a trip to the cafe and use the knowledge you gained from Coffee 101 and 201. Practice proper espresso shot extraction and milk spinning for specialty drinks like lattes and cappuccinos. Gain hands-on experience with a Chemex coffee maker\, v60 single cup pour-over\, French press and more. Take home a bag of local coffee to complement your favorite brewing method. $10 materials fee
URL:https://oldediblerenotahoe.com/event/coffee-301-brew-like-a-barista/
LOCATION:Hub Coffee Roasters\, 727 Riverside Drive\, Reno\, NV\, 89503\, United States
END:VEVENT
BEGIN:VEVENT
DTSTART;TZID=America/Los_Angeles:20241109T093000
DTEND;TZID=America/Los_Angeles:20241109T110000
DTSTAMP:20260425T142119
CREATED:20241021T192910Z
LAST-MODIFIED:20241021T192910Z
UID:40313-1731144600-1731150000@oldediblerenotahoe.com
SUMMARY:New Orleans Brunch Workshop
DESCRIPTION:
URL:https://oldediblerenotahoe.com/event/new-orleans-brunch-workshop/
LOCATION:Nothing To It!\, 225 Crummer Lane\, Reno\, NV\, 89502\, United States
END:VEVENT
BEGIN:VEVENT
DTSTART;TZID=America/Los_Angeles:20241109T100000
DTEND;TZID=America/Los_Angeles:20241109T120000
DTSTAMP:20260425T142119
CREATED:20241021T200409Z
LAST-MODIFIED:20241021T200409Z
UID:40394-1731146400-1731153600@oldediblerenotahoe.com
SUMMARY:Guest Chef Franci Wilkinson - Chicken and Sourdough Waffles Class
DESCRIPTION:
URL:https://oldediblerenotahoe.com/event/guest-chef-franci-wilkinson-chicken-and-sourdough-waffles-class/
LOCATION:Sierra Chef\, 2292 Main Street\, Genoa\, NV
END:VEVENT
BEGIN:VEVENT
DTSTART;TZID=America/Los_Angeles:20241109T100000
DTEND;TZID=America/Los_Angeles:20241109T120000
DTSTAMP:20260425T142119
CREATED:20241104T194140Z
LAST-MODIFIED:20241104T194140Z
UID:40634-1731146400-1731153600@oldediblerenotahoe.com
SUMMARY:Dead Plant Society: Garlic Planting & Pickling
DESCRIPTION:Don’t be shy\, get up clove and personal with us! In this workshop\, you’ll learn all about choosing varieties suited for our region\, planting techniques and garlic care through its life cycle. Plus\, you’ll quick-pickle a jar of cloves to take home! Katie Colling and Cindy Gallimore from Soil Solidarity will share tips on healthy soils and community gardening. Each participant leaves with pickled garlic and cloves to plant\, and one lucky Dead Plant Society raffle winner will score a special garden tool.
URL:https://oldediblerenotahoe.com/event/dead-plant-society-garlic-planting-pickling/
LOCATION:Urban Teaching Farm\, 1700 E 2nd Street\, Reno\, NV\, 89502
END:VEVENT
BEGIN:VEVENT
DTSTART;TZID=America/Los_Angeles:20241109T100000
DTEND;TZID=America/Los_Angeles:20241109T180000
DTSTAMP:20260425T142119
CREATED:20231216T223823Z
LAST-MODIFIED:20231216T223823Z
UID:36096-1731146400-1731175200@oldediblerenotahoe.com
SUMMARY:Hands ON! Second Saturday
DESCRIPTION:Estelle J. Kelsey Foundation Hands ON! Second Saturdays offers monthly free admission\, hands-on art activities\, storytelling\, docent-guided tours\, live performances\, and community collaborations.  “Art Expeditions” provides children the opportunity to engage with Museum staff and take a closer look at current work on view. New exhibitions\, community collaborations\, guest performances and monthly themes rotate in this engaging series of monthly programs.
URL:https://oldediblerenotahoe.com/event/hands-on-second-saturday-2024-11-09/
LOCATION:Nevada Museum of Art\, 160 West Liberty\, Reno\, Nevada\, 89501
CATEGORIES:Arts,Community Class
END:VEVENT
BEGIN:VEVENT
DTSTART;TZID=America/Los_Angeles:20241109T130000
DTEND;TZID=America/Los_Angeles:20241109T150000
DTSTAMP:20260425T142119
CREATED:20240913T032038Z
LAST-MODIFIED:20240913T032038Z
UID:40043-1731157200-1731164400@oldediblerenotahoe.com
SUMMARY:Bacon Whiskey Spirit Making Class
DESCRIPTION:
URL:https://oldediblerenotahoe.com/event/bacon-whiskey-spirit-making-class/
LOCATION:High Mark Distillery\, 4690 Longley Lane\, Unit 28\, Reno\, Nevada\, 89502
END:VEVENT
BEGIN:VEVENT
DTSTART;TZID=America/Los_Angeles:20241109T180000
DTEND;TZID=America/Los_Angeles:20241109T200000
DTSTAMP:20260425T142119
CREATED:20240811T012105Z
LAST-MODIFIED:20240811T012105Z
UID:39616-1731175200-1731182400@oldediblerenotahoe.com
SUMMARY:Reno Chamber Orchestra's Twenty-Somethings
DESCRIPTION:
URL:https://oldediblerenotahoe.com/event/reno-chamber-orchestras-twenty-somethings/
LOCATION:Nightingale Concert Hall\, 1335 N Virginia St\, Reno\, NV
END:VEVENT
BEGIN:VEVENT
DTSTART;TZID=America/Los_Angeles:20241109T180000
DTEND;TZID=America/Los_Angeles:20241109T220000
DTSTAMP:20260425T142119
CREATED:20240415T032202Z
LAST-MODIFIED:20240415T032202Z
UID:38159-1731175200-1731189600@oldediblerenotahoe.com
SUMMARY:Fantasies in Chocolate
DESCRIPTION:Fantasies in Chocolate is Northern Nevada’s premier fall event. The formal event features more than 50 confectioners\, chefs\, and mixologists from around the region\, world-renowned entertainment\, a silent auction\, extravagant décor\, and surprises. Guests are treated to unlimited samples from the vendors as well as unlimited drinks. The event unveils a new theme each year. Fantasies in Chocolate benefits deserving\, local non-profits.
URL:https://oldediblerenotahoe.com/event/fantasies-in-chocolate-2/
LOCATION:Grand Sierra Resort\, 2500 E 2nd St\, Reno\, NV
CATEGORIES:Food & Drink
END:VEVENT
BEGIN:VEVENT
DTSTART;TZID=America/Los_Angeles:20241109T200000
DTEND;TZID=America/Los_Angeles:20241109T220000
DTSTAMP:20260425T142119
CREATED:20240713T214052Z
LAST-MODIFIED:20240713T214052Z
UID:39384-1731182400-1731189600@oldediblerenotahoe.com
SUMMARY:Magique - The Show of Shows
DESCRIPTION:Magique is Reno’s resident five-star attraction that is sure to amaze and entertain audiences of all ages. Featuring a cast of 10\, Magique is a whirlwind of excitement with over 20 grand illusions\, 100+ elaborate handmade costumes\, an epic soundtrack\, and special effects galore. Magique is the perfect event for your night out in Reno. Magique is truly the show of shows with hundreds of rave reviews on TripAdvisor\, Yelp\, Google and Facebook. Don’t miss this unique Reno experience!
URL:https://oldediblerenotahoe.com/event/magique-the-show-of-shows-2024-11-09/
LOCATION:The Theatre\, 505 Keystone Ave\, Reno\, NV\, 89503
END:VEVENT
BEGIN:VEVENT
DTSTART;TZID=America/Los_Angeles:20241109T200000
DTEND;TZID=America/Los_Angeles:20241109T220000
DTSTAMP:20260425T142119
CREATED:20240713T225420Z
LAST-MODIFIED:20240713T225420Z
UID:39428-1731182400-1731189600@oldediblerenotahoe.com
SUMMARY:Joe Bonamassa
DESCRIPTION:Hailed internationally as one of the greatest guitar players of his generation\, Guitar Magazine even dubbed bluesman Joe Bonamassa as “the world’s biggest blues guitarist.” \nBonamassa debuted at just twelve years old\, when he was opening for giants like B.B. King in 1989\, playing more than 20 shows on the weekends only – because he still had school. \nHe didn’t stay unknown for long. He has shattered all expectations with 27 #1 Billboard blues albums\, more than any other artist in recorded history. \nIn a 2008 interview with British newspaper Express and Star\, Bonamassa said\, “When I heard Rod Sewart and the Jeff Beck Group singing\, Let Me Love You\, it changed my life. I knew exactly what I wanted to do.” \nIn his now 35-year career\, Bonamassa has snagged three Grammy nominations for Best Blues Album (2013)\, Best Traditional Blues Album (2016)\, and Best Contemporary Blues Album (2022). \nGet ready for a truly unique blues experience with fan favorites like Happier Times\, Redemption\, Woke Up Dreaming\, Blue and Evil\, and more.
URL:https://oldediblerenotahoe.com/event/joe-bonamassa/
LOCATION:Grand Sierra Resort\, 2500 E 2nd St\, Reno\, NV
END:VEVENT
END:VCALENDAR