BEGIN:VCALENDAR
VERSION:2.0
PRODID:-//Edible Reno-Tahoe - ECPv6.15.20//NONSGML v1.0//EN
CALSCALE:GREGORIAN
METHOD:PUBLISH
X-WR-CALNAME:Edible Reno-Tahoe
X-ORIGINAL-URL:https://oldediblerenotahoe.com
X-WR-CALDESC:Events for Edible Reno-Tahoe
REFRESH-INTERVAL;VALUE=DURATION:PT1H
X-Robots-Tag:noindex
X-PUBLISHED-TTL:PT1H
BEGIN:VTIMEZONE
TZID:America/Los_Angeles
BEGIN:DAYLIGHT
TZOFFSETFROM:-0800
TZOFFSETTO:-0700
TZNAME:PDT
DTSTART:20230312T100000
END:DAYLIGHT
BEGIN:STANDARD
TZOFFSETFROM:-0700
TZOFFSETTO:-0800
TZNAME:PST
DTSTART:20231105T090000
END:STANDARD
BEGIN:DAYLIGHT
TZOFFSETFROM:-0800
TZOFFSETTO:-0700
TZNAME:PDT
DTSTART:20240310T100000
END:DAYLIGHT
BEGIN:STANDARD
TZOFFSETFROM:-0700
TZOFFSETTO:-0800
TZNAME:PST
DTSTART:20241103T090000
END:STANDARD
BEGIN:DAYLIGHT
TZOFFSETFROM:-0800
TZOFFSETTO:-0700
TZNAME:PDT
DTSTART:20250309T100000
END:DAYLIGHT
BEGIN:STANDARD
TZOFFSETFROM:-0700
TZOFFSETTO:-0800
TZNAME:PST
DTSTART:20251102T090000
END:STANDARD
END:VTIMEZONE
BEGIN:VEVENT
DTSTART;TZID=America/Los_Angeles:20241114T080000
DTEND;TZID=America/Los_Angeles:20241114T130000
DTSTAMP:20260425T142120
CREATED:20240912T161301Z
LAST-MODIFIED:20240912T161301Z
UID:39927-1731571200-1731589200@oldediblerenotahoe.com
SUMMARY:Tahoe City Fall Harvest Market
DESCRIPTION:Find seasonal produce\, crafts\, and gifts. Support local businesses and enjoy your holiday shopping!
URL:https://oldediblerenotahoe.com/event/tahoe-city-fall-harvest-market-2024-11-14/
LOCATION:Tahoe City
END:VEVENT
BEGIN:VEVENT
DTSTART;TZID=America/Los_Angeles:20241114T180000
DTEND;TZID=America/Los_Angeles:20241114T200000
DTSTAMP:20260425T142120
CREATED:20241104T193518Z
LAST-MODIFIED:20241104T193518Z
UID:40631-1731607200-1731614400@oldediblerenotahoe.com
SUMMARY:St. Mary's Art Center Art & Cocktails
DESCRIPTION:Combine your love for art and cocktails at this unique event at St. Mary’s Art Center. Create a custom piece of art to take home\, all while enjoying a night filled with creativity\, laughter\, and great company. This class is for adults 21+ years of age and older.
URL:https://oldediblerenotahoe.com/event/st-marys-art-center-art-cocktails/
LOCATION:St. Mary’s Art Center\, Virginia City
END:VEVENT
END:VCALENDAR