BEGIN:VCALENDAR
VERSION:2.0
PRODID:-//Edible Reno-Tahoe - ECPv6.15.20//NONSGML v1.0//EN
CALSCALE:GREGORIAN
METHOD:PUBLISH
X-WR-CALNAME:Edible Reno-Tahoe
X-ORIGINAL-URL:https://oldediblerenotahoe.com
X-WR-CALDESC:Events for Edible Reno-Tahoe
REFRESH-INTERVAL;VALUE=DURATION:PT1H
X-Robots-Tag:noindex
X-PUBLISHED-TTL:PT1H
BEGIN:VTIMEZONE
TZID:America/Los_Angeles
BEGIN:DAYLIGHT
TZOFFSETFROM:-0800
TZOFFSETTO:-0700
TZNAME:PDT
DTSTART:20230312T100000
END:DAYLIGHT
BEGIN:STANDARD
TZOFFSETFROM:-0700
TZOFFSETTO:-0800
TZNAME:PST
DTSTART:20231105T090000
END:STANDARD
BEGIN:DAYLIGHT
TZOFFSETFROM:-0800
TZOFFSETTO:-0700
TZNAME:PDT
DTSTART:20240310T100000
END:DAYLIGHT
BEGIN:STANDARD
TZOFFSETFROM:-0700
TZOFFSETTO:-0800
TZNAME:PST
DTSTART:20241103T090000
END:STANDARD
BEGIN:DAYLIGHT
TZOFFSETFROM:-0800
TZOFFSETTO:-0700
TZNAME:PDT
DTSTART:20250309T100000
END:DAYLIGHT
BEGIN:STANDARD
TZOFFSETFROM:-0700
TZOFFSETTO:-0800
TZNAME:PST
DTSTART:20251102T090000
END:STANDARD
END:VTIMEZONE
BEGIN:VEVENT
DTSTART;TZID=America/Los_Angeles:20241130T130000
DTEND;TZID=America/Los_Angeles:20241130T150000
DTSTAMP:20260425T084055
CREATED:20240913T032226Z
LAST-MODIFIED:20240913T032226Z
UID:40049-1732971600-1732978800@oldediblerenotahoe.com
SUMMARY:Maple Pecan Pie Martini Spirit Making Class
DESCRIPTION:
URL:https://oldediblerenotahoe.com/event/maple-pecan-pie-martini-spirit-making-class/
LOCATION:High Mark Distillery\, 4690 Longley Lane\, Unit 28\, Reno\, Nevada\, 89502
END:VEVENT
BEGIN:VEVENT
DTSTART;TZID=America/Los_Angeles:20241130T160000
DTEND;TZID=America/Los_Angeles:20241130T210000
DTSTAMP:20260425T084055
CREATED:20241104T193313Z
LAST-MODIFIED:20241104T193313Z
UID:40627-1732982400-1733000400@oldediblerenotahoe.com
SUMMARY:Holiday Lights Festival
DESCRIPTION:
URL:https://oldediblerenotahoe.com/event/holiday-lights-festival-2024-11-30/
LOCATION:Downtown Reno
END:VEVENT
BEGIN:VEVENT
DTSTART;TZID=America/Los_Angeles:20241130T200000
DTEND;TZID=America/Los_Angeles:20241130T220000
DTSTAMP:20260425T084055
CREATED:20240713T214052Z
LAST-MODIFIED:20240713T214052Z
UID:39388-1732996800-1733004000@oldediblerenotahoe.com
SUMMARY:Magique - The Show of Shows
DESCRIPTION:Magique is Reno’s resident five-star attraction that is sure to amaze and entertain audiences of all ages. Featuring a cast of 10\, Magique is a whirlwind of excitement with over 20 grand illusions\, 100+ elaborate handmade costumes\, an epic soundtrack\, and special effects galore. Magique is the perfect event for your night out in Reno. Magique is truly the show of shows with hundreds of rave reviews on TripAdvisor\, Yelp\, Google and Facebook. Don’t miss this unique Reno experience!
URL:https://oldediblerenotahoe.com/event/magique-the-show-of-shows-2024-11-30/
LOCATION:The Theatre\, 505 Keystone Ave\, Reno\, NV\, 89503
END:VEVENT
BEGIN:VEVENT
DTSTART;TZID=America/Los_Angeles:20241130T200000
DTEND;TZID=America/Los_Angeles:20241130T220000
DTSTAMP:20260425T084055
CREATED:20240913T035418Z
LAST-MODIFIED:20240913T035418Z
UID:40075-1732996800-1733004000@oldediblerenotahoe.com
SUMMARY:Mannheim Steamroller Christmas by Chip Davis
DESCRIPTION:MANNHEIM STEAMROLLER CHRISTMAS by Chip Davis has been America’s favorite holiday tradition for more than 35 years! Grammy Award winner Chip Davis has created a show that features Mannheim Steamroller Christmas classics in the distinctive Mannheim sound. The program includes 15 musicians playing more than 20 instruments against a backdrop of dazzling multimedia effects – capturing the spirit of the season in an immersive yet intimate setting.
URL:https://oldediblerenotahoe.com/event/mannheim-steamroller-christmas-by-chip-davis-2024-11-30/
LOCATION:Pioneer Center\, 100 S. Virginia St.\, Reno\, NV\, 89501
END:VEVENT
BEGIN:VEVENT
DTSTART;TZID=America/Los_Angeles:20241130T200000
DTEND;TZID=America/Los_Angeles:20241130T220000
DTSTAMP:20260425T084055
CREATED:20240913T041216Z
LAST-MODIFIED:20240913T041216Z
UID:40101-1732996800-1733004000@oldediblerenotahoe.com
SUMMARY:Avatar: The Last Airbender in Concert
DESCRIPTION:Avatar: The Last Airbender In Concert presents a live orchestral rendition of the series’ iconic soundtrack\, paired with a nearly two-hour special recap of the animated series’ three seasons displayed on a full-size cinema screen. The projection will feature the original dialogue and sound effects without any pre-recorded music\, allowing the live orchestra to perform the legendary score live and in perfect sync with the show scenes. The result? A truly immersive and grandiose concert experience that breathes new life into Avatar: The Last Airbender.
URL:https://oldediblerenotahoe.com/event/avatar-the-last-airbender-in-concert/
LOCATION:Grand Sierra Resort\, 2500 E 2nd St\, Reno\, NV
END:VEVENT
END:VCALENDAR