BEGIN:VCALENDAR
VERSION:2.0
PRODID:-//Edible Reno-Tahoe - ECPv6.15.20//NONSGML v1.0//EN
CALSCALE:GREGORIAN
METHOD:PUBLISH
X-WR-CALNAME:Edible Reno-Tahoe
X-ORIGINAL-URL:https://oldediblerenotahoe.com
X-WR-CALDESC:Events for Edible Reno-Tahoe
REFRESH-INTERVAL;VALUE=DURATION:PT1H
X-Robots-Tag:noindex
X-PUBLISHED-TTL:PT1H
BEGIN:VTIMEZONE
TZID:America/Los_Angeles
BEGIN:DAYLIGHT
TZOFFSETFROM:-0800
TZOFFSETTO:-0700
TZNAME:PDT
DTSTART:20230312T100000
END:DAYLIGHT
BEGIN:STANDARD
TZOFFSETFROM:-0700
TZOFFSETTO:-0800
TZNAME:PST
DTSTART:20231105T090000
END:STANDARD
BEGIN:DAYLIGHT
TZOFFSETFROM:-0800
TZOFFSETTO:-0700
TZNAME:PDT
DTSTART:20240310T100000
END:DAYLIGHT
BEGIN:STANDARD
TZOFFSETFROM:-0700
TZOFFSETTO:-0800
TZNAME:PST
DTSTART:20241103T090000
END:STANDARD
BEGIN:DAYLIGHT
TZOFFSETFROM:-0800
TZOFFSETTO:-0700
TZNAME:PDT
DTSTART:20250309T100000
END:DAYLIGHT
BEGIN:STANDARD
TZOFFSETFROM:-0700
TZOFFSETTO:-0800
TZNAME:PST
DTSTART:20251102T090000
END:STANDARD
END:VTIMEZONE
BEGIN:VEVENT
DTSTART;VALUE=DATE:20241201
DTEND;VALUE=DATE:20250101
DTSTAMP:20260425T060510
CREATED:20240913T044035Z
LAST-MODIFIED:20240913T044035Z
UID:40130-1733011200-1735689599@oldediblerenotahoe.com
SUMMARY:Christmas on the Comstock
DESCRIPTION:Christmas on the Comstock will have you Believing Again. \nAnd you won’t find a better place that brings the history and warmth of the season together for that feel-good Christmas vibe. Join in on the magic of the season in Virginia City\, Nevada. You won’t find a better place that brings the history and warmth of the season together for that feel-good Christmas vibe than Virginia City’s Christmas on the Comstock. During December\, the town goes all out. This Victorian-style holiday celebration features the official tree lighting\, a saloon crawl\, our Believe Again Christmas Giveaway\, the V&T Candy Cane Express\, the Electric Holiday Train O’ Lights\, holiday performances and much more. Prepare for THIS to be your new favorite holiday tradition.
URL:https://oldediblerenotahoe.com/event/christmas-on-the-comstock-2/
LOCATION:Virginia City
END:VEVENT
BEGIN:VEVENT
DTSTART;VALUE=DATE:20241205
DTEND;VALUE=DATE:20241209
DTSTAMP:20260425T060510
CREATED:20241021T191818Z
LAST-MODIFIED:20241021T191818Z
UID:40287-1733356800-1733702399@oldediblerenotahoe.com
SUMMARY:10th Annual Tahoe Film Fest
DESCRIPTION:
URL:https://oldediblerenotahoe.com/event/10th-annual-tahoe-film-fest/
LOCATION:NV
END:VEVENT
BEGIN:VEVENT
DTSTART;TZID=America/Los_Angeles:20241206T170000
DTEND;TZID=America/Los_Angeles:20241206T210000
DTSTAMP:20260425T060510
CREATED:20241130T200920Z
LAST-MODIFIED:20241130T200920Z
UID:40682-1733504400-1733518800@oldediblerenotahoe.com
SUMMARY:Minden Gazebo Lighting
DESCRIPTION:The Town of Minden invites you to join them for the Gazebo Lighting Countdown.
URL:https://oldediblerenotahoe.com/event/minden-gazebo-lighting/
LOCATION:Minden Park\, 1610 Esmeralda Ave.\, Minden\, NV\, 89423
END:VEVENT
BEGIN:VEVENT
DTSTART;TZID=America/Los_Angeles:20241206T173000
DTEND;TZID=America/Los_Angeles:20241206T193000
DTSTAMP:20260425T060510
CREATED:20241130T201249Z
LAST-MODIFIED:20241130T201249Z
UID:40684-1733506200-1733513400@oldediblerenotahoe.com
SUMMARY:Christmas in Genoa
DESCRIPTION:Join the Town of Genoa for some classic Christmas caroling\, the official lighting of the tree\, and tasty refreshments provided for everyone attending.
URL:https://oldediblerenotahoe.com/event/christmas-in-genoa/
LOCATION:Genoa Town Church
END:VEVENT
BEGIN:VEVENT
DTSTART;TZID=America/Los_Angeles:20241206T190000
DTEND;TZID=America/Los_Angeles:20241206T190000
DTSTAMP:20260425T060510
CREATED:20240913T044652Z
LAST-MODIFIED:20240913T044714Z
UID:40136-1733511600-1733511600@oldediblerenotahoe.com
SUMMARY:Fallon Christmas Tree Lighting
DESCRIPTION:This Christmas tradition is a joyous event in Fallon when the community turns out for carolers\, cookies and hot chocolate\, the first glimpse of Santa and to watch the Christmas tree light up downtown Maine Street.
URL:https://oldediblerenotahoe.com/event/fallon-christmas-tree-lighting/
LOCATION:Fallon\, NV
END:VEVENT
BEGIN:VEVENT
DTSTART;TZID=America/Los_Angeles:20241206T190000
DTEND;TZID=America/Los_Angeles:20241206T210000
DTSTAMP:20260425T060510
CREATED:20240913T035604Z
LAST-MODIFIED:20240913T035604Z
UID:40077-1733511600-1733518800@oldediblerenotahoe.com
SUMMARY:Reno Phil's Spirit of the Season
DESCRIPTION:The dazzle of circus arts meets the excitement of Spirit of the Season in this special performance! Cirque stars tumble\, soar\, and delight while your Reno Phil Orchestra & Chorus\, along with special guests\, perform holiday and symphonic classics. It’s a perfect event for the entire family to enjoy together. Start your new tradition now and kick-off the holiday season with Spirit of the Season!
URL:https://oldediblerenotahoe.com/event/reno-phils-spirit-of-the-season-3/
LOCATION:Pioneer Center\, 100 S. Virginia St.\, Reno\, NV\, 89501
END:VEVENT
END:VCALENDAR