BEGIN:VCALENDAR
VERSION:2.0
PRODID:-//Edible Reno-Tahoe - ECPv6.15.20//NONSGML v1.0//EN
CALSCALE:GREGORIAN
METHOD:PUBLISH
X-WR-CALNAME:Edible Reno-Tahoe
X-ORIGINAL-URL:https://oldediblerenotahoe.com
X-WR-CALDESC:Events for Edible Reno-Tahoe
REFRESH-INTERVAL;VALUE=DURATION:PT1H
X-Robots-Tag:noindex
X-PUBLISHED-TTL:PT1H
BEGIN:VTIMEZONE
TZID:America/Los_Angeles
BEGIN:DAYLIGHT
TZOFFSETFROM:-0800
TZOFFSETTO:-0700
TZNAME:PDT
DTSTART:20230312T100000
END:DAYLIGHT
BEGIN:STANDARD
TZOFFSETFROM:-0700
TZOFFSETTO:-0800
TZNAME:PST
DTSTART:20231105T090000
END:STANDARD
BEGIN:DAYLIGHT
TZOFFSETFROM:-0800
TZOFFSETTO:-0700
TZNAME:PDT
DTSTART:20240310T100000
END:DAYLIGHT
BEGIN:STANDARD
TZOFFSETFROM:-0700
TZOFFSETTO:-0800
TZNAME:PST
DTSTART:20241103T090000
END:STANDARD
BEGIN:DAYLIGHT
TZOFFSETFROM:-0800
TZOFFSETTO:-0700
TZNAME:PDT
DTSTART:20250309T100000
END:DAYLIGHT
BEGIN:STANDARD
TZOFFSETFROM:-0700
TZOFFSETTO:-0800
TZNAME:PST
DTSTART:20251102T090000
END:STANDARD
END:VTIMEZONE
BEGIN:VEVENT
DTSTART;VALUE=DATE:20241201
DTEND;VALUE=DATE:20250101
DTSTAMP:20260425T084012
CREATED:20240913T044035Z
LAST-MODIFIED:20240913T044035Z
UID:40130-1733011200-1735689599@oldediblerenotahoe.com
SUMMARY:Christmas on the Comstock
DESCRIPTION:Christmas on the Comstock will have you Believing Again. \nAnd you won’t find a better place that brings the history and warmth of the season together for that feel-good Christmas vibe. Join in on the magic of the season in Virginia City\, Nevada. You won’t find a better place that brings the history and warmth of the season together for that feel-good Christmas vibe than Virginia City’s Christmas on the Comstock. During December\, the town goes all out. This Victorian-style holiday celebration features the official tree lighting\, a saloon crawl\, our Believe Again Christmas Giveaway\, the V&T Candy Cane Express\, the Electric Holiday Train O’ Lights\, holiday performances and much more. Prepare for THIS to be your new favorite holiday tradition.
URL:https://oldediblerenotahoe.com/event/christmas-on-the-comstock-2/
LOCATION:Virginia City
END:VEVENT
BEGIN:VEVENT
DTSTART;VALUE=DATE:20241205
DTEND;VALUE=DATE:20241209
DTSTAMP:20260425T084012
CREATED:20241021T191818Z
LAST-MODIFIED:20241021T191818Z
UID:40287-1733356800-1733702399@oldediblerenotahoe.com
SUMMARY:10th Annual Tahoe Film Fest
DESCRIPTION:
URL:https://oldediblerenotahoe.com/event/10th-annual-tahoe-film-fest/
LOCATION:NV
END:VEVENT
BEGIN:VEVENT
DTSTART;TZID=America/Los_Angeles:20241207T083000
DTEND;TZID=America/Los_Angeles:20241207T110000
DTSTAMP:20260425T084012
CREATED:20241130T201451Z
LAST-MODIFIED:20241130T201451Z
UID:40686-1733560200-1733569200@oldediblerenotahoe.com
SUMMARY:Breakfast with Santa
DESCRIPTION:Breakfast consists of pancakes with syrup\, sausage\, breakfast beverages and\, best of all\, a visit from Santa Claus himself!
URL:https://oldediblerenotahoe.com/event/breakfast-with-santa/
LOCATION:Genoa Town Hall\, 2287 Main Street\, Minden\, NV
END:VEVENT
BEGIN:VEVENT
DTSTART;TZID=America/Los_Angeles:20241207T093000
DTEND;TZID=America/Los_Angeles:20241207T113000
DTSTAMP:20260425T084012
CREATED:20241021T193417Z
LAST-MODIFIED:20241021T193417Z
UID:40331-1733563800-1733571000@oldediblerenotahoe.com
SUMMARY:Chocolate Truffle Workshop
DESCRIPTION:
URL:https://oldediblerenotahoe.com/event/chocolate-truffle-workshop-2/
LOCATION:Nothing To It!\, 225 Crummer Lane\, Reno\, NV\, 89502\, United States
END:VEVENT
BEGIN:VEVENT
DTSTART;TZID=America/Los_Angeles:20241207T100000
DTEND;TZID=America/Los_Angeles:20241207T120000
DTSTAMP:20260425T084012
CREATED:20241021T200629Z
LAST-MODIFIED:20241021T200629Z
UID:40402-1733565600-1733572800@oldediblerenotahoe.com
SUMMARY:Kids Gifts From The Kitchen Class
DESCRIPTION:
URL:https://oldediblerenotahoe.com/event/kids-gifts-from-the-kitchen-class/
LOCATION:Sierra Chef\, 2292 Main Street\, Genoa\, NV
END:VEVENT
BEGIN:VEVENT
DTSTART;TZID=America/Los_Angeles:20241207T110000
DTEND;TZID=America/Los_Angeles:20241207T140000
DTSTAMP:20260425T084012
CREATED:20241130T201726Z
LAST-MODIFIED:20241130T201726Z
UID:40688-1733569200-1733580000@oldediblerenotahoe.com
SUMMARY:Candy Cane Main Shop Main Street Cookie and Cocoa Crawl
DESCRIPTION:Candy Cane Main is a month-long campaign focused on celebrating all the holiday events in the month of December while encouraging our community to shop locally through direct retail sales at participating businesses. \nThe campaign kicks off with the Candy Cane Main Shop Main Street COOKIE AND COCOA CRAWL – district shopping extravaganza on the first Saturday in December\, 11 am – 2 pm\, where holiday shoppers can register to participate and gain access to electric carriage rides by the Borges Tahoe Carriage Rides and receive a cookie box\, commemorative tote bag for all their shopping finds\, our interactive map of participating businesses\, photos with Santa\, and so much more!
URL:https://oldediblerenotahoe.com/event/candy-cane-main-shop-main-street-cookie-and-cocoa-crawl/
LOCATION:Main Street\, Gardnerville\, NV
END:VEVENT
BEGIN:VEVENT
DTSTART;TZID=America/Los_Angeles:20241207T130000
DTEND;TZID=America/Los_Angeles:20241207T150000
DTSTAMP:20260425T084012
CREATED:20240913T031628Z
LAST-MODIFIED:20240913T031628Z
UID:40033-1733576400-1733583600@oldediblerenotahoe.com
SUMMARY:Irish Cream Spirit Making Class
DESCRIPTION:
URL:https://oldediblerenotahoe.com/event/irish-cream-spirit-making-class/
LOCATION:High Mark Distillery\, 4690 Longley Lane\, Unit 28\, Reno\, Nevada\, 89502
END:VEVENT
BEGIN:VEVENT
DTSTART;TZID=America/Los_Angeles:20241207T130000
DTEND;TZID=America/Los_Angeles:20241207T170000
DTSTAMP:20260425T084012
CREATED:20240913T044136Z
LAST-MODIFIED:20240913T044136Z
UID:40132-1733576400-1733590800@oldediblerenotahoe.com
SUMMARY:Grinch Made Me Do It Saloon Crawl
DESCRIPTION:Bring your group of merry elves for a holly\, jolly good time in a historic holiday wonderland with The Grinch Made Me Do It Saloon Crawl\, part of Virginia City’s Christmas on the Comstock. The event takes participants through town to some of our historic saloons along with restaurants and shops – all decked out for the season – to sip on festive drinks and indulge in sweet treats. Watch for the Grinch roaming the streets spreading his mischievous Christmas cheer.
URL:https://oldediblerenotahoe.com/event/grinch-made-me-do-it-saloon-crawl/
LOCATION:Virginia City
END:VEVENT
BEGIN:VEVENT
DTSTART;TZID=America/Los_Angeles:20241207T140000
DTEND;TZID=America/Los_Angeles:20241207T170000
DTSTAMP:20260425T084012
CREATED:20240913T035604Z
LAST-MODIFIED:20240913T035604Z
UID:40078-1733580000-1733590800@oldediblerenotahoe.com
SUMMARY:Reno Phil's Spirit of the Season
DESCRIPTION:The dazzle of circus arts meets the excitement of Spirit of the Season in this special performance! Cirque stars tumble\, soar\, and delight while your Reno Phil Orchestra & Chorus\, along with special guests\, perform holiday and symphonic classics. It’s a perfect event for the entire family to enjoy together. Start your new tradition now and kick-off the holiday season with Spirit of the Season!
URL:https://oldediblerenotahoe.com/event/reno-phils-spirit-of-the-season-3-2024-12-07/
LOCATION:Pioneer Center\, 100 S. Virginia St.\, Reno\, NV\, 89501
END:VEVENT
BEGIN:VEVENT
DTSTART;TZID=America/Los_Angeles:20241207T170000
DTEND;TZID=America/Los_Angeles:20241207T190000
DTSTAMP:20260425T084012
CREATED:20241130T201910Z
LAST-MODIFIED:20241130T201910Z
UID:40690-1733590800-1733598000@oldediblerenotahoe.com
SUMMARY:28th Annual Carson Valley Parade of Lights
DESCRIPTION:Come together with your family and friends\, and don’t forget to bring your blankets and chairs as you prepare to enjoy the Floats\, Marching Bands\, Color Guard\, and of course\, a very special guest from the North Pole. They will be making their way along Highway 395\, beginning at Eddy Street and concluding at Minden Park.
URL:https://oldediblerenotahoe.com/event/28th-annual-carson-valley-parade-of-lights/
LOCATION:NV
END:VEVENT
BEGIN:VEVENT
DTSTART;TZID=America/Los_Angeles:20241207T170000
DTEND;TZID=America/Los_Angeles:20241207T200000
DTSTAMP:20260425T084012
CREATED:20240913T044457Z
LAST-MODIFIED:20240913T044457Z
UID:40134-1733590800-1733601600@oldediblerenotahoe.com
SUMMARY:Carson Valley Parade of Lights
DESCRIPTION:The Carson Valley Chamber of Commerce is excited to present the 28th Annual Parade of Lights on December 7th. Join your family and friends\, and grab your blankets and chairs to watch the floats\, marching bands\, and color guard make their way along Highway 395 from Heritage Park to Minden Park. \nParade floats will begin to roll from Eddy Street onto Main Street at 5:00pm and will head north though town\, make a left on Esmeralda\, and make their way to end at Minden Town Park.
URL:https://oldediblerenotahoe.com/event/carson-valley-parade-of-lights/
LOCATION:NV
END:VEVENT
BEGIN:VEVENT
DTSTART;TZID=America/Los_Angeles:20241207T200000
DTEND;TZID=America/Los_Angeles:20241207T220000
DTSTAMP:20260425T084012
CREATED:20240713T214052Z
LAST-MODIFIED:20240713T214052Z
UID:39389-1733601600-1733608800@oldediblerenotahoe.com
SUMMARY:Magique - The Show of Shows
DESCRIPTION:Magique is Reno’s resident five-star attraction that is sure to amaze and entertain audiences of all ages. Featuring a cast of 10\, Magique is a whirlwind of excitement with over 20 grand illusions\, 100+ elaborate handmade costumes\, an epic soundtrack\, and special effects galore. Magique is the perfect event for your night out in Reno. Magique is truly the show of shows with hundreds of rave reviews on TripAdvisor\, Yelp\, Google and Facebook. Don’t miss this unique Reno experience!
URL:https://oldediblerenotahoe.com/event/magique-the-show-of-shows-2024-12-07/
LOCATION:The Theatre\, 505 Keystone Ave\, Reno\, NV\, 89503
END:VEVENT
END:VCALENDAR