BEGIN:VCALENDAR
VERSION:2.0
PRODID:-//Edible Reno-Tahoe - ECPv6.15.20//NONSGML v1.0//EN
CALSCALE:GREGORIAN
METHOD:PUBLISH
X-ORIGINAL-URL:https://oldediblerenotahoe.com
X-WR-CALDESC:Events for Edible Reno-Tahoe
REFRESH-INTERVAL;VALUE=DURATION:PT1H
X-Robots-Tag:noindex
X-PUBLISHED-TTL:PT1H
BEGIN:VTIMEZONE
TZID:America/Los_Angeles
BEGIN:DAYLIGHT
TZOFFSETFROM:-0800
TZOFFSETTO:-0700
TZNAME:PDT
DTSTART:20230312T100000
END:DAYLIGHT
BEGIN:STANDARD
TZOFFSETFROM:-0700
TZOFFSETTO:-0800
TZNAME:PST
DTSTART:20231105T090000
END:STANDARD
BEGIN:DAYLIGHT
TZOFFSETFROM:-0800
TZOFFSETTO:-0700
TZNAME:PDT
DTSTART:20240310T100000
END:DAYLIGHT
BEGIN:STANDARD
TZOFFSETFROM:-0700
TZOFFSETTO:-0800
TZNAME:PST
DTSTART:20241103T090000
END:STANDARD
BEGIN:DAYLIGHT
TZOFFSETFROM:-0800
TZOFFSETTO:-0700
TZNAME:PDT
DTSTART:20250309T100000
END:DAYLIGHT
BEGIN:STANDARD
TZOFFSETFROM:-0700
TZOFFSETTO:-0800
TZNAME:PST
DTSTART:20251102T090000
END:STANDARD
END:VTIMEZONE
BEGIN:VEVENT
DTSTART;VALUE=DATE:20241201
DTEND;VALUE=DATE:20250101
DTSTAMP:20260425T084158
CREATED:20240913T044035Z
LAST-MODIFIED:20240913T044035Z
UID:40130-1733011200-1735689599@oldediblerenotahoe.com
SUMMARY:Christmas on the Comstock
DESCRIPTION:Christmas on the Comstock will have you Believing Again. \nAnd you won’t find a better place that brings the history and warmth of the season together for that feel-good Christmas vibe. Join in on the magic of the season in Virginia City\, Nevada. You won’t find a better place that brings the history and warmth of the season together for that feel-good Christmas vibe than Virginia City’s Christmas on the Comstock. During December\, the town goes all out. This Victorian-style holiday celebration features the official tree lighting\, a saloon crawl\, our Believe Again Christmas Giveaway\, the V&T Candy Cane Express\, the Electric Holiday Train O’ Lights\, holiday performances and much more. Prepare for THIS to be your new favorite holiday tradition.
URL:https://oldediblerenotahoe.com/event/christmas-on-the-comstock-2/
LOCATION:Virginia City
END:VEVENT
BEGIN:VEVENT
DTSTART;TZID=America/Los_Angeles:20241210T160000
DTEND;TZID=America/Los_Angeles:20241210T180000
DTSTAMP:20260425T084158
CREATED:20240811T004456Z
LAST-MODIFIED:20240811T004456Z
UID:39595-1733846400-1733853600@oldediblerenotahoe.com
SUMMARY:Teens Cook
DESCRIPTION:
URL:https://oldediblerenotahoe.com/event/teens-cook-2024-12-10/
LOCATION:Nothing To It!\, 225 Crummer Lane\, Reno\, NV\, 89502\, United States
END:VEVENT
BEGIN:VEVENT
DTSTART;TZID=America/Los_Angeles:20241210T160000
DTEND;TZID=America/Los_Angeles:20241210T180000
DTSTAMP:20260425T084158
CREATED:20241021T193445Z
LAST-MODIFIED:20241021T193445Z
UID:40333-1733846400-1733853600@oldediblerenotahoe.com
SUMMARY:Teens Cook
DESCRIPTION:
URL:https://oldediblerenotahoe.com/event/teens-cook-4/
LOCATION:Nothing To It!\, 225 Crummer Lane\, Reno\, NV\, 89502\, United States
END:VEVENT
BEGIN:VEVENT
DTSTART;TZID=America/Los_Angeles:20241210T180000
DTEND;TZID=America/Los_Angeles:20241210T180000
DTSTAMP:20260425T084158
CREATED:20240713T231531Z
LAST-MODIFIED:20240713T231531Z
UID:39455-1733853600-1733853600@oldediblerenotahoe.com
SUMMARY:Bollinger Champagne Dinner
DESCRIPTION:
URL:https://oldediblerenotahoe.com/event/bollinger-champagne-dinner/
LOCATION:Atlantis Steakhouse
END:VEVENT
BEGIN:VEVENT
DTSTART;TZID=America/Los_Angeles:20241210T180000
DTEND;TZID=America/Los_Angeles:20241210T180000
DTSTAMP:20260425T084158
CREATED:20240913T035810Z
LAST-MODIFIED:20240913T035810Z
UID:40081-1733853600-1733853600@oldediblerenotahoe.com
SUMMARY:Beetlejuice The Musical
DESCRIPTION:It’s showtime! Based on Tim Burton’s dearly beloved film\, this hilarious musical tells the story of Lydia Deetz\, a strange and unusual teenager whose whole life changes when she meets a recently deceased couple and a demon with a thing for stripes. With an irreverent book\, an astonishing set\, and a score that’s out of this Netherworld\, BEETLEJUICE is “SCREAMINGLY GOOD FUN!” (Variety). And under its uproarious surface (six feet under\, to be exact)\, it’s a remarkably touching show about family\, love\, and making the most of every Day-O!
URL:https://oldediblerenotahoe.com/event/beetlejuice-the-musical/
LOCATION:Pioneer Center\, 100 S. Virginia St.\, Reno\, NV\, 89501
END:VEVENT
BEGIN:VEVENT
DTSTART;TZID=America/Los_Angeles:20241210T180000
DTEND;TZID=America/Los_Angeles:20241210T200000
DTSTAMP:20260425T084158
CREATED:20240811T015909Z
LAST-MODIFIED:20240811T015909Z
UID:39698-1733853600-1733860800@oldediblerenotahoe.com
SUMMARY:Christmas Cookie Decorating Class
DESCRIPTION:What did Santa’s mom pack in his school lunch?… Ho ho homemade cookies! Learn to make Santa-worthy Christmas cookies using a simple sugar cookie dough and icing recipe. Discover various icing consistencies and when to use which kind of icing. Learn tips and tricks for fancy decorating with airbrushing\, stencils\, fondant and molds. Make personalized cookies in decorative packaging to take home for yourself\, share with family or present as a gift. $25 materials fee
URL:https://oldediblerenotahoe.com/event/christmas-cookie-decorating-class-2024-12-10/
LOCATION:TMCC Meadowood Center\, 5270 Neil Rd.\, South Bldg.\, Reno\, NV\, 89502\, United States
END:VEVENT
END:VCALENDAR