BEGIN:VCALENDAR
VERSION:2.0
PRODID:-//Edible Reno-Tahoe - ECPv6.15.20//NONSGML v1.0//EN
CALSCALE:GREGORIAN
METHOD:PUBLISH
X-ORIGINAL-URL:https://oldediblerenotahoe.com
X-WR-CALDESC:Events for Edible Reno-Tahoe
REFRESH-INTERVAL;VALUE=DURATION:PT1H
X-Robots-Tag:noindex
X-PUBLISHED-TTL:PT1H
BEGIN:VTIMEZONE
TZID:America/Los_Angeles
BEGIN:DAYLIGHT
TZOFFSETFROM:-0800
TZOFFSETTO:-0700
TZNAME:PDT
DTSTART:20230312T100000
END:DAYLIGHT
BEGIN:STANDARD
TZOFFSETFROM:-0700
TZOFFSETTO:-0800
TZNAME:PST
DTSTART:20231105T090000
END:STANDARD
BEGIN:DAYLIGHT
TZOFFSETFROM:-0800
TZOFFSETTO:-0700
TZNAME:PDT
DTSTART:20240310T100000
END:DAYLIGHT
BEGIN:STANDARD
TZOFFSETFROM:-0700
TZOFFSETTO:-0800
TZNAME:PST
DTSTART:20241103T090000
END:STANDARD
BEGIN:DAYLIGHT
TZOFFSETFROM:-0800
TZOFFSETTO:-0700
TZNAME:PDT
DTSTART:20250309T100000
END:DAYLIGHT
BEGIN:STANDARD
TZOFFSETFROM:-0700
TZOFFSETTO:-0800
TZNAME:PST
DTSTART:20251102T090000
END:STANDARD
END:VTIMEZONE
BEGIN:VEVENT
DTSTART;VALUE=DATE:20241201
DTEND;VALUE=DATE:20250101
DTSTAMP:20260425T084159
CREATED:20240913T044035Z
LAST-MODIFIED:20240913T044035Z
UID:40130-1733011200-1735689599@oldediblerenotahoe.com
SUMMARY:Christmas on the Comstock
DESCRIPTION:Christmas on the Comstock will have you Believing Again. \nAnd you won’t find a better place that brings the history and warmth of the season together for that feel-good Christmas vibe. Join in on the magic of the season in Virginia City\, Nevada. You won’t find a better place that brings the history and warmth of the season together for that feel-good Christmas vibe than Virginia City’s Christmas on the Comstock. During December\, the town goes all out. This Victorian-style holiday celebration features the official tree lighting\, a saloon crawl\, our Believe Again Christmas Giveaway\, the V&T Candy Cane Express\, the Electric Holiday Train O’ Lights\, holiday performances and much more. Prepare for THIS to be your new favorite holiday tradition.
URL:https://oldediblerenotahoe.com/event/christmas-on-the-comstock-2/
LOCATION:Virginia City
END:VEVENT
BEGIN:VEVENT
DTSTART;TZID=America/Los_Angeles:20241220T160000
DTEND;TZID=America/Los_Angeles:20241220T190000
DTSTAMP:20260425T084159
CREATED:20241216T191507Z
LAST-MODIFIED:20241216T191507Z
UID:40763-1734710400-1734721200@oldediblerenotahoe.com
SUMMARY:Festive Fridays
DESCRIPTION:Enjoy a special Sip ‘n’ Shop\, a Snowflake Scavenger Hunt\, holiday carolers\, visits with Santa\, and a festive selfie station to capture the holiday spirit. Stroll through beautifully lit streets\, discover unique local shops\, and experience the warmth of the season. Bring your family and friends to celebrate in Historic Downtown Truckee!
URL:https://oldediblerenotahoe.com/event/festive-fridays/
LOCATION:Downtown Truckee\, Truckee\, CA
END:VEVENT
BEGIN:VEVENT
DTSTART;TZID=America/Los_Angeles:20241220T170000
DTEND;TZID=America/Los_Angeles:20241220T210000
DTSTAMP:20260425T084159
CREATED:20241130T203500Z
LAST-MODIFIED:20241130T203500Z
UID:40694-1734714000-1734728400@oldediblerenotahoe.com
SUMMARY:Liberty Food & Wine Exchange's Feast of the 7 Fishes
DESCRIPTION:
URL:https://oldediblerenotahoe.com/event/liberty-food-wine-exchanges-feast-of-the-7-fishes/
LOCATION:NV
END:VEVENT
BEGIN:VEVENT
DTSTART;TZID=America/Los_Angeles:20241220T170000
DTEND;TZID=America/Los_Angeles:20241220T210000
DTSTAMP:20260425T084159
CREATED:20241130T203604Z
LAST-MODIFIED:20241130T203604Z
UID:40700-1734714000-1734728400@oldediblerenotahoe.com
SUMMARY:Cucina Lupo's Feast of the 7 Fishes
DESCRIPTION:
URL:https://oldediblerenotahoe.com/event/cucina-lupos-feast-of-the-7-fishes-2024-12-20/
LOCATION:Cucina Lupo\, 308 N Curry St.\, Carson City\, NV\, 89703
END:VEVENT
BEGIN:VEVENT
DTSTART;TZID=America/Los_Angeles:20241220T180000
DTEND;TZID=America/Los_Angeles:20241220T200000
DTSTAMP:20260425T084159
CREATED:20241021T193708Z
LAST-MODIFIED:20241021T193708Z
UID:40342-1734717600-1734724800@oldediblerenotahoe.com
SUMMARY:Christmas in Provence Class
DESCRIPTION:
URL:https://oldediblerenotahoe.com/event/christmas-in-provence-class-2024-12-20/
LOCATION:Nothing To It!\, 225 Crummer Lane\, Reno\, NV\, 89502\, United States
END:VEVENT
BEGIN:VEVENT
DTSTART;TZID=America/Los_Angeles:20241220T190000
DTEND;TZID=America/Los_Angeles:20241220T210000
DTSTAMP:20260425T084159
CREATED:20241216T192744Z
LAST-MODIFIED:20241216T192744Z
UID:40775-1734721200-1734728400@oldediblerenotahoe.com
SUMMARY:Tahoe Nutcracker 2024
DESCRIPTION:
URL:https://oldediblerenotahoe.com/event/tahoe-nutcracker-2024/
LOCATION:Tahoe Tavern
END:VEVENT
BEGIN:VEVENT
DTSTART;TZID=America/Los_Angeles:20241220T193000
DTEND;TZID=America/Los_Angeles:20241220T213000
DTSTAMP:20260425T084159
CREATED:20241216T193053Z
LAST-MODIFIED:20241216T193053Z
UID:40780-1734723000-1734730200@oldediblerenotahoe.com
SUMMARY:The Nutcracker vs The Tommyknockers
DESCRIPTION:Experience The Nutcracker like never before with a Virginia City twist as Clara\, Fritz\, and Uncle Drosselmeyer take on The Tommyknockers\, mischievous mine spirits known for luring away the unsuspecting.
URL:https://oldediblerenotahoe.com/event/the-nutcracker-vs-the-tommyknockers/
LOCATION:Piper’s Opera House\, 12 B. Street\, Virginia City\, NV\, 89440
END:VEVENT
BEGIN:VEVENT
DTSTART;TZID=America/Los_Angeles:20241220T200000
DTEND;TZID=America/Los_Angeles:20241220T220000
DTSTAMP:20260425T084159
CREATED:20231227T224115Z
LAST-MODIFIED:20240721T235623Z
UID:36316-1734724800-1734732000@oldediblerenotahoe.com
SUMMARY:The Nutcracker
DESCRIPTION:The stage at the Pioneer Center for the Performing Arts will be alive with a sugar plum fairy and dancing mice as A.V.A. Ballet Theatre presents the annual Nutcracker Ballet.  Artistic director Alexander Van Alstyne has choreographed an exciting rendition of the popular holiday ballet and the Reno Philharmonic Orchestra will perform Tchaikovsky’s moving score. Laura Jackson will be conducting the orchestra. Due to popular demand\, we will continue to have a fifth performance. \nPrincipal dancers who have performed with professional ballet companies such as Ballet West\, Kansas City Ballet and the Diablo Ballet will perform the leading roles along side a large cast of local talent. \nA special Sugar Plum party will be held after the Saturday and Sunday afternoon performances where children can meet the Nutcracker characters.
URL:https://oldediblerenotahoe.com/event/the-nutcracker/
LOCATION:Pioneer Center\, 100 S. Virginia St.\, Reno\, NV\, 89501
CATEGORIES:Dance,Holiday,Music
END:VEVENT
BEGIN:VEVENT
DTSTART;TZID=America/Los_Angeles:20241220T200000
DTEND;TZID=America/Los_Angeles:20241220T220000
DTSTAMP:20260425T084159
CREATED:20240913T042217Z
LAST-MODIFIED:20240913T042217Z
UID:40119-1734724800-1734732000@oldediblerenotahoe.com
SUMMARY:Allman Betts Family Revival
DESCRIPTION:The Allman Betts Family Revival is a yearly celebration that features a diverse lineup of musicians playing blues\, Americana\, country\, and rock music to honor the Allman Brothers Band’s catalog. The Revival tour is described as a continuation of the Allman Brothers Band’s bluesy southern rock\, which can be hard or melodic. Some say the experience is like a family reunion for the musicians\, who often don’t have time to connect with each other. For fans\, the Revival tour can be a chance to see a great concert or for younger fans to experience the music of the famous 1970s band. This year the Revival will feature performances by The Allman Betts Band\, Jake Shimabukuro\, Cody Dickinson\, Jimmy Hall\, Larry McCray\, Lindsay Lou\, Jackie Greene\, Lamar Williams\, Jr.\, and Alex Orbison.
URL:https://oldediblerenotahoe.com/event/allman-betts-family-revival/
LOCATION:Grand Sierra Resort\, 2500 E 2nd St\, Reno\, NV
END:VEVENT
END:VCALENDAR