BEGIN:VCALENDAR
VERSION:2.0
PRODID:-//Edible Reno-Tahoe - ECPv6.15.20//NONSGML v1.0//EN
CALSCALE:GREGORIAN
METHOD:PUBLISH
X-WR-CALNAME:Edible Reno-Tahoe
X-ORIGINAL-URL:https://oldediblerenotahoe.com
X-WR-CALDESC:Events for Edible Reno-Tahoe
REFRESH-INTERVAL;VALUE=DURATION:PT1H
X-Robots-Tag:noindex
X-PUBLISHED-TTL:PT1H
BEGIN:VTIMEZONE
TZID:America/Los_Angeles
BEGIN:DAYLIGHT
TZOFFSETFROM:-0800
TZOFFSETTO:-0700
TZNAME:PDT
DTSTART:20230312T100000
END:DAYLIGHT
BEGIN:STANDARD
TZOFFSETFROM:-0700
TZOFFSETTO:-0800
TZNAME:PST
DTSTART:20231105T090000
END:STANDARD
BEGIN:DAYLIGHT
TZOFFSETFROM:-0800
TZOFFSETTO:-0700
TZNAME:PDT
DTSTART:20240310T100000
END:DAYLIGHT
BEGIN:STANDARD
TZOFFSETFROM:-0700
TZOFFSETTO:-0800
TZNAME:PST
DTSTART:20241103T090000
END:STANDARD
BEGIN:DAYLIGHT
TZOFFSETFROM:-0800
TZOFFSETTO:-0700
TZNAME:PDT
DTSTART:20250309T100000
END:DAYLIGHT
BEGIN:STANDARD
TZOFFSETFROM:-0700
TZOFFSETTO:-0800
TZNAME:PST
DTSTART:20251102T090000
END:STANDARD
END:VTIMEZONE
BEGIN:VEVENT
DTSTART;VALUE=DATE:20241201
DTEND;VALUE=DATE:20250101
DTSTAMP:20260425T084011
CREATED:20240913T044035Z
LAST-MODIFIED:20240913T044035Z
UID:40130-1733011200-1735689599@oldediblerenotahoe.com
SUMMARY:Christmas on the Comstock
DESCRIPTION:Christmas on the Comstock will have you Believing Again. \nAnd you won’t find a better place that brings the history and warmth of the season together for that feel-good Christmas vibe. Join in on the magic of the season in Virginia City\, Nevada. You won’t find a better place that brings the history and warmth of the season together for that feel-good Christmas vibe than Virginia City’s Christmas on the Comstock. During December\, the town goes all out. This Victorian-style holiday celebration features the official tree lighting\, a saloon crawl\, our Believe Again Christmas Giveaway\, the V&T Candy Cane Express\, the Electric Holiday Train O’ Lights\, holiday performances and much more. Prepare for THIS to be your new favorite holiday tradition.
URL:https://oldediblerenotahoe.com/event/christmas-on-the-comstock-2/
LOCATION:Virginia City
END:VEVENT
BEGIN:VEVENT
DTSTART;TZID=America/Los_Angeles:20241222T090000
DTEND;TZID=America/Los_Angeles:20241222T130000
DTSTAMP:20260425T084011
CREATED:20231103T014135Z
LAST-MODIFIED:20231103T014135Z
UID:35281-1734858000-1734872400@oldediblerenotahoe.com
SUMMARY:Riverside Farmers Market
DESCRIPTION:The Riverside Farmers Market stands as Reno’s authentic local market\, exclusively featuring vendors who cultivate\, rear\, or craft their products within the immediate vicinity of the city. Highlighting small-scale\, community-focused\, and sustainable farmers and ranchers\, the market is a testament to the belief that the foundation of healthy food lies in the health of the land. It also serves as a welcoming platform for Reno’s emerging agricultural talents\, providing a space for residents to connect with those who are dedicated to nourishing the Truckee Meadows community through locally grown produce.
URL:https://oldediblerenotahoe.com/event/riverside-farmers-market-3-2024-12-22/
LOCATION:Idlewild Park\, 1000 Cowan Dr.\, Reno\, NV\, 89509
CATEGORIES:Farmers Market,Shopping
END:VEVENT
BEGIN:VEVENT
DTSTART;TZID=America/Los_Angeles:20241222T103000
DTEND;TZID=America/Los_Angeles:20241222T143000
DTSTAMP:20260425T084011
CREATED:20230922T193120Z
LAST-MODIFIED:20230922T193120Z
UID:36294-1734863400-1734877800@oldediblerenotahoe.com
SUMMARY:Sunday Music Brunch
DESCRIPTION:Sunday Music Brunch at the Nevada Museum of Art Café is the perfect precursor to an afternoon exploring galleries. Chef Colin Smith has updated the menu to include an eclectic array of options from traditional breakfast fare to lunch options–both of which pair nicely with juice\, coffee\, champagne or a mimosa. Enjoy live music by Colin Ross from 11:30 to 2:30. Doors open at 10:30 am and service continues until 2:30 pm. Reservations are required for parties of five or more\, but encouraged for all as space is limited. Museum members receive 10% savings as a benefit of membership. \nCall the Café at 775-284-2921 for more information.
URL:https://oldediblerenotahoe.com/event/sundaymusicbrunch-2024-12-22/
LOCATION:Nevada Museum of Art\, 160 West Liberty\, Reno\, Nevada\, 89501
CATEGORIES:Food & Drink,Music
ATTACH;FMTTYPE=image/jpeg:https://oldediblerenotahoe.com/wp-content/uploads/2023/09/Roundabout_CafeAtNMA-Spring2022-3186-768x432-1.jpg
END:VEVENT
BEGIN:VEVENT
DTSTART;TZID=America/Los_Angeles:20241222T120000
DTEND;TZID=America/Los_Angeles:20241222T133000
DTSTAMP:20260425T084011
CREATED:20241216T193053Z
LAST-MODIFIED:20241216T193053Z
UID:40783-1734868800-1734874200@oldediblerenotahoe.com
SUMMARY:The Nutcracker vs The Tommyknockers
DESCRIPTION:Experience The Nutcracker like never before with a Virginia City twist as Clara\, Fritz\, and Uncle Drosselmeyer take on The Tommyknockers\, mischievous mine spirits known for luring away the unsuspecting.
URL:https://oldediblerenotahoe.com/event/the-nutcracker-vs-the-tommyknockers-2024-12-22/
LOCATION:Piper’s Opera House\, 12 B. Street\, Virginia City\, NV\, 89440
END:VEVENT
BEGIN:VEVENT
DTSTART;TZID=America/Los_Angeles:20241222T143000
DTEND;TZID=America/Los_Angeles:20241222T170000
DTSTAMP:20260425T084011
CREATED:20241216T192406Z
LAST-MODIFIED:20241216T192406Z
UID:40772-1734877800-1734886800@oldediblerenotahoe.com
SUMMARY:Far West 2024 Auction
DESCRIPTION:Mingle with your fellow skiers\, enjoy a delicious German Holiday Bazaar themed dinner\, bid on our silent auction prizes\, and enjoy our apres ski entertainment.
URL:https://oldediblerenotahoe.com/event/far-west-2024-auction/
LOCATION:Tahoe City Yacht Club\, 700 N Lake Blvd\, Tahoe City\, CA\, 96145
END:VEVENT
BEGIN:VEVENT
DTSTART;TZID=America/Los_Angeles:20241222T150000
DTEND;TZID=America/Los_Angeles:20241222T170000
DTSTAMP:20260425T084011
CREATED:20241216T192744Z
LAST-MODIFIED:20241216T192744Z
UID:40778-1734879600-1734886800@oldediblerenotahoe.com
SUMMARY:Tahoe Nutcracker 2024
DESCRIPTION:
URL:https://oldediblerenotahoe.com/event/tahoe-nutcracker-2024-2024-12-22/
LOCATION:Tahoe Tavern
END:VEVENT
BEGIN:VEVENT
DTSTART;TZID=America/Los_Angeles:20241222T170000
DTEND;TZID=America/Los_Angeles:20241222T210000
DTSTAMP:20260425T084011
CREATED:20241130T203500Z
LAST-MODIFIED:20241130T203500Z
UID:40696-1734886800-1734901200@oldediblerenotahoe.com
SUMMARY:Liberty Food & Wine Exchange's Feast of the 7 Fishes
DESCRIPTION:
URL:https://oldediblerenotahoe.com/event/liberty-food-wine-exchanges-feast-of-the-7-fishes-2024-12-22/
LOCATION:NV
END:VEVENT
BEGIN:VEVENT
DTSTART;TZID=America/Los_Angeles:20241222T170000
DTEND;TZID=America/Los_Angeles:20241222T210000
DTSTAMP:20260425T084011
CREATED:20241130T203604Z
LAST-MODIFIED:20241130T203604Z
UID:40702-1734886800-1734901200@oldediblerenotahoe.com
SUMMARY:Cucina Lupo's Feast of the 7 Fishes
DESCRIPTION:
URL:https://oldediblerenotahoe.com/event/cucina-lupos-feast-of-the-7-fishes-2024-12-22/
LOCATION:Cucina Lupo\, 308 N Curry St.\, Carson City\, NV\, 89703
END:VEVENT
BEGIN:VEVENT
DTSTART;TZID=America/Los_Angeles:20241222T190000
DTEND;TZID=America/Los_Angeles:20241222T210000
DTSTAMP:20260425T084011
CREATED:20240913T042111Z
LAST-MODIFIED:20240913T042111Z
UID:40109-1734894000-1734901200@oldediblerenotahoe.com
SUMMARY:Santa's Epic Holiday Show!
DESCRIPTION:A spectacular Holiday Cirque show featuring Holograms\, Projection Mapping\, Interactive Lasers and amazing cirque performers.
URL:https://oldediblerenotahoe.com/event/santas-epic-holiday-show-2024-12-22/
LOCATION:Grand Sierra Resort\, 2500 E 2nd St\, Reno\, NV
END:VEVENT
BEGIN:VEVENT
DTSTART;TZID=America/Los_Angeles:20241222T200000
DTEND;TZID=America/Los_Angeles:20241222T220000
DTSTAMP:20260425T084011
CREATED:20231227T224115Z
LAST-MODIFIED:20231227T224115Z
UID:39485-1734897600-1734904800@oldediblerenotahoe.com
SUMMARY:The Nutcracker
DESCRIPTION:The stage at the Pioneer Center for the Performing Arts will be alive with a sugar plum fairy and dancing mice as A.V.A. Ballet Theatre presents the annual Nutcracker Ballet.  Artistic director Alexander Van Alstyne has choreographed an exciting rendition of the popular holiday ballet and the Reno Philharmonic Orchestra will perform Tchaikovsky’s moving score. Laura Jackson will be conducting the orchestra. Due to popular demand\, we will continue to have a fifth performance. \nPrincipal dancers who have performed with professional ballet companies such as Ballet West\, Kansas City Ballet and the Diablo Ballet will perform the leading roles along side a large cast of local talent. \nA special Sugar Plum party will be held after the Saturday and Sunday afternoon performances where children can meet the Nutcracker characters.
URL:https://oldediblerenotahoe.com/event/the-nutcracker-2024-12-22/
LOCATION:Pioneer Center\, 100 S. Virginia St.\, Reno\, NV\, 89501
CATEGORIES:Dance,Holiday,Music
END:VEVENT
END:VCALENDAR