BEGIN:VCALENDAR
VERSION:2.0
PRODID:-//Edible Reno-Tahoe - ECPv6.15.20//NONSGML v1.0//EN
CALSCALE:GREGORIAN
METHOD:PUBLISH
X-ORIGINAL-URL:https://oldediblerenotahoe.com
X-WR-CALDESC:Events for Edible Reno-Tahoe
REFRESH-INTERVAL;VALUE=DURATION:PT1H
X-Robots-Tag:noindex
X-PUBLISHED-TTL:PT1H
BEGIN:VTIMEZONE
TZID:America/Los_Angeles
BEGIN:DAYLIGHT
TZOFFSETFROM:-0800
TZOFFSETTO:-0700
TZNAME:PDT
DTSTART:20240310T100000
END:DAYLIGHT
BEGIN:STANDARD
TZOFFSETFROM:-0700
TZOFFSETTO:-0800
TZNAME:PST
DTSTART:20241103T090000
END:STANDARD
BEGIN:DAYLIGHT
TZOFFSETFROM:-0800
TZOFFSETTO:-0700
TZNAME:PDT
DTSTART:20250309T100000
END:DAYLIGHT
BEGIN:STANDARD
TZOFFSETFROM:-0700
TZOFFSETTO:-0800
TZNAME:PST
DTSTART:20251102T090000
END:STANDARD
BEGIN:DAYLIGHT
TZOFFSETFROM:-0800
TZOFFSETTO:-0700
TZNAME:PDT
DTSTART:20260308T100000
END:DAYLIGHT
BEGIN:STANDARD
TZOFFSETFROM:-0700
TZOFFSETTO:-0800
TZNAME:PST
DTSTART:20261101T090000
END:STANDARD
END:VTIMEZONE
BEGIN:VEVENT
DTSTART;TZID=America/Los_Angeles:20250131T180000
DTEND;TZID=America/Los_Angeles:20250131T200000
DTSTAMP:20260424T201527
CREATED:20250129T232810Z
LAST-MODIFIED:20250129T232810Z
UID:41304-1738346400-1738353600@oldediblerenotahoe.com
SUMMARY:Ramen & Asian Dumpling Workshop
DESCRIPTION:
URL:https://oldediblerenotahoe.com/event/ramen-asian-dumpling-workshop-2/
LOCATION:Nothing To It!\, 225 Crummer Lane\, Reno\, NV\, 89502\, United States
END:VEVENT
BEGIN:VEVENT
DTSTART;TZID=America/Los_Angeles:20250131T190000
DTEND;TZID=America/Los_Angeles:20250131T210000
DTSTAMP:20260424T201527
CREATED:20250109T015252Z
LAST-MODIFIED:20250109T015252Z
UID:41124-1738350000-1738357200@oldediblerenotahoe.com
SUMMARY:Clint Black
DESCRIPTION:Country music legend Clint Black is celebrating the 35th anniversary of his iconic debut album\, Killin’ Time\, with a special world tour\, making a stop at the Grand Sierra Resort. A triple threat as a singer\, guitarist\, and songwriter\, Black has sold over 20 million records\, earned 22 #1 singles\, and received numerous awards\, including a Grammy and multiple CMA\, ACM\, and American Music Awards\, as well as membership in the Grand Ole Opry. Honored with stars on both the Hollywood and Nashville Walks of Fame\, Black’s contributions to country music are legendary. His style spans traditional country\, honky-tonk\, and Western swing\, drawing influence from greats like Waylon Jennings\, Willie Nelson\, and Merle Haggard\, with whom his smooth baritone voice is often compared.
URL:https://oldediblerenotahoe.com/event/clint-black-2/
LOCATION:Grand Sierra Resort\, 2500 E 2nd St\, Reno\, NV
END:VEVENT
BEGIN:VEVENT
DTSTART;TZID=America/Los_Angeles:20250131T200000
DTEND;TZID=America/Los_Angeles:20250131T230000
DTSTAMP:20260424T201527
CREATED:20250109T015342Z
LAST-MODIFIED:20250109T015342Z
UID:41126-1738353600-1738364400@oldediblerenotahoe.com
SUMMARY:Brew HaHa
DESCRIPTION:
URL:https://oldediblerenotahoe.com/event/brew-haha/
LOCATION:Nugget Casino Resort\, 1100 Nugget Avenue\,\, Sparks\, NV
END:VEVENT
END:VCALENDAR