BEGIN:VCALENDAR
VERSION:2.0
PRODID:-//Edible Reno-Tahoe - ECPv6.15.20//NONSGML v1.0//EN
CALSCALE:GREGORIAN
METHOD:PUBLISH
X-ORIGINAL-URL:https://oldediblerenotahoe.com
X-WR-CALDESC:Events for Edible Reno-Tahoe
REFRESH-INTERVAL;VALUE=DURATION:PT1H
X-Robots-Tag:noindex
X-PUBLISHED-TTL:PT1H
BEGIN:VTIMEZONE
TZID:America/Los_Angeles
BEGIN:DAYLIGHT
TZOFFSETFROM:-0800
TZOFFSETTO:-0700
TZNAME:PDT
DTSTART:20240310T100000
END:DAYLIGHT
BEGIN:STANDARD
TZOFFSETFROM:-0700
TZOFFSETTO:-0800
TZNAME:PST
DTSTART:20241103T090000
END:STANDARD
BEGIN:DAYLIGHT
TZOFFSETFROM:-0800
TZOFFSETTO:-0700
TZNAME:PDT
DTSTART:20250309T100000
END:DAYLIGHT
BEGIN:STANDARD
TZOFFSETFROM:-0700
TZOFFSETTO:-0800
TZNAME:PST
DTSTART:20251102T090000
END:STANDARD
BEGIN:DAYLIGHT
TZOFFSETFROM:-0800
TZOFFSETTO:-0700
TZNAME:PDT
DTSTART:20260308T100000
END:DAYLIGHT
BEGIN:STANDARD
TZOFFSETFROM:-0700
TZOFFSETTO:-0800
TZNAME:PST
DTSTART:20261101T090000
END:STANDARD
END:VTIMEZONE
BEGIN:VEVENT
DTSTART;TZID=America/Los_Angeles:20250201T093000
DTEND;TZID=America/Los_Angeles:20250201T113000
DTSTAMP:20260424T201524
CREATED:20250129T232943Z
LAST-MODIFIED:20250129T232943Z
UID:41306-1738402200-1738409400@oldediblerenotahoe.com
SUMMARY:Artisan Bread Workshop
DESCRIPTION:
URL:https://oldediblerenotahoe.com/event/artisan-bread-workshop-5/
LOCATION:Nothing To It!\, 225 Crummer Lane\, Reno\, NV\, 89502\, United States
END:VEVENT
BEGIN:VEVENT
DTSTART;TZID=America/Los_Angeles:20250201T100000
DTEND;TZID=America/Los_Angeles:20250201T120000
DTSTAMP:20260424T201524
CREATED:20241216T191121Z
LAST-MODIFIED:20241216T191121Z
UID:40753-1738404000-1738411200@oldediblerenotahoe.com
SUMMARY:Sustainable Gardening 101
DESCRIPTION:Reconnect with the natural world by creating healthy and nuturing spaces for yourself and your family! In Sustainable Gardening 101\, you will develop confidence in your ability to grow something meaningful\, whether that’s a small herb garden\, a thriving pollinator habitat\, or a community project that revitalizes and underused space. You will leave this class with the knowledge\, passion and vision for a lifelong love of gardening and a commitment to sustainable practices.
URL:https://oldediblerenotahoe.com/event/sustainable-gardening-101-2025-02-01/
LOCATION:Western Nevada College\, 2201 West College Pkwy\, Carson City\, NV\, 89703
END:VEVENT
BEGIN:VEVENT
DTSTART;TZID=America/Los_Angeles:20250201T110000
DTEND;TZID=America/Los_Angeles:20250201T120000
DTSTAMP:20260424T201524
CREATED:20250114T040855Z
LAST-MODIFIED:20250114T040855Z
UID:41203-1738407600-1738411200@oldediblerenotahoe.com
SUMMARY:Hoop House Class
DESCRIPTION:In Rail City Garden Center’s hoop house class\, you will learn all the tips and tricks on building\, using and maintaing a hoop house. Great for keeping your garden going even in the cold winter months.
URL:https://oldediblerenotahoe.com/event/hoop-house-class/
LOCATION:Rail City Garden Center\, 1720 Brierley Way\, Sparks\, NV\, 89434
END:VEVENT
BEGIN:VEVENT
DTSTART;TZID=America/Los_Angeles:20250201T180000
DTEND;TZID=America/Los_Angeles:20250201T200000
DTSTAMP:20260424T201524
CREATED:20240811T012147Z
LAST-MODIFIED:20240811T012147Z
UID:39619-1738432800-1738440000@oldediblerenotahoe.com
SUMMARY:Reno Chamber Orchestra's Baroque to Beatles
DESCRIPTION:
URL:https://oldediblerenotahoe.com/event/reno-chamber-orchestras-baroque-to-beatles/
LOCATION:Nightingale Concert Hall\, 1335 N Virginia St\, Reno\, NV
END:VEVENT
BEGIN:VEVENT
DTSTART;TZID=America/Los_Angeles:20250201T200000
DTEND;TZID=America/Los_Angeles:20250201T220000
DTSTAMP:20260424T201524
CREATED:20240713T214052Z
LAST-MODIFIED:20240713T214052Z
UID:39403-1738440000-1738447200@oldediblerenotahoe.com
SUMMARY:Magique - The Show of Shows
DESCRIPTION:Magique is Reno’s resident five-star attraction that is sure to amaze and entertain audiences of all ages. Featuring a cast of 10\, Magique is a whirlwind of excitement with over 20 grand illusions\, 100+ elaborate handmade costumes\, an epic soundtrack\, and special effects galore. Magique is the perfect event for your night out in Reno. Magique is truly the show of shows with hundreds of rave reviews on TripAdvisor\, Yelp\, Google and Facebook. Don’t miss this unique Reno experience!
URL:https://oldediblerenotahoe.com/event/magique-the-show-of-shows-2025-02-01/
LOCATION:The Theatre\, 505 Keystone Ave\, Reno\, NV\, 89503
END:VEVENT
END:VCALENDAR