BEGIN:VCALENDAR
VERSION:2.0
PRODID:-//Edible Reno-Tahoe - ECPv6.15.20//NONSGML v1.0//EN
CALSCALE:GREGORIAN
METHOD:PUBLISH
X-ORIGINAL-URL:https://oldediblerenotahoe.com
X-WR-CALDESC:Events for Edible Reno-Tahoe
REFRESH-INTERVAL;VALUE=DURATION:PT1H
X-Robots-Tag:noindex
X-PUBLISHED-TTL:PT1H
BEGIN:VTIMEZONE
TZID:America/Los_Angeles
BEGIN:DAYLIGHT
TZOFFSETFROM:-0800
TZOFFSETTO:-0700
TZNAME:PDT
DTSTART:20240310T100000
END:DAYLIGHT
BEGIN:STANDARD
TZOFFSETFROM:-0700
TZOFFSETTO:-0800
TZNAME:PST
DTSTART:20241103T090000
END:STANDARD
BEGIN:DAYLIGHT
TZOFFSETFROM:-0800
TZOFFSETTO:-0700
TZNAME:PDT
DTSTART:20250309T100000
END:DAYLIGHT
BEGIN:STANDARD
TZOFFSETFROM:-0700
TZOFFSETTO:-0800
TZNAME:PST
DTSTART:20251102T090000
END:STANDARD
BEGIN:DAYLIGHT
TZOFFSETFROM:-0800
TZOFFSETTO:-0700
TZNAME:PDT
DTSTART:20260308T100000
END:DAYLIGHT
BEGIN:STANDARD
TZOFFSETFROM:-0700
TZOFFSETTO:-0800
TZNAME:PST
DTSTART:20261101T090000
END:STANDARD
END:VTIMEZONE
BEGIN:VEVENT
DTSTART;TZID=America/Los_Angeles:20250202T080000
DTEND;TZID=America/Los_Angeles:20250202T100000
DTSTAMP:20260424T184454
CREATED:20250114T051235Z
LAST-MODIFIED:20250114T051235Z
UID:41278-1738483200-1738490400@oldediblerenotahoe.com
SUMMARY:Birds in the Garden
DESCRIPTION:Experience an early morning walk as Lauren Whitenack guides us in exploring the varied habitat in and around the Wilbur D. May Arboretum and Botanical Garden\, observing different bird species\, wildlife and more.
URL:https://oldediblerenotahoe.com/event/birds-in-the-garden-3/
LOCATION:Wilbur D. May Arboretum and Botanical Garden\, Reno
END:VEVENT
BEGIN:VEVENT
DTSTART;TZID=America/Los_Angeles:20250202T180000
DTEND;TZID=America/Los_Angeles:20250202T200000
DTSTAMP:20260424T184454
CREATED:20240811T012147Z
LAST-MODIFIED:20240811T012147Z
UID:39620-1738519200-1738526400@oldediblerenotahoe.com
SUMMARY:Reno Chamber Orchestra's Baroque to Beatles
DESCRIPTION:
URL:https://oldediblerenotahoe.com/event/reno-chamber-orchestras-baroque-to-beatles-2025-02-02/
LOCATION:Nightingale Concert Hall\, 1335 N Virginia St\, Reno\, NV
END:VEVENT
END:VCALENDAR