BEGIN:VCALENDAR
VERSION:2.0
PRODID:-//Edible Reno-Tahoe - ECPv6.15.20//NONSGML v1.0//EN
CALSCALE:GREGORIAN
METHOD:PUBLISH
X-WR-CALNAME:Edible Reno-Tahoe
X-ORIGINAL-URL:https://oldediblerenotahoe.com
X-WR-CALDESC:Events for Edible Reno-Tahoe
REFRESH-INTERVAL;VALUE=DURATION:PT1H
X-Robots-Tag:noindex
X-PUBLISHED-TTL:PT1H
BEGIN:VTIMEZONE
TZID:America/Los_Angeles
BEGIN:DAYLIGHT
TZOFFSETFROM:-0800
TZOFFSETTO:-0700
TZNAME:PDT
DTSTART:20240310T100000
END:DAYLIGHT
BEGIN:STANDARD
TZOFFSETFROM:-0700
TZOFFSETTO:-0800
TZNAME:PST
DTSTART:20241103T090000
END:STANDARD
BEGIN:DAYLIGHT
TZOFFSETFROM:-0800
TZOFFSETTO:-0700
TZNAME:PDT
DTSTART:20250309T100000
END:DAYLIGHT
BEGIN:STANDARD
TZOFFSETFROM:-0700
TZOFFSETTO:-0800
TZNAME:PST
DTSTART:20251102T090000
END:STANDARD
BEGIN:DAYLIGHT
TZOFFSETFROM:-0800
TZOFFSETTO:-0700
TZNAME:PDT
DTSTART:20260308T100000
END:DAYLIGHT
BEGIN:STANDARD
TZOFFSETFROM:-0700
TZOFFSETTO:-0800
TZNAME:PST
DTSTART:20261101T090000
END:STANDARD
END:VTIMEZONE
BEGIN:VEVENT
DTSTART;TZID=America/Los_Angeles:20250204T180000
DTEND;TZID=America/Los_Angeles:20250204T200000
DTSTAMP:20260424T184435
CREATED:20250209T211507Z
LAST-MODIFIED:20250209T211507Z
UID:41389-1738692000-1738699200@oldediblerenotahoe.com
SUMMARY:Gardening in Nevada: Fruit Tree Selection
DESCRIPTION:
URL:https://oldediblerenotahoe.com/event/gardening-in-nevada-fruit-tree-selection/
LOCATION:Bartley Ranch
END:VEVENT
BEGIN:VEVENT
DTSTART;TZID=America/Los_Angeles:20250204T193000
DTEND;TZID=America/Los_Angeles:20250204T213000
DTSTAMP:20260424T184435
CREATED:20250114T042300Z
LAST-MODIFIED:20250114T042300Z
UID:41223-1738697400-1738704600@oldediblerenotahoe.com
SUMMARY:Some Like It Hot
DESCRIPTION:Winner of 4 Tony Awards®\, including Best Choreography and Best Costumes\, and the Grammy Award® for Best Musical Theatre Album\, SOME LIKE IT HOT is “A Super-Sized\, All-Out Song-And-Dance Spectacular!” – The New York Times \nSet in Chicago when Prohibition has everyone thirsty for a little excitement\, SOME LIKE IT HOT is the “glorious\, big\, high-kicking” (Associated Press) story of two musicians forced to flee the Windy City after witnessing a mob hit. With gangsters hot on their heels\, they catch a cross-country train for the life-chasing\, life-changing trip of a lifetime. \nAnd what a trip it is! With its irresistible combination of heart and laughs\, song and dance\, SOME LIKE IT HOT won more theater awards than any show in its season\, and was named Best Musical by the Drama Desk\, The Drama League\, and the Outer Critics Circle. No wonder Deadline calls it “a tap-dancing\, razzle-dazzling embrace of everything you love about musical theater.”
URL:https://oldediblerenotahoe.com/event/some-like-it-hot/
LOCATION:Pioneer Center\, 100 S. Virginia St.\, Reno\, NV\, 89501
END:VEVENT
END:VCALENDAR