BEGIN:VCALENDAR
VERSION:2.0
PRODID:-//Edible Reno-Tahoe - ECPv6.15.20//NONSGML v1.0//EN
CALSCALE:GREGORIAN
METHOD:PUBLISH
X-WR-CALNAME:Edible Reno-Tahoe
X-ORIGINAL-URL:https://oldediblerenotahoe.com
X-WR-CALDESC:Events for Edible Reno-Tahoe
REFRESH-INTERVAL;VALUE=DURATION:PT1H
X-Robots-Tag:noindex
X-PUBLISHED-TTL:PT1H
BEGIN:VTIMEZONE
TZID:America/Los_Angeles
BEGIN:DAYLIGHT
TZOFFSETFROM:-0800
TZOFFSETTO:-0700
TZNAME:PDT
DTSTART:20240310T100000
END:DAYLIGHT
BEGIN:STANDARD
TZOFFSETFROM:-0700
TZOFFSETTO:-0800
TZNAME:PST
DTSTART:20241103T090000
END:STANDARD
BEGIN:DAYLIGHT
TZOFFSETFROM:-0800
TZOFFSETTO:-0700
TZNAME:PDT
DTSTART:20250309T100000
END:DAYLIGHT
BEGIN:STANDARD
TZOFFSETFROM:-0700
TZOFFSETTO:-0800
TZNAME:PST
DTSTART:20251102T090000
END:STANDARD
BEGIN:DAYLIGHT
TZOFFSETFROM:-0800
TZOFFSETTO:-0700
TZNAME:PDT
DTSTART:20260308T100000
END:DAYLIGHT
BEGIN:STANDARD
TZOFFSETFROM:-0700
TZOFFSETTO:-0800
TZNAME:PST
DTSTART:20261101T090000
END:STANDARD
END:VTIMEZONE
BEGIN:VEVENT
DTSTART;TZID=America/Los_Angeles:20250209T110000
DTEND;TZID=America/Los_Angeles:20250222T120000
DTSTAMP:20260424T184431
CREATED:20250209T222856Z
LAST-MODIFIED:20250209T222856Z
UID:41457-1739098800-1740225600@oldediblerenotahoe.com
SUMMARY:Starting Veggies Class
DESCRIPTION:
URL:https://oldediblerenotahoe.com/event/starting-veggies-class-2/
LOCATION:Rail City Garden Center\, 1720 Brierley Way\, Sparks\, NV\, 89434
END:VEVENT
BEGIN:VEVENT
DTSTART;TZID=America/Los_Angeles:20250211T160000
DTEND;TZID=America/Los_Angeles:20250211T180000
DTSTAMP:20260424T184431
CREATED:20250129T233334Z
LAST-MODIFIED:20250129T233334Z
UID:41314-1739289600-1739296800@oldediblerenotahoe.com
SUMMARY:Kids Cook
DESCRIPTION:
URL:https://oldediblerenotahoe.com/event/kids-cook-5/
LOCATION:Nothing To It!\, 225 Crummer Lane\, Reno\, NV\, 89502\, United States
END:VEVENT
BEGIN:VEVENT
DTSTART;TZID=America/Los_Angeles:20250211T180000
DTEND;TZID=America/Los_Angeles:20250211T200000
DTSTAMP:20260424T184431
CREATED:20250209T211601Z
LAST-MODIFIED:20250209T211601Z
UID:41391-1739296800-1739304000@oldediblerenotahoe.com
SUMMARY:Gardening in Nevada: All About Seeds
DESCRIPTION:
URL:https://oldediblerenotahoe.com/event/gardening-in-nevada-all-about-seeds/
LOCATION:NV
END:VEVENT
END:VCALENDAR