BEGIN:VCALENDAR
VERSION:2.0
PRODID:-//Edible Reno-Tahoe - ECPv6.15.20//NONSGML v1.0//EN
CALSCALE:GREGORIAN
METHOD:PUBLISH
X-ORIGINAL-URL:https://oldediblerenotahoe.com
X-WR-CALDESC:Events for Edible Reno-Tahoe
REFRESH-INTERVAL;VALUE=DURATION:PT1H
X-Robots-Tag:noindex
X-PUBLISHED-TTL:PT1H
BEGIN:VTIMEZONE
TZID:America/Los_Angeles
BEGIN:DAYLIGHT
TZOFFSETFROM:-0800
TZOFFSETTO:-0700
TZNAME:PDT
DTSTART:20240310T100000
END:DAYLIGHT
BEGIN:STANDARD
TZOFFSETFROM:-0700
TZOFFSETTO:-0800
TZNAME:PST
DTSTART:20241103T090000
END:STANDARD
BEGIN:DAYLIGHT
TZOFFSETFROM:-0800
TZOFFSETTO:-0700
TZNAME:PDT
DTSTART:20250309T100000
END:DAYLIGHT
BEGIN:STANDARD
TZOFFSETFROM:-0700
TZOFFSETTO:-0800
TZNAME:PST
DTSTART:20251102T090000
END:STANDARD
BEGIN:DAYLIGHT
TZOFFSETFROM:-0800
TZOFFSETTO:-0700
TZNAME:PDT
DTSTART:20260308T100000
END:DAYLIGHT
BEGIN:STANDARD
TZOFFSETFROM:-0700
TZOFFSETTO:-0800
TZNAME:PST
DTSTART:20261101T090000
END:STANDARD
END:VTIMEZONE
BEGIN:VEVENT
DTSTART;TZID=America/Los_Angeles:20250209T110000
DTEND;TZID=America/Los_Angeles:20250222T120000
DTSTAMP:20260424T184454
CREATED:20250209T222856Z
LAST-MODIFIED:20250209T222856Z
UID:41457-1739098800-1740225600@oldediblerenotahoe.com
SUMMARY:Starting Veggies Class
DESCRIPTION:
URL:https://oldediblerenotahoe.com/event/starting-veggies-class-2/
LOCATION:Rail City Garden Center\, 1720 Brierley Way\, Sparks\, NV\, 89434
END:VEVENT
BEGIN:VEVENT
DTSTART;VALUE=DATE:20250215
DTEND;VALUE=DATE:20250217
DTSTAMP:20260424T184454
CREATED:20241216T190147Z
LAST-MODIFIED:20241216T190147Z
UID:40739-1739577600-1739750399@oldediblerenotahoe.com
SUMMARY:Lake Tahoe Winter Reggae Festival
DESCRIPTION:
URL:https://oldediblerenotahoe.com/event/lake-tahoe-winter-reggae-festival-2/
LOCATION:Tahoe Blue Event Center\, Stateline\, NV
END:VEVENT
BEGIN:VEVENT
DTSTART;TZID=America/Los_Angeles:20250215T100000
DTEND;TZID=America/Los_Angeles:20250215T120000
DTSTAMP:20260424T184454
CREATED:20241216T191121Z
LAST-MODIFIED:20241216T191121Z
UID:40755-1739613600-1739620800@oldediblerenotahoe.com
SUMMARY:Sustainable Gardening 101
DESCRIPTION:Reconnect with the natural world by creating healthy and nuturing spaces for yourself and your family! In Sustainable Gardening 101\, you will develop confidence in your ability to grow something meaningful\, whether that’s a small herb garden\, a thriving pollinator habitat\, or a community project that revitalizes and underused space. You will leave this class with the knowledge\, passion and vision for a lifelong love of gardening and a commitment to sustainable practices.
URL:https://oldediblerenotahoe.com/event/sustainable-gardening-101-2025-02-15/
LOCATION:Western Nevada College\, 2201 West College Pkwy\, Carson City\, NV\, 89703
END:VEVENT
BEGIN:VEVENT
DTSTART;TZID=America/Los_Angeles:20250215T100000
DTEND;TZID=America/Los_Angeles:20250215T120000
DTSTAMP:20260424T184454
CREATED:20250209T230312Z
LAST-MODIFIED:20250209T230312Z
UID:41497-1739613600-1739620800@oldediblerenotahoe.com
SUMMARY:Potatoes\, Hasselback & Potato Pave with Duck Fat Class
DESCRIPTION:Who loves potatoes!?! We Do!!! Both recipes are tender inside and prepared using luscious Duck Fat to create the crispy outside.
URL:https://oldediblerenotahoe.com/event/potatoes-hasselback-potato-pave-with-duck-fat-class/
LOCATION:Sierra Chef\, 2292 Main Street\, Genoa\, NV
END:VEVENT
BEGIN:VEVENT
DTSTART;TZID=America/Los_Angeles:20250215T110000
DTEND;TZID=America/Los_Angeles:20250215T120000
DTSTAMP:20260424T184454
CREATED:20250114T041008Z
LAST-MODIFIED:20250114T041008Z
UID:41205-1739617200-1739620800@oldediblerenotahoe.com
SUMMARY:Mason Bees Class
DESCRIPTION:Mason Bees are generalists; they don’t stick to certain blossoms they pollinate whatever they find and like. They pollinate the following best: apricots\, almonds\, apples\, blueberries\, cherries\, nectarines\, peaches\, pears\, plums\, prunes\, raspberries\, strawberries\, and flowers in the rose family. They are very beneficial to home gardens and non- aggressive.
URL:https://oldediblerenotahoe.com/event/mason-bees-class/
LOCATION:Rail City Garden Center\, 1720 Brierley Way\, Sparks\, NV\, 89434
END:VEVENT
BEGIN:VEVENT
DTSTART;TZID=America/Los_Angeles:20250215T120000
DTEND;TZID=America/Los_Angeles:20250215T170000
DTSTAMP:20260424T184454
CREATED:20250209T221623Z
LAST-MODIFIED:20250209T221623Z
UID:41442-1739620800-1739638800@oldediblerenotahoe.com
SUMMARY:Devil Made Me Do It Saloon Crawl
DESCRIPTION:Search for more than silver on the Comstock with the 12th annual Devil Made Me Do It Saloon Crawl\, a sampling tour of Virginia City’s historic saloons and confectioners\, and the perfect Valentine’s soiree. The saloon crawl takes participants on a tasty journey through town\, sipping signature-themed drinks and enjoying sweet treats along the way. The best part? You choose your cup with wording options ‘single’\, ‘taken’\, or ‘open to suggestions’. Designated drivers can sign up to be ‘Cupid’ and get rewarded with a special cup\, goodies and other prizes.
URL:https://oldediblerenotahoe.com/event/devil-made-me-do-it-saloon-crawl-2/
LOCATION:Virginia City
END:VEVENT
BEGIN:VEVENT
DTSTART;TZID=America/Los_Angeles:20250215T140000
DTEND;TZID=America/Los_Angeles:20250215T160000
DTSTAMP:20260424T184454
CREATED:20250209T230408Z
LAST-MODIFIED:20250209T230408Z
UID:41499-1739628000-1739635200@oldediblerenotahoe.com
SUMMARY:Proper French Cut Rack of Lamb & Rosemary Garlic Lamb Lollipops
DESCRIPTION:Learn to properly French Cut a rack of lamb and then create rosemary garlic crusted lamb lollipops.
URL:https://oldediblerenotahoe.com/event/proper-french-cut-rack-of-lamb-rosemary-garlic-lamb-lollipops/
LOCATION:Sierra Chef\, 2292 Main Street\, Genoa\, NV
END:VEVENT
BEGIN:VEVENT
DTSTART;TZID=America/Los_Angeles:20250215T180000
DTEND;TZID=America/Los_Angeles:20250215T210000
DTSTAMP:20260424T184454
CREATED:20250129T233723Z
LAST-MODIFIED:20250129T233723Z
UID:41322-1739642400-1739653200@oldediblerenotahoe.com
SUMMARY:Couples - Love Bites Class
DESCRIPTION:
URL:https://oldediblerenotahoe.com/event/couples-love-bites-class-3/
LOCATION:Nothing To It!\, 225 Crummer Lane\, Reno\, NV\, 89502\, United States
END:VEVENT
BEGIN:VEVENT
DTSTART;TZID=America/Los_Angeles:20250215T180000
DTEND;TZID=America/Los_Angeles:20250215T210000
DTSTAMP:20260424T184454
CREATED:20250214T220312Z
LAST-MODIFIED:20250214T220312Z
UID:41623-1739642400-1739653200@oldediblerenotahoe.com
SUMMARY:Bread & Butter Band + DJ David Aaron
DESCRIPTION:
URL:https://oldediblerenotahoe.com/event/bread-butter-band-dj-david-aaron/
LOCATION:Lake Tahoe AleWorkx Reno
END:VEVENT
END:VCALENDAR