BEGIN:VCALENDAR
VERSION:2.0
PRODID:-//Edible Reno-Tahoe - ECPv6.15.20//NONSGML v1.0//EN
CALSCALE:GREGORIAN
METHOD:PUBLISH
X-ORIGINAL-URL:https://oldediblerenotahoe.com
X-WR-CALDESC:Events for Edible Reno-Tahoe
REFRESH-INTERVAL;VALUE=DURATION:PT1H
X-Robots-Tag:noindex
X-PUBLISHED-TTL:PT1H
BEGIN:VTIMEZONE
TZID:America/Los_Angeles
BEGIN:DAYLIGHT
TZOFFSETFROM:-0800
TZOFFSETTO:-0700
TZNAME:PDT
DTSTART:20240310T100000
END:DAYLIGHT
BEGIN:STANDARD
TZOFFSETFROM:-0700
TZOFFSETTO:-0800
TZNAME:PST
DTSTART:20241103T090000
END:STANDARD
BEGIN:DAYLIGHT
TZOFFSETFROM:-0800
TZOFFSETTO:-0700
TZNAME:PDT
DTSTART:20250309T100000
END:DAYLIGHT
BEGIN:STANDARD
TZOFFSETFROM:-0700
TZOFFSETTO:-0800
TZNAME:PST
DTSTART:20251102T090000
END:STANDARD
BEGIN:DAYLIGHT
TZOFFSETFROM:-0800
TZOFFSETTO:-0700
TZNAME:PDT
DTSTART:20260308T100000
END:DAYLIGHT
BEGIN:STANDARD
TZOFFSETFROM:-0700
TZOFFSETTO:-0800
TZNAME:PST
DTSTART:20261101T090000
END:STANDARD
END:VTIMEZONE
BEGIN:VEVENT
DTSTART;TZID=America/Los_Angeles:20250209T110000
DTEND;TZID=America/Los_Angeles:20250222T120000
DTSTAMP:20260424T184503
CREATED:20250209T222856Z
LAST-MODIFIED:20250209T222856Z
UID:41457-1739098800-1740225600@oldediblerenotahoe.com
SUMMARY:Starting Veggies Class
DESCRIPTION:
URL:https://oldediblerenotahoe.com/event/starting-veggies-class-2/
LOCATION:Rail City Garden Center\, 1720 Brierley Way\, Sparks\, NV\, 89434
END:VEVENT
BEGIN:VEVENT
DTSTART;VALUE=DATE:20250215
DTEND;VALUE=DATE:20250217
DTSTAMP:20260424T184503
CREATED:20241216T190147Z
LAST-MODIFIED:20241216T190147Z
UID:40739-1739577600-1739750399@oldediblerenotahoe.com
SUMMARY:Lake Tahoe Winter Reggae Festival
DESCRIPTION:
URL:https://oldediblerenotahoe.com/event/lake-tahoe-winter-reggae-festival-2/
LOCATION:Tahoe Blue Event Center\, Stateline\, NV
END:VEVENT
BEGIN:VEVENT
DTSTART;TZID=America/Los_Angeles:20250216T100000
DTEND;TZID=America/Los_Angeles:20250216T130000
DTSTAMP:20260424T184503
CREATED:20250209T230445Z
LAST-MODIFIED:20250209T230445Z
UID:41501-1739700000-1739710800@oldediblerenotahoe.com
SUMMARY:Cucina Campagna Brunch Buffet
DESCRIPTION:
URL:https://oldediblerenotahoe.com/event/cucina-campagna-brunch-buffet/
LOCATION:Sierra Chef\, 2292 Main Street\, Genoa\, NV
END:VEVENT
BEGIN:VEVENT
DTSTART;TZID=America/Los_Angeles:20250216T100000
DTEND;TZID=America/Los_Angeles:20250216T140000
DTSTAMP:20260424T184503
CREATED:20250214T220404Z
LAST-MODIFIED:20250214T220404Z
UID:41625-1739700000-1739714400@oldediblerenotahoe.com
SUMMARY:Boot Scootin Brunch + Heartbeat of Reno Lover's Brunch
DESCRIPTION:
URL:https://oldediblerenotahoe.com/event/boot-scootin-brunch-heartbeat-of-reno-lovers-brunch/
LOCATION:Lake Tahoe AleWorkx Reno
END:VEVENT
BEGIN:VEVENT
DTSTART;TZID=America/Los_Angeles:20250216T120000
DTEND;TZID=America/Los_Angeles:20250216T160000
DTSTAMP:20260424T184503
CREATED:20250209T213653Z
LAST-MODIFIED:20250209T213653Z
UID:41412-1739707200-1739721600@oldediblerenotahoe.com
SUMMARY:Cookies and Wine
DESCRIPTION:Enjoy your favorite Girl Scout Cookies paired with your favorite wines at Nevada Sunset Winery. This event supports the Girl Scouts of the Sierra Nevada.
URL:https://oldediblerenotahoe.com/event/cookies-and-wine/
LOCATION:Nevada Sunset Winery\, 415 E 4th St.\, Unit B\, Reno\, NV\, 89512
END:VEVENT
BEGIN:VEVENT
DTSTART;TZID=America/Los_Angeles:20250216T193000
DTEND;TZID=America/Los_Angeles:20250216T213000
DTSTAMP:20260424T184503
CREATED:20250114T042420Z
LAST-MODIFIED:20250114T042420Z
UID:41230-1739734200-1739741400@oldediblerenotahoe.com
SUMMARY:An Evening with Amy Grant
DESCRIPTION:Conventional wisdom has it that Amy Grant put Contemporary Christian Music on the map\, becoming the first CCM artist to have a platinum record\, the first to hit No. 1 on the Pop charts\, and the first to perform at the GRAMMY Awards. Since then\, Grant has been strumming her way through a thirty-plus year adventure as a singer-songwriter\, author\, television host\, and speaker. \nEarly on\, Grant’s iconic voice became instantly recognizable in both the Christian and pop worlds. Over the years\, she has sold more than 30 million albums world-wide\, including three multi-platinum\, six platinum\, and four gold. Her chart performance has also been consistent throughout her career\, boasting six No. 1 hits\, 10 “Top 40” Pop singles\, 17 “Top 40” Adult Contemporary tracks and multiple Contemporary Christian chart-toppers. In recognition of such success\, Grant has received 6 GRAMMY Awards and 26 Dove Awards\, a star on the Hollywood Walk of Fame\, and a star on the Music City Walk of Fame. Additionally\, she was most recently inducted into the Gospel Music Hall of Fame in Nashville.
URL:https://oldediblerenotahoe.com/event/an-evening-with-amy-grant/
LOCATION:Pioneer Center\, 100 S. Virginia St.\, Reno\, NV\, 89501
END:VEVENT
END:VCALENDAR