BEGIN:VCALENDAR
VERSION:2.0
PRODID:-//Edible Reno-Tahoe - ECPv6.15.20//NONSGML v1.0//EN
CALSCALE:GREGORIAN
METHOD:PUBLISH
X-ORIGINAL-URL:https://oldediblerenotahoe.com
X-WR-CALDESC:Events for Edible Reno-Tahoe
REFRESH-INTERVAL;VALUE=DURATION:PT1H
X-Robots-Tag:noindex
X-PUBLISHED-TTL:PT1H
BEGIN:VTIMEZONE
TZID:America/Los_Angeles
BEGIN:DAYLIGHT
TZOFFSETFROM:-0800
TZOFFSETTO:-0700
TZNAME:PDT
DTSTART:20240310T100000
END:DAYLIGHT
BEGIN:STANDARD
TZOFFSETFROM:-0700
TZOFFSETTO:-0800
TZNAME:PST
DTSTART:20241103T090000
END:STANDARD
BEGIN:DAYLIGHT
TZOFFSETFROM:-0800
TZOFFSETTO:-0700
TZNAME:PDT
DTSTART:20250309T100000
END:DAYLIGHT
BEGIN:STANDARD
TZOFFSETFROM:-0700
TZOFFSETTO:-0800
TZNAME:PST
DTSTART:20251102T090000
END:STANDARD
BEGIN:DAYLIGHT
TZOFFSETFROM:-0800
TZOFFSETTO:-0700
TZNAME:PDT
DTSTART:20260308T100000
END:DAYLIGHT
BEGIN:STANDARD
TZOFFSETFROM:-0700
TZOFFSETTO:-0800
TZNAME:PST
DTSTART:20261101T090000
END:STANDARD
END:VTIMEZONE
BEGIN:VEVENT
DTSTART;TZID=America/Los_Angeles:20250209T110000
DTEND;TZID=America/Los_Angeles:20250222T120000
DTSTAMP:20260424T201525
CREATED:20250209T222856Z
LAST-MODIFIED:20250209T222856Z
UID:41457-1739098800-1740225600@oldediblerenotahoe.com
SUMMARY:Starting Veggies Class
DESCRIPTION:
URL:https://oldediblerenotahoe.com/event/starting-veggies-class-2/
LOCATION:Rail City Garden Center\, 1720 Brierley Way\, Sparks\, NV\, 89434
END:VEVENT
BEGIN:VEVENT
DTSTART;VALUE=DATE:20250220
DTEND;VALUE=DATE:20250223
DTSTAMP:20260424T201525
CREATED:20241216T190803Z
LAST-MODIFIED:20241216T190803Z
UID:40749-1740009600-1740268799@oldediblerenotahoe.com
SUMMARY:Nevada State Beekeepers Conference
DESCRIPTION:
URL:https://oldediblerenotahoe.com/event/nevada-state-beekeepers-conference/
LOCATION:NV
END:VEVENT
BEGIN:VEVENT
DTSTART;TZID=America/Los_Angeles:20250222T100000
DTEND;TZID=America/Los_Angeles:20250222T120000
DTSTAMP:20260424T201525
CREATED:20241216T191121Z
LAST-MODIFIED:20241216T191121Z
UID:40756-1740218400-1740225600@oldediblerenotahoe.com
SUMMARY:Sustainable Gardening 101
DESCRIPTION:Reconnect with the natural world by creating healthy and nuturing spaces for yourself and your family! In Sustainable Gardening 101\, you will develop confidence in your ability to grow something meaningful\, whether that’s a small herb garden\, a thriving pollinator habitat\, or a community project that revitalizes and underused space. You will leave this class with the knowledge\, passion and vision for a lifelong love of gardening and a commitment to sustainable practices.
URL:https://oldediblerenotahoe.com/event/sustainable-gardening-101-2025-02-22/
LOCATION:Western Nevada College\, 2201 West College Pkwy\, Carson City\, NV\, 89703
END:VEVENT
BEGIN:VEVENT
DTSTART;TZID=America/Los_Angeles:20250222T100000
DTEND;TZID=America/Los_Angeles:20250222T120000
DTSTAMP:20260424T201525
CREATED:20250209T230633Z
LAST-MODIFIED:20250209T230633Z
UID:41505-1740218400-1740225600@oldediblerenotahoe.com
SUMMARY:Prep Today\, Eat Tomorrow – 5 Days of Deliciousness!
DESCRIPTION:Learn how planning and prepping meals ahead of time will give you the freedom and flexibility to create and store nutritious meals.
URL:https://oldediblerenotahoe.com/event/prep-today-eat-tomorrow-5-days-of-deliciousness/
LOCATION:Sierra Chef\, 2292 Main Street\, Genoa\, NV
END:VEVENT
BEGIN:VEVENT
DTSTART;TZID=America/Los_Angeles:20250222T100000
DTEND;TZID=America/Los_Angeles:20250222T123000
DTSTAMP:20260424T201525
CREATED:20250209T224345Z
LAST-MODIFIED:20250209T224345Z
UID:41465-1740218400-1740227400@oldediblerenotahoe.com
SUMMARY:Dead Plant Society: Starting Seeds Indoors
DESCRIPTION:Whether you have a full backyard or an apartment balcony\, growing your own seedlings for fresh herbs\, fruits\, or vegetables can be fun and “dirt cheap”! This workshop will; share the basics of starting spring and summer seedlings indoors including materials needed\, correct temperature\, planning and watering. One lucky Dead Plant Society attendee will go home with a “how to start seeds indoors” guide to get you started!
URL:https://oldediblerenotahoe.com/event/dead-plant-society-starting-seeds-indoors/
LOCATION:Urban Teaching Farm\, 1700 E 2nd Street\, Reno\, NV\, 89502
END:VEVENT
BEGIN:VEVENT
DTSTART;TZID=America/Los_Angeles:20250222T130000
DTEND;TZID=America/Los_Angeles:20250222T150000
DTSTAMP:20260424T201525
CREATED:20250209T231907Z
LAST-MODIFIED:20250209T231907Z
UID:41525-1740229200-1740236400@oldediblerenotahoe.com
SUMMARY:Root Beer Schnapps | Spirit & Cocktail Class
DESCRIPTION:
URL:https://oldediblerenotahoe.com/event/root-beer-schnapps-spirit-cocktail-class/
LOCATION:High Mark Distillery\, 4690 Longley Lane\, Unit 28\, Reno\, Nevada\, 89502
END:VEVENT
BEGIN:VEVENT
DTSTART;TZID=America/Los_Angeles:20250222T170000
DTEND;TZID=America/Los_Angeles:20250222T210000
DTSTAMP:20260424T201525
CREATED:20250114T035905Z
LAST-MODIFIED:20250114T035905Z
UID:41196-1740243600-1740258000@oldediblerenotahoe.com
SUMMARY:Snowshoe Cocktail Races
DESCRIPTION:Camp Richardson Resort’s friendly\, laugh-out-loud winter snowshoe competition returns to the beach in front of The Grove restaurant Jan. 18 and Feb. 22\, 2025. Racers are invited to try their luck and skill at racing with cocktail trays in hand through obstacles. The winner is the fastest and cleanest\, with trays and drinks intact. No experience is required\, but a hefty sense of balance is helpful. Registration is free\, and there are multiple race categories\, including men/women’s sprint\, obstacle and team. Competitors can win prizes that range from tickets for four to a Tahoe Knight Monsters home game\, day-use lift tickets from Sierra at Tahoe\, to dining certificates\, stays\, and merchandise.
URL:https://oldediblerenotahoe.com/event/snowshoe-cocktail-races-2025-02-22/
LOCATION:Camp Richardson Resort
END:VEVENT
BEGIN:VEVENT
DTSTART;TZID=America/Los_Angeles:20250222T170000
DTEND;TZID=America/Los_Angeles:20250222T220000
DTSTAMP:20260424T201525
CREATED:20250214T215350Z
LAST-MODIFIED:20250214T215350Z
UID:41614-1740243600-1740261600@oldediblerenotahoe.com
SUMMARY:Western Lights Festival
DESCRIPTION:This 3-day illuminated art festival will transform downtown Reno into an open-air gallery experience. Featuring over 30 art installations and 30+ live musical performances\, the festival will showcase cutting-edge art and light installations from local\, national\, and international artists. The Western Lights Festival is expected to be a major winter event\, further solidifying Reno’s reputation as a hub for artistic and cultural expression.
URL:https://oldediblerenotahoe.com/event/western-lights-festival-3/
LOCATION:Downtown Reno
END:VEVENT
BEGIN:VEVENT
DTSTART;TZID=America/Los_Angeles:20250222T180000
DTEND;TZID=America/Los_Angeles:20250222T200000
DTSTAMP:20260424T201525
CREATED:20250129T233950Z
LAST-MODIFIED:20250129T233950Z
UID:41328-1740247200-1740254400@oldediblerenotahoe.com
SUMMARY:Baguette Workshop
DESCRIPTION:
URL:https://oldediblerenotahoe.com/event/baguette-workshop/
LOCATION:Nothing To It!\, 225 Crummer Lane\, Reno\, NV\, 89502\, United States
END:VEVENT
BEGIN:VEVENT
DTSTART;TZID=America/Los_Angeles:20250222T183000
DTEND;TZID=America/Los_Angeles:20250222T230000
DTSTAMP:20260424T201525
CREATED:20250209T231800Z
LAST-MODIFIED:20250209T231800Z
UID:41523-1740249000-1740265200@oldediblerenotahoe.com
SUMMARY:Grand Funk Railroad
DESCRIPTION:
URL:https://oldediblerenotahoe.com/event/grand-funk-railroad/
LOCATION:Nugget Casino Resort\, 1100 Nugget Avenue\,\, Sparks\, NV
END:VEVENT
BEGIN:VEVENT
DTSTART;TZID=America/Los_Angeles:20250222T190000
DTEND;TZID=America/Los_Angeles:20250222T220000
DTSTAMP:20260424T201525
CREATED:20250209T231219Z
LAST-MODIFIED:20250209T231219Z
UID:41515-1740250800-1740261600@oldediblerenotahoe.com
SUMMARY:PBR Reno
DESCRIPTION:Experience the electrifying adrenaline rush of PBR! This is your chance to witness both rising bull riding talents and established superstars going head-to-head with powerful bucking bulls in this must-see competition! It’s where dreams collide with grit\, forging paths for the next generation of fearless riders!
URL:https://oldediblerenotahoe.com/event/pbr-reno-2/
LOCATION:Reno Events Center\, 400 North Center St.\, Reno\, NV\, 89501
END:VEVENT
BEGIN:VEVENT
DTSTART;TZID=America/Los_Angeles:20250222T193000
DTEND;TZID=America/Los_Angeles:20250222T220000
DTSTAMP:20260424T201525
CREATED:20250209T232018Z
LAST-MODIFIED:20250209T232018Z
UID:41527-1740252600-1740261600@oldediblerenotahoe.com
SUMMARY:Bruckner's Romantic Symphony
DESCRIPTION:
URL:https://oldediblerenotahoe.com/event/bruckners-romantic-symphony/
LOCATION:Pioneer Center\, 100 S. Virginia St.\, Reno\, NV\, 89501
END:VEVENT
BEGIN:VEVENT
DTSTART;TZID=America/Los_Angeles:20250222T200000
DTEND;TZID=America/Los_Angeles:20250222T230000
DTSTAMP:20260424T201525
CREATED:20250209T231717Z
LAST-MODIFIED:20250209T231717Z
UID:41521-1740254400-1740265200@oldediblerenotahoe.com
SUMMARY:Franco Escamilla
DESCRIPTION:
URL:https://oldediblerenotahoe.com/event/franco-escamilla/
LOCATION:Grand Sierra Resort\, 2500 E 2nd St\, Reno\, NV
END:VEVENT
END:VCALENDAR