BEGIN:VCALENDAR
VERSION:2.0
PRODID:-//Edible Reno-Tahoe - ECPv6.15.20//NONSGML v1.0//EN
CALSCALE:GREGORIAN
METHOD:PUBLISH
X-ORIGINAL-URL:https://oldediblerenotahoe.com
X-WR-CALDESC:Events for Edible Reno-Tahoe
REFRESH-INTERVAL;VALUE=DURATION:PT1H
X-Robots-Tag:noindex
X-PUBLISHED-TTL:PT1H
BEGIN:VTIMEZONE
TZID:America/Los_Angeles
BEGIN:DAYLIGHT
TZOFFSETFROM:-0800
TZOFFSETTO:-0700
TZNAME:PDT
DTSTART:20240310T100000
END:DAYLIGHT
BEGIN:STANDARD
TZOFFSETFROM:-0700
TZOFFSETTO:-0800
TZNAME:PST
DTSTART:20241103T090000
END:STANDARD
BEGIN:DAYLIGHT
TZOFFSETFROM:-0800
TZOFFSETTO:-0700
TZNAME:PDT
DTSTART:20250309T100000
END:DAYLIGHT
BEGIN:STANDARD
TZOFFSETFROM:-0700
TZOFFSETTO:-0800
TZNAME:PST
DTSTART:20251102T090000
END:STANDARD
BEGIN:DAYLIGHT
TZOFFSETFROM:-0800
TZOFFSETTO:-0700
TZNAME:PDT
DTSTART:20260308T100000
END:DAYLIGHT
BEGIN:STANDARD
TZOFFSETFROM:-0700
TZOFFSETTO:-0800
TZNAME:PST
DTSTART:20261101T090000
END:STANDARD
END:VTIMEZONE
BEGIN:VEVENT
DTSTART;TZID=America/Los_Angeles:20250223T100000
DTEND;TZID=America/Los_Angeles:20250223T120000
DTSTAMP:20260424T184502
CREATED:20250209T230723Z
LAST-MODIFIED:20250209T230723Z
UID:41507-1740304800-1740312000@oldediblerenotahoe.com
SUMMARY:Mastering Filled Pastas\, Raviolo al' Uovo
DESCRIPTION:Raviolo al’ Uovo is a traditional Italian dish of filled pasta with a runny egg filling that originated in the northern regions of Italy. This creamy\, rich\, and indulgent pasta dish is a staple of Italian cuisine. We will focus on 2 fillings\, Spinach Ricotta & Chicken Tarragon.
URL:https://oldediblerenotahoe.com/event/mastering-filled-pastas-raviolo-al-uovo/
LOCATION:Sierra Chef\, 2292 Main Street\, Genoa\, NV
END:VEVENT
BEGIN:VEVENT
DTSTART;TZID=America/Los_Angeles:20250223T140000
DTEND;TZID=America/Los_Angeles:20250223T160000
DTSTAMP:20260424T184502
CREATED:20250209T230813Z
LAST-MODIFIED:20250209T230813Z
UID:41509-1740319200-1740326400@oldediblerenotahoe.com
SUMMARY:Preparing the Proper Aperitivo
DESCRIPTION:A proper Italian aperitivo is more than just a pre-dinner ritual; it’s a cherished part of Italian culture that blends food\, drink\, and social connection. Aperitivo is the tradition of meeting up for a pre-dinner drink and some small plates of food usually in a bar or a cafe\, rather than a restaurant\, offered in the form of a food buffet. We will show you how to create the perfect Aperitivo.
URL:https://oldediblerenotahoe.com/event/preparing-the-proper-aperitivo/
LOCATION:Sierra Chef\, 2292 Main Street\, Genoa\, NV
END:VEVENT
BEGIN:VEVENT
DTSTART;TZID=America/Los_Angeles:20250223T160000
DTEND;TZID=America/Los_Angeles:20250223T190000
DTSTAMP:20260424T184502
CREATED:20250209T232058Z
LAST-MODIFIED:20250209T232058Z
UID:41529-1740326400-1740337200@oldediblerenotahoe.com
SUMMARY:Bruckner's Romantic Symphony
DESCRIPTION:
URL:https://oldediblerenotahoe.com/event/bruckners-romantic-symphony-2/
LOCATION:Pioneer Center\, 100 S. Virginia St.\, Reno\, NV\, 89501
END:VEVENT
END:VCALENDAR