BEGIN:VCALENDAR
VERSION:2.0
PRODID:-//Edible Reno-Tahoe - ECPv6.15.20//NONSGML v1.0//EN
CALSCALE:GREGORIAN
METHOD:PUBLISH
X-ORIGINAL-URL:https://oldediblerenotahoe.com
X-WR-CALDESC:Events for Edible Reno-Tahoe
REFRESH-INTERVAL;VALUE=DURATION:PT1H
X-Robots-Tag:noindex
X-PUBLISHED-TTL:PT1H
BEGIN:VTIMEZONE
TZID:America/Los_Angeles
BEGIN:DAYLIGHT
TZOFFSETFROM:-0800
TZOFFSETTO:-0700
TZNAME:PDT
DTSTART:20240310T100000
END:DAYLIGHT
BEGIN:STANDARD
TZOFFSETFROM:-0700
TZOFFSETTO:-0800
TZNAME:PST
DTSTART:20241103T090000
END:STANDARD
BEGIN:DAYLIGHT
TZOFFSETFROM:-0800
TZOFFSETTO:-0700
TZNAME:PDT
DTSTART:20250309T100000
END:DAYLIGHT
BEGIN:STANDARD
TZOFFSETFROM:-0700
TZOFFSETTO:-0800
TZNAME:PST
DTSTART:20251102T090000
END:STANDARD
BEGIN:DAYLIGHT
TZOFFSETFROM:-0800
TZOFFSETTO:-0700
TZNAME:PDT
DTSTART:20260308T100000
END:DAYLIGHT
BEGIN:STANDARD
TZOFFSETFROM:-0700
TZOFFSETTO:-0800
TZNAME:PST
DTSTART:20261101T090000
END:STANDARD
END:VTIMEZONE
BEGIN:VEVENT
DTSTART;TZID=America/Los_Angeles:20250225T173000
DTEND;TZID=America/Los_Angeles:20250225T203000
DTSTAMP:20260424T184500
CREATED:20250208T015159Z
LAST-MODIFIED:20250208T015159Z
UID:41355-1740504600-1740515400@oldediblerenotahoe.com
SUMMARY:Black Cultural Festival
DESCRIPTION:Open to faculty\, staff\, students and community members\, the celebration will feature food\, music\, performances and a chance to engage with on- and off-campus partners. Other events open to the local community include the Nevada Men’s Basketball game on Feb. 10 and the Nevada Women’s Basketball game on Feb. 26. \nThe program is coordinated by the Associated Students of the University of Nevada (ASUN)\, the Diversity\, Social Justice and Inclusion committee within Residential Life\, the African Student Association\, the Black Student Organization and the Multicultural Center.
URL:https://oldediblerenotahoe.com/event/black-cultural-festival/
LOCATION:Joe Crowley Student Union
END:VEVENT
BEGIN:VEVENT
DTSTART;TZID=America/Los_Angeles:20250225T180000
DTEND;TZID=America/Los_Angeles:20250225T200000
DTSTAMP:20260424T184500
CREATED:20250209T211740Z
LAST-MODIFIED:20250209T211740Z
UID:41395-1740506400-1740513600@oldediblerenotahoe.com
SUMMARY:Gardening in Nevada: Fire Adapted Landscapes
DESCRIPTION:
URL:https://oldediblerenotahoe.com/event/gardening-in-nevada-fire-adapted-landscapes/
LOCATION:NV
END:VEVENT
END:VCALENDAR