BEGIN:VCALENDAR
VERSION:2.0
PRODID:-//Edible Reno-Tahoe - ECPv6.15.20//NONSGML v1.0//EN
CALSCALE:GREGORIAN
METHOD:PUBLISH
X-ORIGINAL-URL:https://oldediblerenotahoe.com
X-WR-CALDESC:Events for Edible Reno-Tahoe
REFRESH-INTERVAL;VALUE=DURATION:PT1H
X-Robots-Tag:noindex
X-PUBLISHED-TTL:PT1H
BEGIN:VTIMEZONE
TZID:America/Los_Angeles
BEGIN:DAYLIGHT
TZOFFSETFROM:-0800
TZOFFSETTO:-0700
TZNAME:PDT
DTSTART:20240310T100000
END:DAYLIGHT
BEGIN:STANDARD
TZOFFSETFROM:-0700
TZOFFSETTO:-0800
TZNAME:PST
DTSTART:20241103T090000
END:STANDARD
BEGIN:DAYLIGHT
TZOFFSETFROM:-0800
TZOFFSETTO:-0700
TZNAME:PDT
DTSTART:20250309T100000
END:DAYLIGHT
BEGIN:STANDARD
TZOFFSETFROM:-0700
TZOFFSETTO:-0800
TZNAME:PST
DTSTART:20251102T090000
END:STANDARD
BEGIN:DAYLIGHT
TZOFFSETFROM:-0800
TZOFFSETTO:-0700
TZNAME:PDT
DTSTART:20260308T100000
END:DAYLIGHT
BEGIN:STANDARD
TZOFFSETFROM:-0700
TZOFFSETTO:-0800
TZNAME:PST
DTSTART:20261101T090000
END:STANDARD
END:VTIMEZONE
BEGIN:VEVENT
DTSTART;TZID=America/Los_Angeles:20250320T090000
DTEND;TZID=America/Los_Angeles:20250320T170000
DTSTAMP:20260424T171445
CREATED:20250209T204715Z
LAST-MODIFIED:20250209T204715Z
UID:41368-1742461200-1742490000@oldediblerenotahoe.com
SUMMARY:Nevada Bee & Garden Conference
DESCRIPTION:
URL:https://oldediblerenotahoe.com/event/nevada-bee-garden-conference/
LOCATION:Carson Valley Inn\, 1627 Hwy 395 N\,\, Minden\, NV
END:VEVENT
BEGIN:VEVENT
DTSTART;TZID=America/Los_Angeles:20250320T193000
DTEND;TZID=America/Los_Angeles:20250320T213000
DTSTAMP:20260424T171445
CREATED:20250221T235646Z
LAST-MODIFIED:20250221T235646Z
UID:41684-1742499000-1742506200@oldediblerenotahoe.com
SUMMARY:A Perfect Ganesh
DESCRIPTION:A Perfect Ganesh by Terrence McNally follows two American women\, Margaret and Katharine\, on a transformative journey to India. The play explores themes of grief\, healing\, and self-discovery as the women confront their personal tragedies and seek spiritual solace in the vibrant culture of India. The play’s narrative\, guided by Ganesha\, the Hindu god of wisdom and remover of obstacles\, appears to the two women in various forms throughout their journey\, offering guidance and support.
URL:https://oldediblerenotahoe.com/event/a-perfect-ganesh-2025-03-20/
LOCATION:Brüka Theatre\, 99 North Virginia Street\, Reno\, NV\, 89501
END:VEVENT
BEGIN:VEVENT
DTSTART;TZID=America/Los_Angeles:20250320T200000
DTEND;TZID=America/Los_Angeles:20250320T230000
DTSTAMP:20260424T171445
CREATED:20250209T233526Z
LAST-MODIFIED:20250209T233526Z
UID:41548-1742500800-1742511600@oldediblerenotahoe.com
SUMMARY:Justin Moore: Live in Concert
DESCRIPTION:
URL:https://oldediblerenotahoe.com/event/justin-moore-live-in-concert/
LOCATION:Grand Sierra Resort\, 2500 E 2nd St\, Reno\, NV
END:VEVENT
END:VCALENDAR