BEGIN:VCALENDAR
VERSION:2.0
PRODID:-//Edible Reno-Tahoe - ECPv6.15.20//NONSGML v1.0//EN
CALSCALE:GREGORIAN
METHOD:PUBLISH
X-ORIGINAL-URL:https://oldediblerenotahoe.com
X-WR-CALDESC:Events for Edible Reno-Tahoe
REFRESH-INTERVAL;VALUE=DURATION:PT1H
X-Robots-Tag:noindex
X-PUBLISHED-TTL:PT1H
BEGIN:VTIMEZONE
TZID:America/Los_Angeles
BEGIN:DAYLIGHT
TZOFFSETFROM:-0800
TZOFFSETTO:-0700
TZNAME:PDT
DTSTART:20240310T100000
END:DAYLIGHT
BEGIN:STANDARD
TZOFFSETFROM:-0700
TZOFFSETTO:-0800
TZNAME:PST
DTSTART:20241103T090000
END:STANDARD
BEGIN:DAYLIGHT
TZOFFSETFROM:-0800
TZOFFSETTO:-0700
TZNAME:PDT
DTSTART:20250309T100000
END:DAYLIGHT
BEGIN:STANDARD
TZOFFSETFROM:-0700
TZOFFSETTO:-0800
TZNAME:PST
DTSTART:20251102T090000
END:STANDARD
BEGIN:DAYLIGHT
TZOFFSETFROM:-0800
TZOFFSETTO:-0700
TZNAME:PDT
DTSTART:20260308T100000
END:DAYLIGHT
BEGIN:STANDARD
TZOFFSETFROM:-0700
TZOFFSETTO:-0800
TZNAME:PST
DTSTART:20261101T090000
END:STANDARD
END:VTIMEZONE
BEGIN:VEVENT
DTSTART;TZID=America/Los_Angeles:20250321T090000
DTEND;TZID=America/Los_Angeles:20250321T150000
DTSTAMP:20260424T142354
CREATED:20250312T182416Z
LAST-MODIFIED:20250312T182416Z
UID:42266-1742547600-1742569200@oldediblerenotahoe.com
SUMMARY:Country Roads ~ Farm & Producer Tour | California Artisan Cheese Festival
DESCRIPTION:Enjoy the day traveling along two lane country roads\, from Sebastopol to the coastal towns of Valley Ford and Freestone. Your first tour begins at Wm. Cofield Cheesemakers where you will be able to see how proper British style cheese is made from start to finish — from the milk vats operating on site to the aging room to the packaging and shipping area. Following the tour\, you will enjoy a full tasting of all Wm. Cofield has to offer.
URL:https://oldediblerenotahoe.com/event/country-roads-farm-producer-tour-california-artisan-cheese-festival/
LOCATION:Goldridge Organic Farms\, 3387 Canfield Rd.\, Sebastopol\, CA\, 95472
END:VEVENT
BEGIN:VEVENT
DTSTART;TZID=America/Los_Angeles:20250321T180000
DTEND;TZID=America/Los_Angeles:20250321T200000
DTSTAMP:20260424T142354
CREATED:20250209T225823Z
LAST-MODIFIED:20250209T225823Z
UID:41487-1742580000-1742587200@oldediblerenotahoe.com
SUMMARY:Sushi Class
DESCRIPTION:
URL:https://oldediblerenotahoe.com/event/sushi-class-3/
LOCATION:Nothing To It!\, 225 Crummer Lane\, Reno\, NV\, 89502\, United States
END:VEVENT
BEGIN:VEVENT
DTSTART;TZID=America/Los_Angeles:20250321T180000
DTEND;TZID=America/Los_Angeles:20250321T220000
DTSTAMP:20260424T142354
CREATED:20250314T003311Z
LAST-MODIFIED:20250314T003311Z
UID:42440-1742580000-1742594400@oldediblerenotahoe.com
SUMMARY:Step Back 2 the 80s with The Breakfast Klub
DESCRIPTION:The Breakfast Klub\, Reno’s legendary 80’s cover band\, will be rockin’ the stage with rad tunes from the decade\, so bring your best dance moves! Break out those acid wash jeans\, legwarmers\, and scunchies — Dressing in 80’s style is highly encouraged to capture the night’s memories in our retro 360 photo booth sponsored by Epics Photo Booth.
URL:https://oldediblerenotahoe.com/event/step-back-2-the-80s-with-the-breakfast-klub-2/
LOCATION:Silver Legacy Resort & Casino\, 407 North Virginia Street\, Reno\, NV\, 89501
END:VEVENT
BEGIN:VEVENT
DTSTART;TZID=America/Los_Angeles:20250321T193000
DTEND;TZID=America/Los_Angeles:20250321T213000
DTSTAMP:20260424T142354
CREATED:20250221T235646Z
LAST-MODIFIED:20250221T235646Z
UID:41685-1742585400-1742592600@oldediblerenotahoe.com
SUMMARY:A Perfect Ganesh
DESCRIPTION:A Perfect Ganesh by Terrence McNally follows two American women\, Margaret and Katharine\, on a transformative journey to India. The play explores themes of grief\, healing\, and self-discovery as the women confront their personal tragedies and seek spiritual solace in the vibrant culture of India. The play’s narrative\, guided by Ganesha\, the Hindu god of wisdom and remover of obstacles\, appears to the two women in various forms throughout their journey\, offering guidance and support.
URL:https://oldediblerenotahoe.com/event/a-perfect-ganesh-2025-03-21/
LOCATION:Brüka Theatre\, 99 North Virginia Street\, Reno\, NV\, 89501
END:VEVENT
END:VCALENDAR