BEGIN:VCALENDAR
VERSION:2.0
PRODID:-//Edible Reno-Tahoe - ECPv6.15.20//NONSGML v1.0//EN
CALSCALE:GREGORIAN
METHOD:PUBLISH
X-WR-CALNAME:Edible Reno-Tahoe
X-ORIGINAL-URL:https://oldediblerenotahoe.com
X-WR-CALDESC:Events for Edible Reno-Tahoe
REFRESH-INTERVAL;VALUE=DURATION:PT1H
X-Robots-Tag:noindex
X-PUBLISHED-TTL:PT1H
BEGIN:VTIMEZONE
TZID:America/Los_Angeles
BEGIN:DAYLIGHT
TZOFFSETFROM:-0800
TZOFFSETTO:-0700
TZNAME:PDT
DTSTART:20240310T100000
END:DAYLIGHT
BEGIN:STANDARD
TZOFFSETFROM:-0700
TZOFFSETTO:-0800
TZNAME:PST
DTSTART:20241103T090000
END:STANDARD
BEGIN:DAYLIGHT
TZOFFSETFROM:-0800
TZOFFSETTO:-0700
TZNAME:PDT
DTSTART:20250309T100000
END:DAYLIGHT
BEGIN:STANDARD
TZOFFSETFROM:-0700
TZOFFSETTO:-0800
TZNAME:PST
DTSTART:20251102T090000
END:STANDARD
BEGIN:DAYLIGHT
TZOFFSETFROM:-0800
TZOFFSETTO:-0700
TZNAME:PDT
DTSTART:20260308T100000
END:DAYLIGHT
BEGIN:STANDARD
TZOFFSETFROM:-0700
TZOFFSETTO:-0800
TZNAME:PST
DTSTART:20261101T090000
END:STANDARD
END:VTIMEZONE
BEGIN:VEVENT
DTSTART;TZID=America/Los_Angeles:20250322T093000
DTEND;TZID=America/Los_Angeles:20250322T113000
DTSTAMP:20260424T142322
CREATED:20250209T225857Z
LAST-MODIFIED:20250209T225857Z
UID:41489-1742635800-1742643000@oldediblerenotahoe.com
SUMMARY:Artisan Bread Workshop
DESCRIPTION:
URL:https://oldediblerenotahoe.com/event/artisan-bread-workshop-6/
LOCATION:Nothing To It!\, 225 Crummer Lane\, Reno\, NV\, 89502\, United States
END:VEVENT
BEGIN:VEVENT
DTSTART;TZID=America/Los_Angeles:20250322T110000
DTEND;TZID=America/Los_Angeles:20250322T120000
DTSTAMP:20260424T142322
CREATED:20250114T041524Z
LAST-MODIFIED:20250114T041524Z
UID:41213-1742641200-1742644800@oldediblerenotahoe.com
SUMMARY:All About Potatoes Spudtacular Class
DESCRIPTION:Learn how to grow and store potatoes with this helpful class.
URL:https://oldediblerenotahoe.com/event/all-about-potatoes-spudtacular-class/
LOCATION:Rail City Garden Center\, 1720 Brierley Way\, Sparks\, NV\, 89434
END:VEVENT
BEGIN:VEVENT
DTSTART;TZID=America/Los_Angeles:20250322T150000
DTEND;TZID=America/Los_Angeles:20250322T180000
DTSTAMP:20260424T142322
CREATED:20250312T182523Z
LAST-MODIFIED:20250312T182523Z
UID:42268-1742655600-1742666400@oldediblerenotahoe.com
SUMMARY:Cheese Crawl at the Barlow | California Artisan Cheese Festival
DESCRIPTION:Start your Saturday night off right with a fun discovery and adventure at The Barlow in Sebastopol.
URL:https://oldediblerenotahoe.com/event/cheese-crawl-at-the-barlow-california-artisan-cheese-festival/
LOCATION:Goldridge Organic Farms\, 3387 Canfield Rd.\, Sebastopol\, CA\, 95472
END:VEVENT
BEGIN:VEVENT
DTSTART;TZID=America/Los_Angeles:20250322T160000
DTEND;TZID=America/Los_Angeles:20250322T180000
DTSTAMP:20260424T142322
CREATED:20250114T042824Z
LAST-MODIFIED:20250114T042824Z
UID:41241-1742659200-1742666400@oldediblerenotahoe.com
SUMMARY:Reno Phil Presents Beethoven's Emperor Concerto
DESCRIPTION:Shakespeare once said\, “The earth has music for those who listen.” Embark on a journey through the Italian countryside with Respighi’s Pines of Rome\, crafting a breathtaking symphonic depiction of light\, land\, and the iconic scenery of Rome. Then hear the world premiere performance of The Sacrifice of Prometheus by Great Basin National Park’s Artist-in-Residence\, composer Marko Bajzer\, which tells the story of the planet’s oldest trees (and Nevada’s state tree!): the Great Basin Bristlecone Pines. Written for solo bass oboe\, orchestra\, and electronics\, listeners will experience the actual sounds emitted by the trees themselves\, as Bajzer used electrodes to monitor their electrical conductivity and converted the data into audible representations through new technology. A masterpiece made in misery\, Beethoven likely wrote his Emperor Piano Concerto while hiding in a basement. Under attack by Napoleon\, Vienna was in a state of emergency and this siege affected the composer\, “both body and soul.” Performed by Davidson Fellow\, Katherine Emma Liu\, the piano’s regal melodies converse with the orchestra in a display of Liu’s virtuosic brilliance.
URL:https://oldediblerenotahoe.com/event/reno-phil-presents-beethovens-emperor-concerto/
LOCATION:Pioneer Center\, 100 S. Virginia St.\, Reno\, NV\, 89501
END:VEVENT
BEGIN:VEVENT
DTSTART;TZID=America/Los_Angeles:20250322T193000
DTEND;TZID=America/Los_Angeles:20250322T213000
DTSTAMP:20260424T142322
CREATED:20250221T235646Z
LAST-MODIFIED:20250221T235646Z
UID:41687-1742671800-1742679000@oldediblerenotahoe.com
SUMMARY:A Perfect Ganesh
DESCRIPTION:A Perfect Ganesh by Terrence McNally follows two American women\, Margaret and Katharine\, on a transformative journey to India. The play explores themes of grief\, healing\, and self-discovery as the women confront their personal tragedies and seek spiritual solace in the vibrant culture of India. The play’s narrative\, guided by Ganesha\, the Hindu god of wisdom and remover of obstacles\, appears to the two women in various forms throughout their journey\, offering guidance and support.
URL:https://oldediblerenotahoe.com/event/a-perfect-ganesh-2025-03-22/
LOCATION:Brüka Theatre\, 99 North Virginia Street\, Reno\, NV\, 89501
END:VEVENT
BEGIN:VEVENT
DTSTART;TZID=America/Los_Angeles:20250322T200000
DTEND;TZID=America/Los_Angeles:20250322T220000
DTSTAMP:20260424T142322
CREATED:20250209T233725Z
LAST-MODIFIED:20250209T233725Z
UID:41552-1742673600-1742680800@oldediblerenotahoe.com
SUMMARY:TESLA: Keepin' It Real Tour
DESCRIPTION:
URL:https://oldediblerenotahoe.com/event/tesla-keepin-it-real-tour/
LOCATION:Grand Sierra Resort\, 2500 E 2nd St\, Reno\, NV
END:VEVENT
END:VCALENDAR