BEGIN:VCALENDAR
VERSION:2.0
PRODID:-//Edible Reno-Tahoe - ECPv6.15.20//NONSGML v1.0//EN
CALSCALE:GREGORIAN
METHOD:PUBLISH
X-WR-CALNAME:Edible Reno-Tahoe
X-ORIGINAL-URL:https://oldediblerenotahoe.com
X-WR-CALDESC:Events for Edible Reno-Tahoe
REFRESH-INTERVAL;VALUE=DURATION:PT1H
X-Robots-Tag:noindex
X-PUBLISHED-TTL:PT1H
BEGIN:VTIMEZONE
TZID:America/Los_Angeles
BEGIN:DAYLIGHT
TZOFFSETFROM:-0800
TZOFFSETTO:-0700
TZNAME:PDT
DTSTART:20240310T100000
END:DAYLIGHT
BEGIN:STANDARD
TZOFFSETFROM:-0700
TZOFFSETTO:-0800
TZNAME:PST
DTSTART:20241103T090000
END:STANDARD
BEGIN:DAYLIGHT
TZOFFSETFROM:-0800
TZOFFSETTO:-0700
TZNAME:PDT
DTSTART:20250309T100000
END:DAYLIGHT
BEGIN:STANDARD
TZOFFSETFROM:-0700
TZOFFSETTO:-0800
TZNAME:PST
DTSTART:20251102T090000
END:STANDARD
BEGIN:DAYLIGHT
TZOFFSETFROM:-0800
TZOFFSETTO:-0700
TZNAME:PDT
DTSTART:20260308T100000
END:DAYLIGHT
BEGIN:STANDARD
TZOFFSETFROM:-0700
TZOFFSETTO:-0800
TZNAME:PST
DTSTART:20261101T090000
END:STANDARD
END:VTIMEZONE
BEGIN:VEVENT
DTSTART;TZID=America/Los_Angeles:20250329T093000
DTEND;TZID=America/Los_Angeles:20250329T113000
DTSTAMP:20260424T142319
CREATED:20250209T230112Z
LAST-MODIFIED:20250209T230112Z
UID:41495-1743240600-1743247800@oldediblerenotahoe.com
SUMMARY:Eggs Benedict Workshop
DESCRIPTION:
URL:https://oldediblerenotahoe.com/event/eggs-benedict-workshop/
LOCATION:Nothing To It!\, 225 Crummer Lane\, Reno\, NV\, 89502\, United States
END:VEVENT
BEGIN:VEVENT
DTSTART;TZID=America/Los_Angeles:20250329T180000
DTEND;TZID=America/Los_Angeles:20250329T220000
DTSTAMP:20260424T142319
CREATED:20250208T015020Z
LAST-MODIFIED:20250208T015020Z
UID:41353-1743271200-1743285600@oldediblerenotahoe.com
SUMMARY:Dead Artists Ball
DESCRIPTION:A collaborative partnership between Dead Artists Ball\, helmed by creator Hindi Marciniak and entertainment producer Michelle Erskine of M. E. Entertainment\, the event will feature a costumed karaoke contest\, live performances and immersive art installations. Proceeds will support Sierra Arts Foundation’s advocacy and local art initiatives. Attendees are encouraged to arrive dressed as legendary visionaries\, artists either past or present\, or to arrive in red-carpet elegance for an evening of live entertainment\, competition and artistic celebration.
URL:https://oldediblerenotahoe.com/event/dead-artists-ball/
LOCATION:Whitney Peak Hotel
END:VEVENT
BEGIN:VEVENT
DTSTART;TZID=America/Los_Angeles:20250329T193000
DTEND;TZID=America/Los_Angeles:20250329T213000
DTSTAMP:20260424T142319
CREATED:20250114T042639Z
LAST-MODIFIED:20250114T042639Z
UID:41238-1743276600-1743283800@oldediblerenotahoe.com
SUMMARY:THE WIZ
DESCRIPTION:THE WIZ returns “home” to stages across America in an all-new Broadway tour\, the first one in 40 years. \nBaltimore Sun raves “Powerhouse performances.  Stunning choreography. Visionary sets” and Chicago Tribune proclaims THE WIZ is “An eye-popping and high-intensity revival!” \nThis groundbreaking twist on The Wizard of Oz changed the face of Broadway—from its iconic score packed with soul\, gospel\, rock\, and 70s funk to its stirring tale of Dorothy’s journey to find her place in a contemporary world. With direction by Schele Williams (The Notebook\, revival of Disney’s Aida)\, choreography by JaQuel Knight (Beyoncé’s “Single Ladies\,” Black Is King) and additional material by Tony-nominated and Emmy-nominated writer and TV host Amber Ruffin (The Amber Ruffin Show\, Late Night with Seth Meyers)\, this dynamite infusion of ballet\, jazz\, and modern pop brings a whole new groove to easing on down the road. Everybody rejoice!
URL:https://oldediblerenotahoe.com/event/the-wiz-2025-03-29/
LOCATION:Pioneer Center\, 100 S. Virginia St.\, Reno\, NV\, 89501
END:VEVENT
END:VCALENDAR