BEGIN:VCALENDAR
VERSION:2.0
PRODID:-//Edible Reno-Tahoe - ECPv6.15.20//NONSGML v1.0//EN
CALSCALE:GREGORIAN
METHOD:PUBLISH
X-WR-CALNAME:Edible Reno-Tahoe
X-ORIGINAL-URL:https://oldediblerenotahoe.com
X-WR-CALDESC:Events for Edible Reno-Tahoe
REFRESH-INTERVAL;VALUE=DURATION:PT1H
X-Robots-Tag:noindex
X-PUBLISHED-TTL:PT1H
BEGIN:VTIMEZONE
TZID:America/Los_Angeles
BEGIN:DAYLIGHT
TZOFFSETFROM:-0800
TZOFFSETTO:-0700
TZNAME:PDT
DTSTART:20240310T100000
END:DAYLIGHT
BEGIN:STANDARD
TZOFFSETFROM:-0700
TZOFFSETTO:-0800
TZNAME:PST
DTSTART:20241103T090000
END:STANDARD
BEGIN:DAYLIGHT
TZOFFSETFROM:-0800
TZOFFSETTO:-0700
TZNAME:PDT
DTSTART:20250309T100000
END:DAYLIGHT
BEGIN:STANDARD
TZOFFSETFROM:-0700
TZOFFSETTO:-0800
TZNAME:PST
DTSTART:20251102T090000
END:STANDARD
BEGIN:DAYLIGHT
TZOFFSETFROM:-0800
TZOFFSETTO:-0700
TZNAME:PDT
DTSTART:20260308T100000
END:DAYLIGHT
BEGIN:STANDARD
TZOFFSETFROM:-0700
TZOFFSETTO:-0800
TZNAME:PST
DTSTART:20261101T090000
END:STANDARD
END:VTIMEZONE
BEGIN:VEVENT
DTSTART;TZID=America/Los_Angeles:20250404T171500
DTEND;TZID=America/Los_Angeles:20250404T191500
DTSTAMP:20260424T154319
CREATED:20250323T185908Z
LAST-MODIFIED:20250323T185908Z
UID:42548-1743786900-1743794100@oldediblerenotahoe.com
SUMMARY:Easter Sugar Cookie Decorating Class
DESCRIPTION:
URL:https://oldediblerenotahoe.com/event/easter-sugar-cookie-decorating-class/
LOCATION:Mix Bakeshop\, 1117 California Avenue\, Reno\, NV\, 89509
END:VEVENT
BEGIN:VEVENT
DTSTART;TZID=America/Los_Angeles:20250404T173000
DTEND;TZID=America/Los_Angeles:20250404T210000
DTSTAMP:20260424T154319
CREATED:20250313T235957Z
LAST-MODIFIED:20250313T235957Z
UID:42404-1743787800-1743800400@oldediblerenotahoe.com
SUMMARY:9th Annual Wild & Scenic Film Festival
DESCRIPTION:
URL:https://oldediblerenotahoe.com/event/9th-annual-wild-scenic-film-festival/
LOCATION:NV
END:VEVENT
BEGIN:VEVENT
DTSTART;TZID=America/Los_Angeles:20250404T193000
DTEND;TZID=America/Los_Angeles:20250404T213000
DTSTAMP:20260424T154319
CREATED:20250221T235928Z
LAST-MODIFIED:20250221T235928Z
UID:41688-1743795000-1743802200@oldediblerenotahoe.com
SUMMARY:Stacy Spain - Playwright in Residence Presentation
DESCRIPTION:Stacey Spain\, exceptional local theatre artist and Executive Director of Our Center is Brüka Theatre’s Playwright In Residence for the 2024/25 season. Stacey’s work Crazy F*&%ing Kincaids will be workshopped and presented to audiences on April 4\, 5 at 7:30 PM and April 6 for a 2 PM matinee. Originally produced at Brüka’s Biggest Little Theater Festival in 2020 this new edition is a full length play with two additional characters. A dreamscape that explores the cost of betrayal and the power of love. A brother and sister discovering secrets and learning to trust after a death in the family. Sometimes truth is not the kindest option. Language and themes make this an ADULT PERFORMANCE.
URL:https://oldediblerenotahoe.com/event/stacy-spain-playwright-in-residence-presentation/
LOCATION:Brüka Theatre\, 99 North Virginia Street\, Reno\, NV\, 89501
END:VEVENT
END:VCALENDAR