BEGIN:VCALENDAR
VERSION:2.0
PRODID:-//Edible Reno-Tahoe - ECPv6.15.20//NONSGML v1.0//EN
CALSCALE:GREGORIAN
METHOD:PUBLISH
X-WR-CALNAME:Edible Reno-Tahoe
X-ORIGINAL-URL:https://oldediblerenotahoe.com
X-WR-CALDESC:Events for Edible Reno-Tahoe
REFRESH-INTERVAL;VALUE=DURATION:PT1H
X-Robots-Tag:noindex
X-PUBLISHED-TTL:PT1H
BEGIN:VTIMEZONE
TZID:America/Los_Angeles
BEGIN:DAYLIGHT
TZOFFSETFROM:-0800
TZOFFSETTO:-0700
TZNAME:PDT
DTSTART:20240310T100000
END:DAYLIGHT
BEGIN:STANDARD
TZOFFSETFROM:-0700
TZOFFSETTO:-0800
TZNAME:PST
DTSTART:20241103T090000
END:STANDARD
BEGIN:DAYLIGHT
TZOFFSETFROM:-0800
TZOFFSETTO:-0700
TZNAME:PDT
DTSTART:20250309T100000
END:DAYLIGHT
BEGIN:STANDARD
TZOFFSETFROM:-0700
TZOFFSETTO:-0800
TZNAME:PST
DTSTART:20251102T090000
END:STANDARD
BEGIN:DAYLIGHT
TZOFFSETFROM:-0800
TZOFFSETTO:-0700
TZNAME:PDT
DTSTART:20260308T100000
END:DAYLIGHT
BEGIN:STANDARD
TZOFFSETFROM:-0700
TZOFFSETTO:-0800
TZNAME:PST
DTSTART:20261101T090000
END:STANDARD
END:VTIMEZONE
BEGIN:VEVENT
DTSTART;VALUE=DATE:20250421
DTEND;VALUE=DATE:20250428
DTSTAMP:20260424T131544
CREATED:20250323T181632Z
LAST-MODIFIED:20250323T181632Z
UID:42484-1745193600-1745798399@oldediblerenotahoe.com
SUMMARY:Incline Village Crystal Bay Restaurant Week
DESCRIPTION:IVCBA is excited to present the return of the annual Incline Village Crystal Bay Restaurant Week\, an immersive and celebratory event designed to showcase the unique culinary talents of our community. This week-long extravaganza (APRIL 21 – 27\, 2025) will bring together local businesses\, residents\, and visitors in a culinary celebration that highlights the diverse flavors and vibrant spirit of Incline Village and Crystal Bay.
URL:https://oldediblerenotahoe.com/event/incline-village-crystal-bay-restaurant-week-2/
LOCATION:NV
END:VEVENT
BEGIN:VEVENT
DTSTART;TZID=America/Los_Angeles:20250424T150000
DTEND;TZID=America/Los_Angeles:20250424T190000
DTSTAMP:20260424T131544
CREATED:20250312T172426Z
LAST-MODIFIED:20250312T172426Z
UID:41986-1745506800-1745521200@oldediblerenotahoe.com
SUMMARY:Baby Animal & Tulip Festival
DESCRIPTION:The Baby Animal & Tulip Festival is such an exciting time on the farm\, and offers guests a more personal experience with the baby goats\, lambs\, and calves. \nAdmission includes access to the tulip U-pick fields (when in season)\, petting zoo area\, and all the barnyard games and activities\, including our newly expanded mini zips.
URL:https://oldediblerenotahoe.com/event/baby-animal-tulip-festival-2025-04-24/
LOCATION:Andelin Family Farm\, 8100 Pyramid Way\, Spanish Springs\, NV\, 89436
END:VEVENT
BEGIN:VEVENT
DTSTART;TZID=America/Los_Angeles:20250424T173000
DTEND;TZID=America/Los_Angeles:20250424T193000
DTSTAMP:20260424T131544
CREATED:20250114T044058Z
LAST-MODIFIED:20250114T044058Z
UID:41260-1745515800-1745523000@oldediblerenotahoe.com
SUMMARY:Global Gala
DESCRIPTION:Join the University of Nevada\, Reno for an evening of celebration\, community\, and giving back as we come together for our much-anticipated Annual Fundraiser. This special event will include a delightful dinner\, live entertainment\, and the opportunity to support a cause that makes an everlasting impact. Throughout the night\, you’ll hear inspiring stories\, engage in meaningful conversations\, and have the chance to participate in live and silent auctions with unique items and experiences. Every contribution made helps us continue our mission to build bridges of understanding and foster global engagement through international exchanges\, refugee resettlement and language access. Dress your best\, bring your generosity\, and prepare for an unforgettable evening. You will leave knowing that you\, too\, can Bridge Cultures: One Step\, One Voice at a time.
URL:https://oldediblerenotahoe.com/event/global-gala/
LOCATION:Grand Sierra Resort\, 2500 E 2nd St\, Reno\, NV
END:VEVENT
BEGIN:VEVENT
DTSTART;TZID=America/Los_Angeles:20250424T180000
DTEND;TZID=America/Los_Angeles:20250424T200000
DTSTAMP:20260424T131544
CREATED:20250302T185130Z
LAST-MODIFIED:20250302T185130Z
UID:41942-1745517600-1745524800@oldediblerenotahoe.com
SUMMARY:Grow Your Own: Native Plants to Bring in Pollinators Class
DESCRIPTION:
URL:https://oldediblerenotahoe.com/event/grow-your-own-native-plants-to-bring-in-pollinators-class/
LOCATION:Virtual Class via Zoom
END:VEVENT
BEGIN:VEVENT
DTSTART;TZID=America/Los_Angeles:20250424T180000
DTEND;TZID=America/Los_Angeles:20250424T210000
DTSTAMP:20260424T131544
CREATED:20250323T183653Z
LAST-MODIFIED:20250323T183653Z
UID:42523-1745517600-1745528400@oldediblerenotahoe.com
SUMMARY:Beefsteak Dinner at Overland
DESCRIPTION:
URL:https://oldediblerenotahoe.com/event/beefsteak-dinner-at-overland/
LOCATION:Overland Restaurant and Pub\, 1451 U.S. Highway 395 North\, Gardnerville\, NV\, 89410
END:VEVENT
BEGIN:VEVENT
DTSTART;TZID=America/Los_Angeles:20250424T183000
DTEND;TZID=America/Los_Angeles:20250424T210000
DTSTAMP:20260424T131544
CREATED:20250209T234818Z
LAST-MODIFIED:20250209T234818Z
UID:41574-1745519400-1745528400@oldediblerenotahoe.com
SUMMARY:Anthony's Chophouse Winemaker Dinner: Cakebread Cellars
DESCRIPTION:
URL:https://oldediblerenotahoe.com/event/anthonys-chophouse-winemaker-dinner-cakebread-cellars/
LOCATION:Anthony’s Chophouse\, 1100 Nugget Ave\, Sparks\, NV\, 89431
END:VEVENT
BEGIN:VEVENT
DTSTART;TZID=America/Los_Angeles:20250424T200000
DTEND;TZID=America/Los_Angeles:20250424T220000
DTSTAMP:20260424T131544
CREATED:20250209T234903Z
LAST-MODIFIED:20250209T234903Z
UID:41576-1745524800-1745532000@oldediblerenotahoe.com
SUMMARY:RAIN: A Tribute to the Beatles
DESCRIPTION:
URL:https://oldediblerenotahoe.com/event/rain-a-tribute-to-the-beatles/
LOCATION:Grand Sierra Resort\, 2500 E 2nd St\, Reno\, NV
END:VEVENT
END:VCALENDAR