BEGIN:VCALENDAR
VERSION:2.0
PRODID:-//Edible Reno-Tahoe - ECPv6.15.20//NONSGML v1.0//EN
CALSCALE:GREGORIAN
METHOD:PUBLISH
X-WR-CALNAME:Edible Reno-Tahoe
X-ORIGINAL-URL:https://oldediblerenotahoe.com
X-WR-CALDESC:Events for Edible Reno-Tahoe
REFRESH-INTERVAL;VALUE=DURATION:PT1H
X-Robots-Tag:noindex
X-PUBLISHED-TTL:PT1H
BEGIN:VTIMEZONE
TZID:America/Los_Angeles
BEGIN:DAYLIGHT
TZOFFSETFROM:-0800
TZOFFSETTO:-0700
TZNAME:PDT
DTSTART:20240310T100000
END:DAYLIGHT
BEGIN:STANDARD
TZOFFSETFROM:-0700
TZOFFSETTO:-0800
TZNAME:PST
DTSTART:20241103T090000
END:STANDARD
BEGIN:DAYLIGHT
TZOFFSETFROM:-0800
TZOFFSETTO:-0700
TZNAME:PDT
DTSTART:20250309T100000
END:DAYLIGHT
BEGIN:STANDARD
TZOFFSETFROM:-0700
TZOFFSETTO:-0800
TZNAME:PST
DTSTART:20251102T090000
END:STANDARD
BEGIN:DAYLIGHT
TZOFFSETFROM:-0800
TZOFFSETTO:-0700
TZNAME:PDT
DTSTART:20260308T100000
END:DAYLIGHT
BEGIN:STANDARD
TZOFFSETFROM:-0700
TZOFFSETTO:-0800
TZNAME:PST
DTSTART:20261101T090000
END:STANDARD
END:VTIMEZONE
BEGIN:VEVENT
DTSTART;VALUE=DATE:20250530
DTEND;VALUE=DATE:20250601
DTSTAMP:20260424T085710
CREATED:20240912T163901Z
LAST-MODIFIED:20240912T163901Z
UID:40009-1748563200-1748735999@oldediblerenotahoe.com
SUMMARY:2025 Reno-Tahoe Odyssey
DESCRIPTION:
URL:https://oldediblerenotahoe.com/event/2025-reno-tahoe-odyssey/
LOCATION:NV
END:VEVENT
BEGIN:VEVENT
DTSTART;VALUE=DATE:20250530
DTEND;VALUE=DATE:20250602
DTSTAMP:20260424T085710
CREATED:20250312T185048Z
LAST-MODIFIED:20250312T185048Z
UID:42301-1748563200-1748822399@oldediblerenotahoe.com
SUMMARY:Reno River Festival
DESCRIPTION:
URL:https://oldediblerenotahoe.com/event/reno-river-festival-3/
LOCATION:NV
END:VEVENT
BEGIN:VEVENT
DTSTART;TZID=America/Los_Angeles:20250530T080000
DTEND;TZID=America/Los_Angeles:20250530T170000
DTSTAMP:20260424T085710
CREATED:20250312T184204Z
LAST-MODIFIED:20250312T184204Z
UID:42293-1748592000-1748624400@oldediblerenotahoe.com
SUMMARY:39th Annual Ronald McDonald House Charities Golf Tournament
DESCRIPTION:
URL:https://oldediblerenotahoe.com/event/39th-annual-ronald-mcdonald-house-charities-golf-tournament/
LOCATION:Red Hawk Golf and Resort\, 6600 N Wingfield Pkwy\, Sparks\, NV
END:VEVENT
BEGIN:VEVENT
DTSTART;TZID=America/Los_Angeles:20250530T180000
DTEND;TZID=America/Los_Angeles:20250530T210000
DTSTAMP:20260424T085710
CREATED:20250312T184545Z
LAST-MODIFIED:20250312T184545Z
UID:42295-1748628000-1748638800@oldediblerenotahoe.com
SUMMARY:Basque Kitchen Class
DESCRIPTION:You don’t have to be Basque to enjoy this flavorful\, rustic cuisine. Foods of tradition and timelessness—that’s what Basque cuisine is all about. A blend of Spanish and French influences come together in one distinct cuisine\, simple in nature yet complex in the flavors they deliver. Come and experience the truth in the Old Basque saying\, “To know how to eat is to know enough.”
URL:https://oldediblerenotahoe.com/event/basque-kitchen-class/
LOCATION:Nothing To It!\, 225 Crummer Lane\, Reno\, NV\, 89502\, United States
END:VEVENT
BEGIN:VEVENT
DTSTART;TZID=America/Los_Angeles:20250530T190000
DTEND;TZID=America/Los_Angeles:20250530T210000
DTSTAMP:20260424T085710
CREATED:20250312T172858Z
LAST-MODIFIED:20250312T172858Z
UID:42026-1748631600-1748638800@oldediblerenotahoe.com
SUMMARY:That's Magic!
DESCRIPTION:This grand illusion show is like no other! Presented by the award winning magic duo Kaileigh and Chase Hasty\, “That’s Magic!” will leave you dazzled and amazed. This upbeat\, interactive show is fun for all ages and guaranteed to have something for everyone. Not only will you be immersed by mind blowing magic\, but you will also see a cast of featured dancers and some elements of surprise. Step inside the White Rabbit Theater for an experience like nowhere else!
URL:https://oldediblerenotahoe.com/event/thats-magic-2025-05-30/
LOCATION:Grand Sierra Resort\, 2500 E 2nd St\, Reno\, NV
END:VEVENT
BEGIN:VEVENT
DTSTART;TZID=America/Los_Angeles:20250530T190000
DTEND;TZID=America/Los_Angeles:20250530T210000
DTSTAMP:20260424T085710
CREATED:20250312T184850Z
LAST-MODIFIED:20250312T184850Z
UID:42299-1748631600-1748638800@oldediblerenotahoe.com
SUMMARY:Kevin Hart Acting My Age
DESCRIPTION:
URL:https://oldediblerenotahoe.com/event/kevin-hart-acting-my-age/
LOCATION:Nugget Casino Resort\, 1100 Nugget Avenue\,\, Sparks\, NV
END:VEVENT
BEGIN:VEVENT
DTSTART;TZID=America/Los_Angeles:20250530T200000
DTEND;TZID=America/Los_Angeles:20250530T220000
DTSTAMP:20260424T085710
CREATED:20250312T184720Z
LAST-MODIFIED:20250312T184720Z
UID:42297-1748635200-1748642400@oldediblerenotahoe.com
SUMMARY:Eden Muñoz
DESCRIPTION:
URL:https://oldediblerenotahoe.com/event/eden-munoz/
LOCATION:Grand Sierra Resort\, 2500 E 2nd St\, Reno\, NV
END:VEVENT
BEGIN:VEVENT
DTSTART;TZID=America/Los_Angeles:20250530T210000
DTEND;TZID=America/Los_Angeles:20250530T230000
DTSTAMP:20260424T085710
CREATED:20250312T174315Z
LAST-MODIFIED:20250312T174315Z
UID:42155-1748638800-1748646000@oldediblerenotahoe.com
SUMMARY:Nocturnal!
DESCRIPTION:Lose your inhibitions as you step into the magical world of “Nocturnal”. This is an 18 and over show\, featuring world class illusions\, beautiful dancers\, adult humor\, and plenty of surprises. Grab a cocktail at the White Rabbit Lounge\, sit back\, and prepare to be amazed. You might even end up being a part of the magic!
URL:https://oldediblerenotahoe.com/event/nocturnal-2025-05-30/
LOCATION:Grand Sierra Resort\, 2500 E 2nd St\, Reno\, NV
END:VEVENT
END:VCALENDAR