BEGIN:VCALENDAR
VERSION:2.0
PRODID:-//Edible Reno-Tahoe - ECPv6.15.20//NONSGML v1.0//EN
CALSCALE:GREGORIAN
METHOD:PUBLISH
X-ORIGINAL-URL:https://oldediblerenotahoe.com
X-WR-CALDESC:Events for Edible Reno-Tahoe
REFRESH-INTERVAL;VALUE=DURATION:PT1H
X-Robots-Tag:noindex
X-PUBLISHED-TTL:PT1H
BEGIN:VTIMEZONE
TZID:America/Los_Angeles
BEGIN:DAYLIGHT
TZOFFSETFROM:-0800
TZOFFSETTO:-0700
TZNAME:PDT
DTSTART:20240310T100000
END:DAYLIGHT
BEGIN:STANDARD
TZOFFSETFROM:-0700
TZOFFSETTO:-0800
TZNAME:PST
DTSTART:20241103T090000
END:STANDARD
BEGIN:DAYLIGHT
TZOFFSETFROM:-0800
TZOFFSETTO:-0700
TZNAME:PDT
DTSTART:20250309T100000
END:DAYLIGHT
BEGIN:STANDARD
TZOFFSETFROM:-0700
TZOFFSETTO:-0800
TZNAME:PST
DTSTART:20251102T090000
END:STANDARD
BEGIN:DAYLIGHT
TZOFFSETFROM:-0800
TZOFFSETTO:-0700
TZNAME:PDT
DTSTART:20260308T100000
END:DAYLIGHT
BEGIN:STANDARD
TZOFFSETFROM:-0700
TZOFFSETTO:-0800
TZNAME:PST
DTSTART:20261101T090000
END:STANDARD
END:VTIMEZONE
BEGIN:VEVENT
DTSTART;VALUE=DATE:20250606
DTEND;VALUE=DATE:20250609
DTSTAMP:20260424T085246
CREATED:20250312T185721Z
LAST-MODIFIED:20250312T185721Z
UID:42316-1749168000-1749427199@oldediblerenotahoe.com
SUMMARY:Street Vibrations Spring Rally
DESCRIPTION:Rumbling motors and fun on two wheels come to Virginia City for Street Vibrations Spring Rally annual ride. Motorcycles and their riders convene in Virginia City for a weekend of live music\, vendors and more.
URL:https://oldediblerenotahoe.com/event/street-vibrations-spring-rally-2/
LOCATION:Virginia City
END:VEVENT
BEGIN:VEVENT
DTSTART;TZID=America/Los_Angeles:20250607T080000
DTEND;TZID=America/Los_Angeles:20250607T170000
DTSTAMP:20260424T085246
CREATED:20250312T190518Z
LAST-MODIFIED:20250312T190518Z
UID:42318-1749283200-1749315600@oldediblerenotahoe.com
SUMMARY:Soil Palooza
DESCRIPTION:
URL:https://oldediblerenotahoe.com/event/soil-palooza/
LOCATION:Urban Teaching Farm\, 1700 E 2nd Street\, Reno\, NV\, 89502
END:VEVENT
BEGIN:VEVENT
DTSTART;TZID=America/Los_Angeles:20250607T100000
DTEND;TZID=America/Los_Angeles:20250607T190000
DTSTAMP:20260424T085246
CREATED:20250114T034736Z
LAST-MODIFIED:20250114T034736Z
UID:41168-1749290400-1749322800@oldediblerenotahoe.com
SUMMARY:Great American Craft Fair at Lazy 5 Summer Concert Series
DESCRIPTION:Celebrate the 20th anniversary of the Lazy 5 Summer Concert Series with a day full of live music\, artisan booths from the Great American Craft Fair\, and a classic car show! Held on the beautiful lawns of Lazy 5 Regional Park in Sparks\, this event is the perfect way to kick off summer with family\, friends\, and community.
URL:https://oldediblerenotahoe.com/event/great-american-craft-fair-at-lazy-5-summer-concert-series/
LOCATION:Lazy 5 Regional Park\, Sparks\, NV
END:VEVENT
BEGIN:VEVENT
DTSTART;TZID=America/Los_Angeles:20250607T130000
DTEND;TZID=America/Los_Angeles:20250607T160000
DTSTAMP:20260424T085246
CREATED:20250214T215958Z
LAST-MODIFIED:20250214T215958Z
UID:41618-1749301200-1749312000@oldediblerenotahoe.com
SUMMARY:Tahoe City Food & Wine Classic
DESCRIPTION:
URL:https://oldediblerenotahoe.com/event/tahoe-city-food-wine-classic/
LOCATION:Tahoe City
END:VEVENT
BEGIN:VEVENT
DTSTART;TZID=America/Los_Angeles:20250607T190000
DTEND;TZID=America/Los_Angeles:20250607T210000
DTSTAMP:20260424T085246
CREATED:20250312T172858Z
LAST-MODIFIED:20250312T172858Z
UID:42189-1749322800-1749330000@oldediblerenotahoe.com
SUMMARY:That's Magic!
DESCRIPTION:This grand illusion show is like no other! Presented by the award winning magic duo Kaileigh and Chase Hasty\, “That’s Magic!” will leave you dazzled and amazed. This upbeat\, interactive show is fun for all ages and guaranteed to have something for everyone. Not only will you be immersed by mind blowing magic\, but you will also see a cast of featured dancers and some elements of surprise. Step inside the White Rabbit Theater for an experience like nowhere else!
URL:https://oldediblerenotahoe.com/event/thats-magic-2025-06-07/
LOCATION:Grand Sierra Resort\, 2500 E 2nd St\, Reno\, NV
END:VEVENT
BEGIN:VEVENT
DTSTART;TZID=America/Los_Angeles:20250607T193000
DTEND;TZID=America/Los_Angeles:20250607T213000
DTSTAMP:20260424T085246
CREATED:20250312T185455Z
LAST-MODIFIED:20250312T185455Z
UID:42311-1749324600-1749331800@oldediblerenotahoe.com
SUMMARY:Mamma Mia!
DESCRIPTION:
URL:https://oldediblerenotahoe.com/event/mamma-mia-2025-06-07/
LOCATION:Pioneer Center\, 100 S. Virginia St.\, Reno\, NV\, 89501
END:VEVENT
BEGIN:VEVENT
DTSTART;TZID=America/Los_Angeles:20250607T210000
DTEND;TZID=America/Los_Angeles:20250607T230000
DTSTAMP:20260424T085246
CREATED:20250312T174315Z
LAST-MODIFIED:20250312T174315Z
UID:42158-1749330000-1749337200@oldediblerenotahoe.com
SUMMARY:Nocturnal!
DESCRIPTION:Lose your inhibitions as you step into the magical world of “Nocturnal”. This is an 18 and over show\, featuring world class illusions\, beautiful dancers\, adult humor\, and plenty of surprises. Grab a cocktail at the White Rabbit Lounge\, sit back\, and prepare to be amazed. You might even end up being a part of the magic!
URL:https://oldediblerenotahoe.com/event/nocturnal-2025-06-07/
LOCATION:Grand Sierra Resort\, 2500 E 2nd St\, Reno\, NV
END:VEVENT
END:VCALENDAR