BEGIN:VCALENDAR
VERSION:2.0
PRODID:-//Edible Reno-Tahoe - ECPv6.15.20//NONSGML v1.0//EN
CALSCALE:GREGORIAN
METHOD:PUBLISH
X-ORIGINAL-URL:https://oldediblerenotahoe.com
X-WR-CALDESC:Events for Edible Reno-Tahoe
REFRESH-INTERVAL;VALUE=DURATION:PT1H
X-Robots-Tag:noindex
X-PUBLISHED-TTL:PT1H
BEGIN:VTIMEZONE
TZID:America/Los_Angeles
BEGIN:DAYLIGHT
TZOFFSETFROM:-0800
TZOFFSETTO:-0700
TZNAME:PDT
DTSTART:20240310T100000
END:DAYLIGHT
BEGIN:STANDARD
TZOFFSETFROM:-0700
TZOFFSETTO:-0800
TZNAME:PST
DTSTART:20241103T090000
END:STANDARD
BEGIN:DAYLIGHT
TZOFFSETFROM:-0800
TZOFFSETTO:-0700
TZNAME:PDT
DTSTART:20250309T100000
END:DAYLIGHT
BEGIN:STANDARD
TZOFFSETFROM:-0700
TZOFFSETTO:-0800
TZNAME:PST
DTSTART:20251102T090000
END:STANDARD
BEGIN:DAYLIGHT
TZOFFSETFROM:-0800
TZOFFSETTO:-0700
TZNAME:PDT
DTSTART:20260308T100000
END:DAYLIGHT
BEGIN:STANDARD
TZOFFSETFROM:-0700
TZOFFSETTO:-0800
TZNAME:PST
DTSTART:20261101T090000
END:STANDARD
END:VTIMEZONE
BEGIN:VEVENT
DTSTART;VALUE=DATE:20250612
DTEND;VALUE=DATE:20250616
DTSTAMP:20260424T085350
CREATED:20241216T190311Z
LAST-MODIFIED:20241216T190311Z
UID:40741-1749686400-1750031999@oldediblerenotahoe.com
SUMMARY:Woollystar Music Festival
DESCRIPTION:
URL:https://oldediblerenotahoe.com/event/woollystar-music-festival/
LOCATION:NV
END:VEVENT
BEGIN:VEVENT
DTSTART;VALUE=DATE:20250613
DTEND;VALUE=DATE:20250616
DTSTAMP:20260424T085350
CREATED:20250312T190745Z
LAST-MODIFIED:20250312T190745Z
UID:42324-1749772800-1750031999@oldediblerenotahoe.com
SUMMARY:Stewart Father's Day Powwow
DESCRIPTION:
URL:https://oldediblerenotahoe.com/event/stewart-fathers-day-powwow/
LOCATION:Stewart Indian School Cultural Center & Museum
END:VEVENT
BEGIN:VEVENT
DTSTART;TZID=America/Los_Angeles:20250613T150000
DTEND;TZID=America/Los_Angeles:20250613T220000
DTSTAMP:20260424T085350
CREATED:20240713T230353Z
LAST-MODIFIED:20240713T230353Z
UID:39442-1749826800-1749852000@oldediblerenotahoe.com
SUMMARY:28th Annual BBQ\, Brews & Blues Festival
DESCRIPTION:
URL:https://oldediblerenotahoe.com/event/28th-annual-bbq-brews-blues-festival/
LOCATION:Downtown Reno
END:VEVENT
BEGIN:VEVENT
DTSTART;TZID=America/Los_Angeles:20250613T160000
DTEND;TZID=America/Los_Angeles:20250613T210000
DTSTAMP:20260424T085350
CREATED:20250323T183505Z
LAST-MODIFIED:20250323T183505Z
UID:42510-1749830400-1749848400@oldediblerenotahoe.com
SUMMARY:Food Truck Friday
DESCRIPTION:
URL:https://oldediblerenotahoe.com/event/food-truck-friday-3-2025-06-13/
LOCATION:Idlewild Park\, 1000 Cowan Dr.\, Reno\, NV\, 89509
END:VEVENT
BEGIN:VEVENT
DTSTART;TZID=America/Los_Angeles:20250613T190000
DTEND;TZID=America/Los_Angeles:20250613T210000
DTSTAMP:20260424T085350
CREATED:20250312T172858Z
LAST-MODIFIED:20250312T172858Z
UID:42195-1749841200-1749848400@oldediblerenotahoe.com
SUMMARY:That's Magic!
DESCRIPTION:This grand illusion show is like no other! Presented by the award winning magic duo Kaileigh and Chase Hasty\, “That’s Magic!” will leave you dazzled and amazed. This upbeat\, interactive show is fun for all ages and guaranteed to have something for everyone. Not only will you be immersed by mind blowing magic\, but you will also see a cast of featured dancers and some elements of surprise. Step inside the White Rabbit Theater for an experience like nowhere else!
URL:https://oldediblerenotahoe.com/event/thats-magic-2025-06-13/
LOCATION:Grand Sierra Resort\, 2500 E 2nd St\, Reno\, NV
END:VEVENT
BEGIN:VEVENT
DTSTART;TZID=America/Los_Angeles:20250613T200000
DTEND;TZID=America/Los_Angeles:20250613T220000
DTSTAMP:20260424T085350
CREATED:20250312T190655Z
LAST-MODIFIED:20250312T190655Z
UID:42322-1749844800-1749852000@oldediblerenotahoe.com
SUMMARY:Felipe Esparza
DESCRIPTION:
URL:https://oldediblerenotahoe.com/event/felipe-esparza/
LOCATION:Grand Sierra Resort\, 2500 E 2nd St\, Reno\, NV
END:VEVENT
BEGIN:VEVENT
DTSTART;TZID=America/Los_Angeles:20250613T210000
DTEND;TZID=America/Los_Angeles:20250613T230000
DTSTAMP:20260424T085350
CREATED:20250312T174315Z
LAST-MODIFIED:20250312T174315Z
UID:42159-1749848400-1749855600@oldediblerenotahoe.com
SUMMARY:Nocturnal!
DESCRIPTION:Lose your inhibitions as you step into the magical world of “Nocturnal”. This is an 18 and over show\, featuring world class illusions\, beautiful dancers\, adult humor\, and plenty of surprises. Grab a cocktail at the White Rabbit Lounge\, sit back\, and prepare to be amazed. You might even end up being a part of the magic!
URL:https://oldediblerenotahoe.com/event/nocturnal-2025-06-13/
LOCATION:Grand Sierra Resort\, 2500 E 2nd St\, Reno\, NV
END:VEVENT
END:VCALENDAR