BEGIN:VCALENDAR
VERSION:2.0
PRODID:-//Edible Reno-Tahoe - ECPv6.15.20//NONSGML v1.0//EN
CALSCALE:GREGORIAN
METHOD:PUBLISH
X-ORIGINAL-URL:https://oldediblerenotahoe.com
X-WR-CALDESC:Events for Edible Reno-Tahoe
REFRESH-INTERVAL;VALUE=DURATION:PT1H
X-Robots-Tag:noindex
X-PUBLISHED-TTL:PT1H
BEGIN:VTIMEZONE
TZID:America/Los_Angeles
BEGIN:DAYLIGHT
TZOFFSETFROM:-0800
TZOFFSETTO:-0700
TZNAME:PDT
DTSTART:20240310T100000
END:DAYLIGHT
BEGIN:STANDARD
TZOFFSETFROM:-0700
TZOFFSETTO:-0800
TZNAME:PST
DTSTART:20241103T090000
END:STANDARD
BEGIN:DAYLIGHT
TZOFFSETFROM:-0800
TZOFFSETTO:-0700
TZNAME:PDT
DTSTART:20250309T100000
END:DAYLIGHT
BEGIN:STANDARD
TZOFFSETFROM:-0700
TZOFFSETTO:-0800
TZNAME:PST
DTSTART:20251102T090000
END:STANDARD
BEGIN:DAYLIGHT
TZOFFSETFROM:-0800
TZOFFSETTO:-0700
TZNAME:PDT
DTSTART:20260308T100000
END:DAYLIGHT
BEGIN:STANDARD
TZOFFSETFROM:-0700
TZOFFSETTO:-0800
TZNAME:PST
DTSTART:20261101T090000
END:STANDARD
END:VTIMEZONE
BEGIN:VEVENT
DTSTART;VALUE=DATE:20250612
DTEND;VALUE=DATE:20250616
DTSTAMP:20260424T085348
CREATED:20241216T190311Z
LAST-MODIFIED:20241216T190311Z
UID:40741-1749686400-1750031999@oldediblerenotahoe.com
SUMMARY:Woollystar Music Festival
DESCRIPTION:
URL:https://oldediblerenotahoe.com/event/woollystar-music-festival/
LOCATION:NV
END:VEVENT
BEGIN:VEVENT
DTSTART;VALUE=DATE:20250613
DTEND;VALUE=DATE:20250616
DTSTAMP:20260424T085348
CREATED:20250312T190745Z
LAST-MODIFIED:20250312T190745Z
UID:42324-1749772800-1750031999@oldediblerenotahoe.com
SUMMARY:Stewart Father's Day Powwow
DESCRIPTION:
URL:https://oldediblerenotahoe.com/event/stewart-fathers-day-powwow/
LOCATION:Stewart Indian School Cultural Center & Museum
END:VEVENT
BEGIN:VEVENT
DTSTART;TZID=America/Los_Angeles:20250615T090000
DTEND;TZID=America/Los_Angeles:20250615T130000
DTSTAMP:20260424T085348
CREATED:20250312T173605Z
LAST-MODIFIED:20250312T173605Z
UID:42049-1749978000-1749992400@oldediblerenotahoe.com
SUMMARY:Riverside Farmers Market
DESCRIPTION:The Riverside Farmers Market is Reno’s truly local market\, with all vendors growing\, raising\, or making their goods within the tightest possible radius around Reno. The event showcases small\, local\, and sustainable farmers and ranchers who believe that healthy food begins with a healthy land. They are also are home to Reno’s newest farmers and ranchers\, making it the perfect place to meet the fine folks growing food locally for the Truckee Meadows community.
URL:https://oldediblerenotahoe.com/event/riverside-farmers-market-4-2025-06-15/
LOCATION:Idlewild Park\, 1000 Cowan Dr.\, Reno\, NV\, 89509
END:VEVENT
BEGIN:VEVENT
DTSTART;TZID=America/Los_Angeles:20250615T190000
DTEND;TZID=America/Los_Angeles:20250615T210000
DTSTAMP:20260424T085348
CREATED:20250312T172858Z
LAST-MODIFIED:20250312T172858Z
UID:42197-1750014000-1750021200@oldediblerenotahoe.com
SUMMARY:That's Magic!
DESCRIPTION:This grand illusion show is like no other! Presented by the award winning magic duo Kaileigh and Chase Hasty\, “That’s Magic!” will leave you dazzled and amazed. This upbeat\, interactive show is fun for all ages and guaranteed to have something for everyone. Not only will you be immersed by mind blowing magic\, but you will also see a cast of featured dancers and some elements of surprise. Step inside the White Rabbit Theater for an experience like nowhere else!
URL:https://oldediblerenotahoe.com/event/thats-magic-2025-06-15/
LOCATION:Grand Sierra Resort\, 2500 E 2nd St\, Reno\, NV
END:VEVENT
BEGIN:VEVENT
DTSTART;TZID=America/Los_Angeles:20250615T200000
DTEND;TZID=America/Los_Angeles:20250615T220000
DTSTAMP:20260424T085348
CREATED:20250312T190833Z
LAST-MODIFIED:20250312T190833Z
UID:42326-1750017600-1750024800@oldediblerenotahoe.com
SUMMARY:Little Feat with Special Guest Pure Prairie League
DESCRIPTION:
URL:https://oldediblerenotahoe.com/event/little-feat-with-special-guest-pure-prairie-league/
LOCATION:Grand Sierra Resort\, 2500 E 2nd St\, Reno\, NV
END:VEVENT
END:VCALENDAR