BEGIN:VCALENDAR
VERSION:2.0
PRODID:-//Edible Reno-Tahoe - ECPv6.15.20//NONSGML v1.0//EN
CALSCALE:GREGORIAN
METHOD:PUBLISH
X-ORIGINAL-URL:https://oldediblerenotahoe.com
X-WR-CALDESC:Events for Edible Reno-Tahoe
REFRESH-INTERVAL;VALUE=DURATION:PT1H
X-Robots-Tag:noindex
X-PUBLISHED-TTL:PT1H
BEGIN:VTIMEZONE
TZID:America/Los_Angeles
BEGIN:DAYLIGHT
TZOFFSETFROM:-0800
TZOFFSETTO:-0700
TZNAME:PDT
DTSTART:20240310T100000
END:DAYLIGHT
BEGIN:STANDARD
TZOFFSETFROM:-0700
TZOFFSETTO:-0800
TZNAME:PST
DTSTART:20241103T090000
END:STANDARD
BEGIN:DAYLIGHT
TZOFFSETFROM:-0800
TZOFFSETTO:-0700
TZNAME:PDT
DTSTART:20250309T100000
END:DAYLIGHT
BEGIN:STANDARD
TZOFFSETFROM:-0700
TZOFFSETTO:-0800
TZNAME:PST
DTSTART:20251102T090000
END:STANDARD
BEGIN:DAYLIGHT
TZOFFSETFROM:-0800
TZOFFSETTO:-0700
TZNAME:PDT
DTSTART:20260308T100000
END:DAYLIGHT
BEGIN:STANDARD
TZOFFSETFROM:-0700
TZOFFSETTO:-0800
TZNAME:PST
DTSTART:20261101T090000
END:STANDARD
END:VTIMEZONE
BEGIN:VEVENT
DTSTART;VALUE=DATE:20250619
DTEND;VALUE=DATE:20250629
DTSTAMP:20260424T085350
CREATED:20250312T191442Z
LAST-MODIFIED:20250312T191442Z
UID:42334-1750291200-1751155199@oldediblerenotahoe.com
SUMMARY:Reno Rodeo
DESCRIPTION:
URL:https://oldediblerenotahoe.com/event/reno-rodeo-3/
LOCATION:Livestock Events Center
END:VEVENT
BEGIN:VEVENT
DTSTART;TZID=America/Los_Angeles:20250627T120000
DTEND;TZID=America/Los_Angeles:20250627T130000
DTSTAMP:20260424T085350
CREATED:20250312T191737Z
LAST-MODIFIED:20250312T191737Z
UID:42340-1751025600-1751029200@oldediblerenotahoe.com
SUMMARY:The Birth of Icky IPA
DESCRIPTION:Tom Young\, Founder and Brewmaster\, recounts the origin story of the Icky IPA\, its iconic logo and the history of the Great Basin Brewing Company.
URL:https://oldediblerenotahoe.com/event/the-birth-of-icky-ipa/
LOCATION:Nevada Museum of Art\, 160 West Liberty\, Reno\, Nevada\, 89501
END:VEVENT
BEGIN:VEVENT
DTSTART;TZID=America/Los_Angeles:20250627T160000
DTEND;TZID=America/Los_Angeles:20250627T190000
DTSTAMP:20260424T085350
CREATED:20250209T220358Z
LAST-MODIFIED:20250209T220358Z
UID:41433-1751040000-1751050800@oldediblerenotahoe.com
SUMMARY:Achieve Tahoe's Summer Wine Tasting
DESCRIPTION:Welcome summer and support Achieve Tahoe at our second annual Summer Wine Tasting! Taste wine from two dozen of Northern California’s top wineries while enjoying appetizers from PlumpJack Inn.
URL:https://oldediblerenotahoe.com/event/achieve-tahoes-summer-wine-tasting-3/
LOCATION:PlumpJack Cafe & Bar\, 1920 Olympic Valley Rd\, Olympic Valley\, CA\, 96146
END:VEVENT
BEGIN:VEVENT
DTSTART;TZID=America/Los_Angeles:20250627T160000
DTEND;TZID=America/Los_Angeles:20250627T210000
DTSTAMP:20260424T085350
CREATED:20250323T183505Z
LAST-MODIFIED:20250323T183505Z
UID:42512-1751040000-1751058000@oldediblerenotahoe.com
SUMMARY:Food Truck Friday
DESCRIPTION:
URL:https://oldediblerenotahoe.com/event/food-truck-friday-3-2025-06-27/
LOCATION:Idlewild Park\, 1000 Cowan Dr.\, Reno\, NV\, 89509
END:VEVENT
BEGIN:VEVENT
DTSTART;TZID=America/Los_Angeles:20250627T190000
DTEND;TZID=America/Los_Angeles:20250627T210000
DTSTAMP:20260424T085350
CREATED:20250312T172858Z
LAST-MODIFIED:20250312T172858Z
UID:42209-1751050800-1751058000@oldediblerenotahoe.com
SUMMARY:That's Magic!
DESCRIPTION:This grand illusion show is like no other! Presented by the award winning magic duo Kaileigh and Chase Hasty\, “That’s Magic!” will leave you dazzled and amazed. This upbeat\, interactive show is fun for all ages and guaranteed to have something for everyone. Not only will you be immersed by mind blowing magic\, but you will also see a cast of featured dancers and some elements of surprise. Step inside the White Rabbit Theater for an experience like nowhere else!
URL:https://oldediblerenotahoe.com/event/thats-magic-2025-06-27/
LOCATION:Grand Sierra Resort\, 2500 E 2nd St\, Reno\, NV
END:VEVENT
BEGIN:VEVENT
DTSTART;TZID=America/Los_Angeles:20250627T193000
DTEND;TZID=America/Los_Angeles:20250627T220000
DTSTAMP:20260424T085350
CREATED:20250222T000756Z
LAST-MODIFIED:20250222T000756Z
UID:41708-1751052600-1751061600@oldediblerenotahoe.com
SUMMARY:Ride the Cyclone
DESCRIPTION:This hilarious and outlandish musical glimpses the lives of six teenagers from a Canadian chamber choir that are cut short in a freak accident aboard a roller coaster. When they awake in limbo\, a mechanical fortune teller invites each to tell a story to win a prize like no other — the chance to return to life. RIDE THE CYCLONE is an outrageous musical about life & limbo directed by Rose Sambrano with Mary Bennett.
URL:https://oldediblerenotahoe.com/event/ride-the-cyclone/
LOCATION:Brüka Theatre\, 99 North Virginia Street\, Reno\, NV\, 89501
END:VEVENT
BEGIN:VEVENT
DTSTART;TZID=America/Los_Angeles:20250627T210000
DTEND;TZID=America/Los_Angeles:20250627T230000
DTSTAMP:20260424T085350
CREATED:20250312T174315Z
LAST-MODIFIED:20250312T174315Z
UID:42164-1751058000-1751065200@oldediblerenotahoe.com
SUMMARY:Nocturnal!
DESCRIPTION:Lose your inhibitions as you step into the magical world of “Nocturnal”. This is an 18 and over show\, featuring world class illusions\, beautiful dancers\, adult humor\, and plenty of surprises. Grab a cocktail at the White Rabbit Lounge\, sit back\, and prepare to be amazed. You might even end up being a part of the magic!
URL:https://oldediblerenotahoe.com/event/nocturnal-2025-06-27/
LOCATION:Grand Sierra Resort\, 2500 E 2nd St\, Reno\, NV
END:VEVENT
END:VCALENDAR