BEGIN:VCALENDAR
VERSION:2.0
PRODID:-//Edible Reno-Tahoe - ECPv6.15.20//NONSGML v1.0//EN
CALSCALE:GREGORIAN
METHOD:PUBLISH
X-WR-CALNAME:Edible Reno-Tahoe
X-ORIGINAL-URL:https://oldediblerenotahoe.com
X-WR-CALDESC:Events for Edible Reno-Tahoe
REFRESH-INTERVAL;VALUE=DURATION:PT1H
X-Robots-Tag:noindex
X-PUBLISHED-TTL:PT1H
BEGIN:VTIMEZONE
TZID:America/Los_Angeles
BEGIN:DAYLIGHT
TZOFFSETFROM:-0800
TZOFFSETTO:-0700
TZNAME:PDT
DTSTART:20240310T100000
END:DAYLIGHT
BEGIN:STANDARD
TZOFFSETFROM:-0700
TZOFFSETTO:-0800
TZNAME:PST
DTSTART:20241103T090000
END:STANDARD
BEGIN:DAYLIGHT
TZOFFSETFROM:-0800
TZOFFSETTO:-0700
TZNAME:PDT
DTSTART:20250309T100000
END:DAYLIGHT
BEGIN:STANDARD
TZOFFSETFROM:-0700
TZOFFSETTO:-0800
TZNAME:PST
DTSTART:20251102T090000
END:STANDARD
BEGIN:DAYLIGHT
TZOFFSETFROM:-0800
TZOFFSETTO:-0700
TZNAME:PDT
DTSTART:20260308T100000
END:DAYLIGHT
BEGIN:STANDARD
TZOFFSETFROM:-0700
TZOFFSETTO:-0800
TZNAME:PST
DTSTART:20261101T090000
END:STANDARD
END:VTIMEZONE
BEGIN:VEVENT
DTSTART;VALUE=DATE:20250701
DTEND;VALUE=DATE:20250801
DTSTAMP:20260423T223530
CREATED:20250312T192216Z
LAST-MODIFIED:20250312T192216Z
UID:42344-1751328000-1754006399@oldediblerenotahoe.com
SUMMARY:Reno Is Artown
DESCRIPTION:
URL:https://oldediblerenotahoe.com/event/reno-is-artown-2/
LOCATION:NV
END:VEVENT
BEGIN:VEVENT
DTSTART;VALUE=DATE:20250703
DTEND;VALUE=DATE:20250707
DTSTAMP:20260423T223530
CREATED:20241216T190709Z
LAST-MODIFIED:20241216T190709Z
UID:40747-1751500800-1751846399@oldediblerenotahoe.com
SUMMARY:High Sierra Music Festival
DESCRIPTION:
URL:https://oldediblerenotahoe.com/event/high-sierra-music-festival-3/
LOCATION:Plumas County Fairgrounds\, Quincy\, CA
END:VEVENT
BEGIN:VEVENT
DTSTART;VALUE=DATE:20250704
DTEND;VALUE=DATE:20250705
DTSTAMP:20260423T223530
CREATED:20250312T192429Z
LAST-MODIFIED:20250312T192429Z
UID:42353-1751587200-1751673599@oldediblerenotahoe.com
SUMMARY:4th of July Parade & Fireworks Spectacular
DESCRIPTION:
URL:https://oldediblerenotahoe.com/event/4th-of-july-parade-fireworks-spectacular-2/
LOCATION:Virginia City
END:VEVENT
BEGIN:VEVENT
DTSTART;VALUE=DATE:20250704
DTEND;VALUE=DATE:20250705
DTSTAMP:20260423T223530
CREATED:20250312T192537Z
LAST-MODIFIED:20250312T192537Z
UID:42355-1751587200-1751673599@oldediblerenotahoe.com
SUMMARY:4th of July Parade\, Maine Street Block Party & Fireworks
DESCRIPTION:
URL:https://oldediblerenotahoe.com/event/4th-of-july-parade-maine-street-block-party-fireworks/
LOCATION:Fallon\, NV
END:VEVENT
BEGIN:VEVENT
DTSTART;TZID=America/Los_Angeles:20250704T100000
DTEND;TZID=America/Los_Angeles:20250704T170000
DTSTAMP:20260423T223530
CREATED:20250114T034840Z
LAST-MODIFIED:20250114T034840Z
UID:41171-1751623200-1751648400@oldediblerenotahoe.com
SUMMARY:Truckee Arts & Craft Fair
DESCRIPTION:Set in the picturesque Truckee River Regional Park in Truckee\, CA\, the Truckee Arts & Crafts Fair offers a perfect blend of nature and creativity. Nestled among tall pines\, this event showcases over 100 handmade artisans displaying their unique creations on the beautiful Chief Truckee Lawn. With live music and fresh\, delicious food\, this event provides something for every member of the family. Discover the rich artistic culture of Truckee while enjoying a relaxing\, community-focused atmosphere. Admission is free!
URL:https://oldediblerenotahoe.com/event/truckee-arts-craft-fair/
LOCATION:Truckee River Regional Park
END:VEVENT
BEGIN:VEVENT
DTSTART;TZID=America/Los_Angeles:20250704T160000
DTEND;TZID=America/Los_Angeles:20250704T210000
DTSTAMP:20260423T223530
CREATED:20250323T183505Z
LAST-MODIFIED:20250323T183505Z
UID:42513-1751644800-1751662800@oldediblerenotahoe.com
SUMMARY:Food Truck Friday
DESCRIPTION:
URL:https://oldediblerenotahoe.com/event/food-truck-friday-3-2025-07-04/
LOCATION:Idlewild Park\, 1000 Cowan Dr.\, Reno\, NV\, 89509
END:VEVENT
BEGIN:VEVENT
DTSTART;TZID=America/Los_Angeles:20250704T170000
DTEND;TZID=America/Los_Angeles:20250704T233000
DTSTAMP:20260423T223530
CREATED:20250312T192634Z
LAST-MODIFIED:20250312T192634Z
UID:42357-1751648400-1751671800@oldediblerenotahoe.com
SUMMARY:Star Spangled Sparks
DESCRIPTION:
URL:https://oldediblerenotahoe.com/event/star-spangled-sparks/
LOCATION:Victorian Square\, Sparks\, NV\, 89431
END:VEVENT
BEGIN:VEVENT
DTSTART;TZID=America/Los_Angeles:20250704T180000
DTEND;TZID=America/Los_Angeles:20250704T210000
DTSTAMP:20260423T223530
CREATED:20250312T192331Z
LAST-MODIFIED:20250312T192331Z
UID:42349-1751652000-1751662800@oldediblerenotahoe.com
SUMMARY:A Beautiful Noise: The Neil Diamond Musical
DESCRIPTION:
URL:https://oldediblerenotahoe.com/event/a-beautiful-noise-the-neil-diamond-musical-2025-07-04/
LOCATION:Pioneer Center\, 100 S. Virginia St.\, Reno\, NV\, 89501
END:VEVENT
BEGIN:VEVENT
DTSTART;TZID=America/Los_Angeles:20250704T190000
DTEND;TZID=America/Los_Angeles:20250704T210000
DTSTAMP:20260423T223530
CREATED:20250312T172858Z
LAST-MODIFIED:20250312T172858Z
UID:42216-1751655600-1751662800@oldediblerenotahoe.com
SUMMARY:That's Magic!
DESCRIPTION:This grand illusion show is like no other! Presented by the award winning magic duo Kaileigh and Chase Hasty\, “That’s Magic!” will leave you dazzled and amazed. This upbeat\, interactive show is fun for all ages and guaranteed to have something for everyone. Not only will you be immersed by mind blowing magic\, but you will also see a cast of featured dancers and some elements of surprise. Step inside the White Rabbit Theater for an experience like nowhere else!
URL:https://oldediblerenotahoe.com/event/thats-magic-2025-07-04/
LOCATION:Grand Sierra Resort\, 2500 E 2nd St\, Reno\, NV
END:VEVENT
BEGIN:VEVENT
DTSTART;TZID=America/Los_Angeles:20250704T210000
DTEND;TZID=America/Los_Angeles:20250704T230000
DTSTAMP:20260423T223530
CREATED:20250312T174315Z
LAST-MODIFIED:20250312T174315Z
UID:42166-1751662800-1751670000@oldediblerenotahoe.com
SUMMARY:Nocturnal!
DESCRIPTION:Lose your inhibitions as you step into the magical world of “Nocturnal”. This is an 18 and over show\, featuring world class illusions\, beautiful dancers\, adult humor\, and plenty of surprises. Grab a cocktail at the White Rabbit Lounge\, sit back\, and prepare to be amazed. You might even end up being a part of the magic!
URL:https://oldediblerenotahoe.com/event/nocturnal-2025-07-04/
LOCATION:Grand Sierra Resort\, 2500 E 2nd St\, Reno\, NV
END:VEVENT
END:VCALENDAR