BEGIN:VCALENDAR
VERSION:2.0
PRODID:-//Edible Reno-Tahoe - ECPv6.15.20//NONSGML v1.0//EN
CALSCALE:GREGORIAN
METHOD:PUBLISH
X-ORIGINAL-URL:https://oldediblerenotahoe.com
X-WR-CALDESC:Events for Edible Reno-Tahoe
REFRESH-INTERVAL;VALUE=DURATION:PT1H
X-Robots-Tag:noindex
X-PUBLISHED-TTL:PT1H
BEGIN:VTIMEZONE
TZID:America/Los_Angeles
BEGIN:DAYLIGHT
TZOFFSETFROM:-0800
TZOFFSETTO:-0700
TZNAME:PDT
DTSTART:20240310T100000
END:DAYLIGHT
BEGIN:STANDARD
TZOFFSETFROM:-0700
TZOFFSETTO:-0800
TZNAME:PST
DTSTART:20241103T090000
END:STANDARD
BEGIN:DAYLIGHT
TZOFFSETFROM:-0800
TZOFFSETTO:-0700
TZNAME:PDT
DTSTART:20250309T100000
END:DAYLIGHT
BEGIN:STANDARD
TZOFFSETFROM:-0700
TZOFFSETTO:-0800
TZNAME:PST
DTSTART:20251102T090000
END:STANDARD
BEGIN:DAYLIGHT
TZOFFSETFROM:-0800
TZOFFSETTO:-0700
TZNAME:PDT
DTSTART:20260308T100000
END:DAYLIGHT
BEGIN:STANDARD
TZOFFSETFROM:-0700
TZOFFSETTO:-0800
TZNAME:PST
DTSTART:20261101T090000
END:STANDARD
END:VTIMEZONE
BEGIN:VEVENT
DTSTART;VALUE=DATE:20250701
DTEND;VALUE=DATE:20250801
DTSTAMP:20260423T234247
CREATED:20250312T192216Z
LAST-MODIFIED:20250312T192216Z
UID:42344-1751328000-1754006399@oldediblerenotahoe.com
SUMMARY:Reno Is Artown
DESCRIPTION:
URL:https://oldediblerenotahoe.com/event/reno-is-artown-2/
LOCATION:NV
END:VEVENT
BEGIN:VEVENT
DTSTART;VALUE=DATE:20250703
DTEND;VALUE=DATE:20250707
DTSTAMP:20260423T234247
CREATED:20241216T190709Z
LAST-MODIFIED:20241216T190709Z
UID:40747-1751500800-1751846399@oldediblerenotahoe.com
SUMMARY:High Sierra Music Festival
DESCRIPTION:
URL:https://oldediblerenotahoe.com/event/high-sierra-music-festival-3/
LOCATION:Plumas County Fairgrounds\, Quincy\, CA
END:VEVENT
BEGIN:VEVENT
DTSTART;TZID=America/Los_Angeles:20250705T100000
DTEND;TZID=America/Los_Angeles:20250705T170000
DTSTAMP:20260423T234247
CREATED:20250114T034840Z
LAST-MODIFIED:20250114T034840Z
UID:41172-1751709600-1751734800@oldediblerenotahoe.com
SUMMARY:Truckee Arts & Craft Fair
DESCRIPTION:Set in the picturesque Truckee River Regional Park in Truckee\, CA\, the Truckee Arts & Crafts Fair offers a perfect blend of nature and creativity. Nestled among tall pines\, this event showcases over 100 handmade artisans displaying their unique creations on the beautiful Chief Truckee Lawn. With live music and fresh\, delicious food\, this event provides something for every member of the family. Discover the rich artistic culture of Truckee while enjoying a relaxing\, community-focused atmosphere. Admission is free!
URL:https://oldediblerenotahoe.com/event/truckee-arts-craft-fair-2025-07-05/
LOCATION:Truckee River Regional Park
END:VEVENT
BEGIN:VEVENT
DTSTART;TZID=America/Los_Angeles:20250705T180000
DTEND;TZID=America/Los_Angeles:20250705T210000
DTSTAMP:20260423T234247
CREATED:20250312T192331Z
LAST-MODIFIED:20250312T192331Z
UID:42350-1751738400-1751749200@oldediblerenotahoe.com
SUMMARY:A Beautiful Noise: The Neil Diamond Musical
DESCRIPTION:
URL:https://oldediblerenotahoe.com/event/a-beautiful-noise-the-neil-diamond-musical-2025-07-05/
LOCATION:Pioneer Center\, 100 S. Virginia St.\, Reno\, NV\, 89501
END:VEVENT
BEGIN:VEVENT
DTSTART;TZID=America/Los_Angeles:20250705T190000
DTEND;TZID=America/Los_Angeles:20250705T210000
DTSTAMP:20260423T234247
CREATED:20250312T172858Z
LAST-MODIFIED:20250312T172858Z
UID:42217-1751742000-1751749200@oldediblerenotahoe.com
SUMMARY:That's Magic!
DESCRIPTION:This grand illusion show is like no other! Presented by the award winning magic duo Kaileigh and Chase Hasty\, “That’s Magic!” will leave you dazzled and amazed. This upbeat\, interactive show is fun for all ages and guaranteed to have something for everyone. Not only will you be immersed by mind blowing magic\, but you will also see a cast of featured dancers and some elements of surprise. Step inside the White Rabbit Theater for an experience like nowhere else!
URL:https://oldediblerenotahoe.com/event/thats-magic-2025-07-05/
LOCATION:Grand Sierra Resort\, 2500 E 2nd St\, Reno\, NV
END:VEVENT
BEGIN:VEVENT
DTSTART;TZID=America/Los_Angeles:20250705T193000
DTEND;TZID=America/Los_Angeles:20250705T213000
DTSTAMP:20260423T234247
CREATED:20250113T212234Z
LAST-MODIFIED:20250113T212234Z
UID:41140-1751743800-1751751000@oldediblerenotahoe.com
SUMMARY:Lake Tahoe Shakespeare Festival: Peter and the Starcatcher
DESCRIPTION:Set sail to explore the Neverland you never knew with this Tony Award-winning prequel that charts a course through Peter’s untold escapades. A dozen actors portray over 100 unforgettable characters in this high-flying adventure bursting with imagination and ingenious stagecraft. It is a humorous\, heartwarming ride through ambition\, yearning and the magic of friendship\, where you will discover the boy who never grew up before he took flight.
URL:https://oldediblerenotahoe.com/event/lake-tahoe-shakespeare-festival-peter-and-the-starcatcher/
LOCATION:Sand Harbor State Park\, 2005 NV-28\, Incline Village\, NV\, 89451
END:VEVENT
BEGIN:VEVENT
DTSTART;TZID=America/Los_Angeles:20250705T210000
DTEND;TZID=America/Los_Angeles:20250705T230000
DTSTAMP:20260423T234247
CREATED:20250312T174315Z
LAST-MODIFIED:20250312T174315Z
UID:42167-1751749200-1751756400@oldediblerenotahoe.com
SUMMARY:Nocturnal!
DESCRIPTION:Lose your inhibitions as you step into the magical world of “Nocturnal”. This is an 18 and over show\, featuring world class illusions\, beautiful dancers\, adult humor\, and plenty of surprises. Grab a cocktail at the White Rabbit Lounge\, sit back\, and prepare to be amazed. You might even end up being a part of the magic!
URL:https://oldediblerenotahoe.com/event/nocturnal-2025-07-05/
LOCATION:Grand Sierra Resort\, 2500 E 2nd St\, Reno\, NV
END:VEVENT
END:VCALENDAR