BEGIN:VCALENDAR
VERSION:2.0
PRODID:-//Edible Reno-Tahoe - ECPv6.15.20//NONSGML v1.0//EN
CALSCALE:GREGORIAN
METHOD:PUBLISH
X-ORIGINAL-URL:https://oldediblerenotahoe.com
X-WR-CALDESC:Events for Edible Reno-Tahoe
REFRESH-INTERVAL;VALUE=DURATION:PT1H
X-Robots-Tag:noindex
X-PUBLISHED-TTL:PT1H
BEGIN:VTIMEZONE
TZID:America/Los_Angeles
BEGIN:DAYLIGHT
TZOFFSETFROM:-0800
TZOFFSETTO:-0700
TZNAME:PDT
DTSTART:20240310T100000
END:DAYLIGHT
BEGIN:STANDARD
TZOFFSETFROM:-0700
TZOFFSETTO:-0800
TZNAME:PST
DTSTART:20241103T090000
END:STANDARD
BEGIN:DAYLIGHT
TZOFFSETFROM:-0800
TZOFFSETTO:-0700
TZNAME:PDT
DTSTART:20250309T100000
END:DAYLIGHT
BEGIN:STANDARD
TZOFFSETFROM:-0700
TZOFFSETTO:-0800
TZNAME:PST
DTSTART:20251102T090000
END:STANDARD
BEGIN:DAYLIGHT
TZOFFSETFROM:-0800
TZOFFSETTO:-0700
TZNAME:PDT
DTSTART:20260308T100000
END:DAYLIGHT
BEGIN:STANDARD
TZOFFSETFROM:-0700
TZOFFSETTO:-0800
TZNAME:PST
DTSTART:20261101T090000
END:STANDARD
END:VTIMEZONE
BEGIN:VEVENT
DTSTART;VALUE=DATE:20250701
DTEND;VALUE=DATE:20250801
DTSTAMP:20260423T234245
CREATED:20250312T192216Z
LAST-MODIFIED:20250312T192216Z
UID:42344-1751328000-1754006399@oldediblerenotahoe.com
SUMMARY:Reno Is Artown
DESCRIPTION:
URL:https://oldediblerenotahoe.com/event/reno-is-artown-2/
LOCATION:NV
END:VEVENT
BEGIN:VEVENT
DTSTART;VALUE=DATE:20250709
DTEND;VALUE=DATE:20250714
DTSTAMP:20260423T234245
CREATED:20250312T192711Z
LAST-MODIFIED:20250312T192711Z
UID:42360-1752019200-1752451199@oldediblerenotahoe.com
SUMMARY:American Century Championship
DESCRIPTION:
URL:https://oldediblerenotahoe.com/event/american-century-championship-2/
LOCATION:NV
END:VEVENT
BEGIN:VEVENT
DTSTART;TZID=America/Los_Angeles:20250710T190000
DTEND;TZID=America/Los_Angeles:20250710T210000
DTSTAMP:20260423T234245
CREATED:20250312T172858Z
LAST-MODIFIED:20250312T172858Z
UID:42222-1752174000-1752181200@oldediblerenotahoe.com
SUMMARY:That's Magic!
DESCRIPTION:This grand illusion show is like no other! Presented by the award winning magic duo Kaileigh and Chase Hasty\, “That’s Magic!” will leave you dazzled and amazed. This upbeat\, interactive show is fun for all ages and guaranteed to have something for everyone. Not only will you be immersed by mind blowing magic\, but you will also see a cast of featured dancers and some elements of surprise. Step inside the White Rabbit Theater for an experience like nowhere else!
URL:https://oldediblerenotahoe.com/event/thats-magic-2025-07-10/
LOCATION:Grand Sierra Resort\, 2500 E 2nd St\, Reno\, NV
END:VEVENT
BEGIN:VEVENT
DTSTART;TZID=America/Los_Angeles:20250710T193000
DTEND;TZID=America/Los_Angeles:20250710T213000
DTSTAMP:20260423T234245
CREATED:20250113T212234Z
LAST-MODIFIED:20250113T212234Z
UID:41142-1752175800-1752183000@oldediblerenotahoe.com
SUMMARY:Lake Tahoe Shakespeare Festival: Peter and the Starcatcher
DESCRIPTION:Set sail to explore the Neverland you never knew with this Tony Award-winning prequel that charts a course through Peter’s untold escapades. A dozen actors portray over 100 unforgettable characters in this high-flying adventure bursting with imagination and ingenious stagecraft. It is a humorous\, heartwarming ride through ambition\, yearning and the magic of friendship\, where you will discover the boy who never grew up before he took flight.
URL:https://oldediblerenotahoe.com/event/lake-tahoe-shakespeare-festival-peter-and-the-starcatcher-2025-07-10/
LOCATION:Sand Harbor State Park\, 2005 NV-28\, Incline Village\, NV\, 89451
END:VEVENT
BEGIN:VEVENT
DTSTART;TZID=America/Los_Angeles:20250710T193000
DTEND;TZID=America/Los_Angeles:20250710T220000
DTSTAMP:20260423T234245
CREATED:20250222T000756Z
LAST-MODIFIED:20250222T000756Z
UID:41713-1752175800-1752184800@oldediblerenotahoe.com
SUMMARY:Ride the Cyclone
DESCRIPTION:This hilarious and outlandish musical glimpses the lives of six teenagers from a Canadian chamber choir that are cut short in a freak accident aboard a roller coaster. When they awake in limbo\, a mechanical fortune teller invites each to tell a story to win a prize like no other — the chance to return to life. RIDE THE CYCLONE is an outrageous musical about life & limbo directed by Rose Sambrano with Mary Bennett.
URL:https://oldediblerenotahoe.com/event/ride-the-cyclone-2025-07-10/
LOCATION:Brüka Theatre\, 99 North Virginia Street\, Reno\, NV\, 89501
END:VEVENT
END:VCALENDAR