BEGIN:VCALENDAR
VERSION:2.0
PRODID:-//Edible Reno-Tahoe - ECPv6.15.20//NONSGML v1.0//EN
CALSCALE:GREGORIAN
METHOD:PUBLISH
X-WR-CALNAME:Edible Reno-Tahoe
X-ORIGINAL-URL:https://oldediblerenotahoe.com
X-WR-CALDESC:Events for Edible Reno-Tahoe
REFRESH-INTERVAL;VALUE=DURATION:PT1H
X-Robots-Tag:noindex
X-PUBLISHED-TTL:PT1H
BEGIN:VTIMEZONE
TZID:America/Los_Angeles
BEGIN:DAYLIGHT
TZOFFSETFROM:-0800
TZOFFSETTO:-0700
TZNAME:PDT
DTSTART:20240310T100000
END:DAYLIGHT
BEGIN:STANDARD
TZOFFSETFROM:-0700
TZOFFSETTO:-0800
TZNAME:PST
DTSTART:20241103T090000
END:STANDARD
BEGIN:DAYLIGHT
TZOFFSETFROM:-0800
TZOFFSETTO:-0700
TZNAME:PDT
DTSTART:20250309T100000
END:DAYLIGHT
BEGIN:STANDARD
TZOFFSETFROM:-0700
TZOFFSETTO:-0800
TZNAME:PST
DTSTART:20251102T090000
END:STANDARD
BEGIN:DAYLIGHT
TZOFFSETFROM:-0800
TZOFFSETTO:-0700
TZNAME:PDT
DTSTART:20260308T100000
END:DAYLIGHT
BEGIN:STANDARD
TZOFFSETFROM:-0700
TZOFFSETTO:-0800
TZNAME:PST
DTSTART:20261101T090000
END:STANDARD
END:VTIMEZONE
BEGIN:VEVENT
DTSTART;VALUE=DATE:20250822
DTEND;VALUE=DATE:20250825
DTSTAMP:20260424T050846
CREATED:20250323T182504Z
LAST-MODIFIED:20250323T182504Z
UID:42490-1755820800-1756079999@oldediblerenotahoe.com
SUMMARY:Fallon Cantaloupe Festival & Country Fair
DESCRIPTION:
URL:https://oldediblerenotahoe.com/event/fallon-cantaloupe-festival-country-fair-3/
LOCATION:NV
END:VEVENT
BEGIN:VEVENT
DTSTART;TZID=America/Los_Angeles:20250823T101500
DTEND;TZID=America/Los_Angeles:20250823T114500
DTSTAMP:20260424T050846
CREATED:20250312T183607Z
LAST-MODIFIED:20250312T183607Z
UID:42284-1755944100-1755949500@oldediblerenotahoe.com
SUMMARY:Orchard Hike with Farmer Brooke Hazen
DESCRIPTION:Walk the rolling hills of Gold Ridge Organic Farms with founder and farmer Brooke Hazen and explore the wonders within the 88 acres of organic olive\, apple\, and citrus trees. You’ll learn about the history of the farm\, its organic growing practice\, and can ask your most burning questions about apple and olive cultivation\, straight from the founder himself.
URL:https://oldediblerenotahoe.com/event/orchard-hike-with-farmer-brooke-hazen-2025-08-23/
LOCATION:Goldridge Organic Farms\, 3387 Canfield Rd.\, Sebastopol\, CA\, 95472
END:VEVENT
BEGIN:VEVENT
DTSTART;TZID=America/Los_Angeles:20250823T110000
DTEND;TZID=America/Los_Angeles:20250823T170000
DTSTAMP:20260424T050846
CREATED:20241216T194245Z
LAST-MODIFIED:20241216T194245Z
UID:40794-1755946800-1755968400@oldediblerenotahoe.com
SUMMARY:Tahoe Brewfest
DESCRIPTION:
URL:https://oldediblerenotahoe.com/event/tahoe-brewfest-2/
LOCATION:NV
END:VEVENT
BEGIN:VEVENT
DTSTART;TZID=America/Los_Angeles:20250823T170000
DTEND;TZID=America/Los_Angeles:20250823T233000
DTSTAMP:20260424T050846
CREATED:20250314T003516Z
LAST-MODIFIED:20250314T003516Z
UID:42442-1755968400-1755991800@oldediblerenotahoe.com
SUMMARY:STEP2 Poker Tournament
DESCRIPTION:Ante up for STEP2! They’re shuffling the deck and inviting you and your crew to go all in for a night of Texas Hold ’Em. Play your hand\, test your poker face\, and support a great cause. Must be 21+ to join the high-stakes action. Prizes for 1st\, 2nd\, and 3rd place winners!
URL:https://oldediblerenotahoe.com/event/step2-poker-tournament/
LOCATION:New West Distributing\, Sparks\, NV
END:VEVENT
BEGIN:VEVENT
DTSTART;TZID=America/Los_Angeles:20250823T210000
DTEND;TZID=America/Los_Angeles:20250823T230000
DTSTAMP:20260424T050846
CREATED:20250312T174315Z
LAST-MODIFIED:20250312T174315Z
UID:42181-1755982800-1755990000@oldediblerenotahoe.com
SUMMARY:Nocturnal!
DESCRIPTION:Lose your inhibitions as you step into the magical world of “Nocturnal”. This is an 18 and over show\, featuring world class illusions\, beautiful dancers\, adult humor\, and plenty of surprises. Grab a cocktail at the White Rabbit Lounge\, sit back\, and prepare to be amazed. You might even end up being a part of the magic!
URL:https://oldediblerenotahoe.com/event/nocturnal-2025-08-23/
LOCATION:Grand Sierra Resort\, 2500 E 2nd St\, Reno\, NV
END:VEVENT
END:VCALENDAR