BEGIN:VCALENDAR
VERSION:2.0
PRODID:-//Edible Reno-Tahoe - ECPv6.15.20//NONSGML v1.0//EN
CALSCALE:GREGORIAN
METHOD:PUBLISH
X-WR-CALNAME:Edible Reno-Tahoe
X-ORIGINAL-URL:https://oldediblerenotahoe.com
X-WR-CALDESC:Events for Edible Reno-Tahoe
REFRESH-INTERVAL;VALUE=DURATION:PT1H
X-Robots-Tag:noindex
X-PUBLISHED-TTL:PT1H
BEGIN:VTIMEZONE
TZID:America/Los_Angeles
BEGIN:DAYLIGHT
TZOFFSETFROM:-0800
TZOFFSETTO:-0700
TZNAME:PDT
DTSTART:20240310T100000
END:DAYLIGHT
BEGIN:STANDARD
TZOFFSETFROM:-0700
TZOFFSETTO:-0800
TZNAME:PST
DTSTART:20241103T090000
END:STANDARD
BEGIN:DAYLIGHT
TZOFFSETFROM:-0800
TZOFFSETTO:-0700
TZNAME:PDT
DTSTART:20250309T100000
END:DAYLIGHT
BEGIN:STANDARD
TZOFFSETFROM:-0700
TZOFFSETTO:-0800
TZNAME:PST
DTSTART:20251102T090000
END:STANDARD
BEGIN:DAYLIGHT
TZOFFSETFROM:-0800
TZOFFSETTO:-0700
TZNAME:PDT
DTSTART:20260308T100000
END:DAYLIGHT
BEGIN:STANDARD
TZOFFSETFROM:-0700
TZOFFSETTO:-0800
TZNAME:PST
DTSTART:20261101T090000
END:STANDARD
END:VTIMEZONE
BEGIN:VEVENT
DTSTART;VALUE=DATE:20250911
DTEND;VALUE=DATE:20250915
DTSTAMP:20260423T210747
CREATED:20241216T190417Z
LAST-MODIFIED:20241216T190417Z
UID:40743-1757548800-1757894399@oldediblerenotahoe.com
SUMMARY:RTIA Show 2025
DESCRIPTION:
URL:https://oldediblerenotahoe.com/event/rtia-show-2025/
LOCATION:NV
END:VEVENT
BEGIN:VEVENT
DTSTART;VALUE=DATE:20250911
DTEND;VALUE=DATE:20250915
DTSTAMP:20260423T210747
CREATED:20250221T231103Z
LAST-MODIFIED:20250221T231103Z
UID:41653-1757548800-1757894399@oldediblerenotahoe.com
SUMMARY:Reno Tahoe International Art Show
DESCRIPTION:
URL:https://oldediblerenotahoe.com/event/reno-tahoe-international-art-show-3/
LOCATION:Reno Sparks Convention Center
END:VEVENT
BEGIN:VEVENT
DTSTART;TZID=America/Los_Angeles:20250913T080000
DTEND;TZID=America/Los_Angeles:20250913T120000
DTSTAMP:20260423T210747
CREATED:20250209T210416Z
LAST-MODIFIED:20250209T210416Z
UID:41380-1757750400-1757764800@oldediblerenotahoe.com
SUMMARY:KTMB's Truckee River Cleanup 2025
DESCRIPTION:Join KTMB for a cleanup effort along the Truckee River with sites from Verdi to Wadsworth.
URL:https://oldediblerenotahoe.com/event/ktmbs-truckee-river-cleanup-2025/
LOCATION:NV
END:VEVENT
BEGIN:VEVENT
DTSTART;TZID=America/Los_Angeles:20250913T110000
DTEND;TZID=America/Los_Angeles:20250913T130000
DTSTAMP:20260423T210747
CREATED:20250209T223551Z
LAST-MODIFIED:20250209T223551Z
UID:41461-1757761200-1757768400@oldediblerenotahoe.com
SUMMARY:Pickles 101 Class
DESCRIPTION:
URL:https://oldediblerenotahoe.com/event/pickles-101-class-2/
LOCATION:Rail City Garden Center\, 1720 Brierley Way\, Sparks\, NV\, 89434
END:VEVENT
BEGIN:VEVENT
DTSTART;TZID=America/Los_Angeles:20250913T170000
DTEND;TZID=America/Los_Angeles:20250913T223000
DTSTAMP:20260423T210747
CREATED:20250323T182356Z
LAST-MODIFIED:20250323T182356Z
UID:42488-1757782800-1757802600@oldediblerenotahoe.com
SUMMARY:Under a Nevada Sky
DESCRIPTION:
URL:https://oldediblerenotahoe.com/event/under-a-nevada-sky/
LOCATION:NV
END:VEVENT
END:VCALENDAR